{ "currentVersion": 10.91, "serviceDescription": "
Historical map showing streets, buildings, lots, land owners, the first and second Welland Canal and locks.<\/SPAN><\/P> Surveyed, drawn & published by Marcus Smith, 1852.<\/SPAN><\/P> Relief shown by hachures and landform drawings.<\/SPAN><\/P> Georeferenced and modified from NMC Map 16796 by Map, Data and GIS Library, Brock University.<\/SPAN><\/P><\/DIV><\/DIV><\/DIV>",
"name": "EarlyNiagara/StCatharinesMarcusSmith_1852",
"description": " Historical map showing streets, buildings, lots, land owners, the first and second Welland Canal and locks.<\/SPAN><\/P> Surveyed, drawn & published by Marcus Smith, 1852.<\/SPAN><\/P> Relief shown by hachures and landform drawings.<\/SPAN><\/P> Georeferenced and modified from NMC Map 16796 by Map, Data and GIS Library, Brock University.<\/SPAN><\/P><\/DIV><\/DIV><\/DIV>",
"extent": {
"xmin": -8823666.550556716,
"ymin": 5333981.056679585,
"xmax": -8818844.490653094,
"ymax": 5337984.948653545,
"spatialReference": {
"wkid": 102100,
"latestWkid": 3857
}
},
"initialExtent": {
"xmin": -8823666.550556716,
"ymin": 5333981.056679585,
"xmax": -8818844.490653094,
"ymax": 5337984.948653545,
"spatialReference": {
"wkid": 102100,
"latestWkid": 3857
}
},
"fullExtent": {
"xmin": -8823666.550556716,
"ymin": 5333981.056679585,
"xmax": -8818844.490653094,
"ymax": 5337984.948653545,
"spatialReference": {
"wkid": 102100,
"latestWkid": 3857
}
},
"hasMultidimensions": false,
"pixelSizeX": 0.29348399999999775,
"pixelSizeY": 0.29348400000003916,
"datasetFormat": "TIFF",
"uncompressedSize": 1344828360,
"blockWidth": 128,
"blockHeight": 128,
"compressionType": "None",
"bandNames": [
"Band_1",
"Band_2",
"Band_3"
],
"allowCopy": true,
"allowAnalysis": true,
"bandCount": 3,
"noDataValue": 256,
"noDataValues": [
256,
256,
256
],
"pixelType": "U16",
"minPixelSize": 0,
"maxPixelSize": 0,
"copyrightText": "Map, Data & GIS Library, Brock University.",
"serviceDataType": "esriImageServiceDataTypeGeneric",
"serviceSourceType": "esriImageServiceSourceTypeDataset",
"minValues": [
0,
0,
0
],
"maxValues": [
208,
192,
169
],
"meanValues": [
132.00431807907,
104.56331545457,
59.716319073662
],
"stdvValues": [
27.996889269038,
22.290076153685,
15.955909872819
],
"objectIdField": "",
"fields": [],
"capabilities": "Image,Metadata,Mensuration",
"defaultMosaicMethod": "Center",
"allowedMosaicMethods": "",
"sortField": "",
"sortValue": null,
"sortAscending": true,
"mosaicOperator": "First",
"defaultCompressionQuality": 75,
"defaultResamplingMethod": "Bilinear",
"maxImageHeight": 4100,
"maxImageWidth": 15000,
"allowRasterFunction": true,
"rasterFunctionInfos": [
{
"name": "None",
"description": "",
"help": ""
}
],
"rasterTypeInfos": [
{
"name": "Raster Dataset",
"description": "Supports all ArcGIS Raster Datasets",
"help": ""
}
],
"mensurationCapabilities": "Basic",
"hasHistograms": true,
"hasColormap": false,
"hasRasterAttributeTable": false,
"minScale": 36111.909643,
"maxScale": 282.124294,
"exportTilesAllowed": false,
"supportsStatistics": false,
"supportsAdvancedQueries": false,
"editFieldsInfo": null,
"ownershipBasedAccessControlForRasters": null,
"allowComputeTiePoints": false,
"useStandardizedQueries": true,
"advancedQueryCapabilities": {
"useStandardizedQueries": true,
"supportsStatistics": false,
"supportsOrderBy": false,
"supportsDistinct": false,
"supportsPagination": false
},
"spatialReference": {
"wkid": 102100,
"latestWkid": 3857
}
}