{ "currentVersion": 10.91, "serviceDescription": "
Map showing streets, places of interest, cultural features, miscellaneous and highway information, legend. On verso: Town of Thorold. Panel title: Welcome to St. Catharines \"the Garden City\" and Thorold \"where ships climb the mountain.\" Includes street index.<\/span><\/p><\/div><\/div>",
"name": "EarlyNiagara/StCatharinesMasterMap1970",
"description": " Map showing streets, places of interest, cultural features, miscellaneous and highway information, legend. On verso: Town of Thorold. Panel title: Welcome to St. Catharines \"the Garden City\" and Thorold \"where ships climb the mountain.\" Includes street index.<\/span><\/p><\/div><\/div>",
"extent": {
"xmin": 636106.6032190373,
"ymin": 4772887.398660356,
"xmax": 649432.5709564048,
"ymax": 4790470.474555948,
"spatialReference": {
"wkid": 26917,
"latestWkid": 26917
}
},
"initialExtent": {
"xmin": 636106.6032190373,
"ymin": 4772887.398660356,
"xmax": 649432.5709564048,
"ymax": 4790470.474555948,
"spatialReference": {
"wkid": 26917,
"latestWkid": 26917
}
},
"fullExtent": {
"xmin": 636106.6032190373,
"ymin": 4772887.398660356,
"xmax": 649432.5709564048,
"ymax": 4790470.474555948,
"spatialReference": {
"wkid": 26917,
"latestWkid": 26917
}
},
"hasMultidimensions": false,
"pixelSizeX": 1.6657459671709367,
"pixelSizeY": 1.5991883488487166,
"datasetFormat": "TIFF",
"uncompressedSize": 263880000,
"blockWidth": 8000,
"blockHeight": 43,
"compressionType": "YCbCr JPEG",
"bandNames": [
"Band_1",
"Band_2",
"Band_3"
],
"allowCopy": true,
"allowAnalysis": true,
"bandCount": 3,
"pixelType": "U8",
"minPixelSize": 0,
"maxPixelSize": 0,
"copyrightText": "Brock University Map, Data & GIS Library",
"serviceDataType": "esriImageServiceDataTypeRGB",
"serviceSourceType": "esriImageServiceSourceTypeDataset",
"minValues": [
0,
0,
0
],
"maxValues": [
255,
255,
255
],
"meanValues": [
210.61955360387,
209.50981354017,
209.66517889951
],
"stdvValues": [
59.108798871818,
58.85300519586,
42.949772456282
],
"objectIdField": "",
"fields": [],
"capabilities": "Mensuration,Image,Metadata",
"defaultMosaicMethod": "Center",
"allowedMosaicMethods": "",
"sortField": "",
"sortValue": null,
"sortAscending": true,
"mosaicOperator": "First",
"defaultCompressionQuality": 75,
"defaultResamplingMethod": "Bilinear",
"maxImageHeight": 4100,
"maxImageWidth": 15000,
"allowRasterFunction": true,
"rasterFunctionInfos": [
{
"name": "None",
"description": "",
"help": ""
}
],
"rasterTypeInfos": [
{
"name": "Raster Dataset",
"description": "Supports all ArcGIS Raster Datasets",
"help": ""
}
],
"mensurationCapabilities": "Basic",
"hasHistograms": true,
"hasColormap": false,
"hasRasterAttributeTable": false,
"minScale": 0,
"maxScale": 0,
"exportTilesAllowed": false,
"supportsStatistics": false,
"supportsAdvancedQueries": false,
"editFieldsInfo": null,
"ownershipBasedAccessControlForRasters": null,
"allowComputeTiePoints": false,
"useStandardizedQueries": true,
"advancedQueryCapabilities": {
"useStandardizedQueries": true,
"supportsStatistics": false,
"supportsOrderBy": false,
"supportsDistinct": false,
"supportsPagination": false
},
"spatialReference": {
"wkid": 26917,
"latestWkid": 26917
}
}