{ "currentVersion": 10.91, "serviceDescription": "
Map printed 1980, of buildings built before 1915.<\/span><\/p> Digital reproduction of map ( 27 x 47 cm.) in the Brock University Map, Data & GIS Library collection. <\/span><\/p> \"... for the first year anniversary of One St. Paul 1979-1980.\"<\/span><\/p> Georeferenced and modified from Brock call# G 3464 S35 S1 1980 A63 by Map, Data and GIS Library, Brock University. <\/span><\/p> <\/p><\/div><\/div><\/div>",
"name": "EarlyNiagara/StCatharinesShipmansCorners1915",
"description": " Map printed 1980, of buildings built before 1915.<\/span><\/p> Digital reproduction of map ( 27 x 47 cm.) in the Brock University Map, Data & GIS Library collection. <\/span><\/p> \"... for the first year anniversary of One St. Paul 1979-1980.\"<\/span><\/p> Georeferenced and modified from Brock call# G 3464 S35 S1 1980 A63 by Map, Data and GIS Library, Brock University. <\/span><\/p> <\/p><\/div><\/div><\/div>",
"extent": {
"xmin": -8822659.329201438,
"ymin": 5335154.673882827,
"xmax": -8821242.050961437,
"ymax": 5336080.122828827,
"spatialReference": {
"wkid": 102100,
"latestWkid": 3857
}
},
"initialExtent": {
"xmin": -8822659.329201438,
"ymin": 5335154.673882827,
"xmax": -8821242.050961437,
"ymax": 5336080.122828827,
"spatialReference": {
"wkid": 102100,
"latestWkid": 3857
}
},
"fullExtent": {
"xmin": -8822659.329201438,
"ymin": 5335154.673882827,
"xmax": -8821242.050961437,
"ymax": 5336080.122828827,
"spatialReference": {
"wkid": 102100,
"latestWkid": 3857
}
},
"hasMultidimensions": false,
"pixelSizeX": 0.2812060000001645,
"pixelSizeY": 0.2812060000000233,
"datasetFormat": "TIFF",
"uncompressedSize": 99519840,
"blockWidth": 128,
"blockHeight": 128,
"compressionType": "LZW",
"bandNames": [
"Band_1",
"Band_2",
"Band_3"
],
"allowCopy": true,
"allowAnalysis": true,
"bandCount": 3,
"noDataValue": 256,
"noDataValues": [
256,
256,
256
],
"pixelType": "U16",
"minPixelSize": 0,
"maxPixelSize": 0,
"copyrightText": "Publisher: York Hanover DevelopmentsMap, Data & GIS Library, Brock University.",
"serviceDataType": "esriImageServiceDataTypeGeneric",
"serviceSourceType": "esriImageServiceSourceTypeDataset",
"minValues": [
2,
0,
0
],
"maxValues": [
255,
255,
249
],
"meanValues": [
227.18351112715,
180.92158176996,
132.49542582283
],
"stdvValues": [
19.055104615283,
53.934240611749,
43.818565017725
],
"objectIdField": "",
"fields": [],
"capabilities": "Mensuration,Image,Metadata",
"defaultMosaicMethod": "Center",
"allowedMosaicMethods": "",
"sortField": "",
"sortValue": null,
"sortAscending": true,
"mosaicOperator": "First",
"defaultCompressionQuality": 75,
"defaultResamplingMethod": "Bilinear",
"maxImageHeight": 4100,
"maxImageWidth": 15000,
"allowRasterFunction": true,
"rasterFunctionInfos": [
{
"name": "None",
"description": "",
"help": ""
}
],
"rasterTypeInfos": [
{
"name": "Raster Dataset",
"description": "Supports all ArcGIS Raster Datasets",
"help": ""
}
],
"mensurationCapabilities": "Basic",
"hasHistograms": true,
"hasColormap": false,
"hasRasterAttributeTable": false,
"minScale": 0,
"maxScale": 0,
"exportTilesAllowed": false,
"supportsStatistics": false,
"supportsAdvancedQueries": false,
"editFieldsInfo": null,
"ownershipBasedAccessControlForRasters": null,
"allowComputeTiePoints": false,
"useStandardizedQueries": true,
"advancedQueryCapabilities": {
"useStandardizedQueries": true,
"supportsStatistics": false,
"supportsOrderBy": false,
"supportsDistinct": false,
"supportsPagination": false
},
"spatialReference": {
"wkid": 102100,
"latestWkid": 3857
}
}