{ "currentVersion": 10.91, "serviceDescription": "
Historical map showing streets, railroads and business locations.<\/SPAN><\/P> Scale [ca. 1:33,230]<\/SPAN><\/P> Map date: [1950?]<\/SPAN><\/P> Digital reproduction of map (63 x 46 cm.) in the Brock University Map, Data & GIS Library collection. <\/SPAN><\/P> Georeferenced and modified from Brock call# G 3464 S35 1950 S87 by Map, Data and GIS Library, Brock University. <\/SPAN><\/P> <\/P><\/DIV><\/DIV><\/DIV>",
"name": "EarlyNiagara/StCatharinesStreetMap1950part1",
"description": " Historical map showing streets, railroads and business locations.<\/SPAN><\/P> Scale [ca. 1:33,230]<\/SPAN><\/P> Map date: [1950?]<\/SPAN><\/P> Digital reproduction of map (63 x 46 cm.) in the Brock University Map, Data & GIS Library collection. <\/SPAN><\/P> Georeferenced and modified from Brock call# G 3464 S35 1950 S87 by Map, Data and GIS Library, Brock University. <\/SPAN><\/P> <\/P><\/DIV><\/DIV><\/DIV>",
"extent": {
"xmin": 635087.1073755401,
"ymin": 4768933.21008275,
"xmax": 651229.45460454,
"ymax": 4790596.57485075,
"spatialReference": {
"wkid": 26917,
"latestWkid": 26917
}
},
"initialExtent": {
"xmin": 635087.1073755401,
"ymin": 4768933.21008275,
"xmax": 651229.45460454,
"ymax": 4790596.57485075,
"spatialReference": {
"wkid": 26917,
"latestWkid": 26917
}
},
"fullExtent": {
"xmin": 635087.1073755401,
"ymin": 4768933.21008275,
"xmax": 651229.45460454,
"ymax": 4790596.57485075,
"spatialReference": {
"wkid": 26917,
"latestWkid": 26917
}
},
"hasMultidimensions": false,
"pixelSizeX": 1.4813569999999951,
"pixelSizeY": 1.4813570000000218,
"datasetFormat": "TIFF",
"uncompressedSize": 956146368,
"blockWidth": 128,
"blockHeight": 128,
"compressionType": "None",
"bandNames": [
"Band_1",
"Band_2",
"Band_3"
],
"allowCopy": true,
"allowAnalysis": true,
"bandCount": 3,
"noDataValue": 256,
"noDataValues": [
256,
256,
256
],
"pixelType": "U16",
"minPixelSize": 0,
"maxPixelSize": 0,
"copyrightText": "Map, Data & GIS Library, Brock University.",
"serviceDataType": "esriImageServiceDataTypeGeneric",
"serviceSourceType": "esriImageServiceSourceTypeDataset",
"minValues": [
0,
0,
0
],
"maxValues": [
255,
255,
255
],
"meanValues": [
173.09591448772,
198.28461079375,
206.12220784652
],
"stdvValues": [
34.920873803945,
40.146402967,
41.982630088265
],
"objectIdField": "",
"fields": [],
"capabilities": "Image,Metadata,Mensuration",
"defaultMosaicMethod": "Center",
"allowedMosaicMethods": "",
"sortField": "",
"sortValue": null,
"sortAscending": true,
"mosaicOperator": "First",
"defaultCompressionQuality": 75,
"defaultResamplingMethod": "Bilinear",
"maxImageHeight": 4100,
"maxImageWidth": 15000,
"allowRasterFunction": true,
"rasterFunctionInfos": [
{
"name": "None",
"description": "",
"help": ""
}
],
"rasterTypeInfos": [
{
"name": "Raster Dataset",
"description": "Supports all ArcGIS Raster Datasets",
"help": ""
}
],
"mensurationCapabilities": "Basic",
"hasHistograms": true,
"hasColormap": false,
"hasRasterAttributeTable": false,
"minScale": 0,
"maxScale": 0,
"exportTilesAllowed": false,
"supportsStatistics": false,
"supportsAdvancedQueries": false,
"editFieldsInfo": null,
"ownershipBasedAccessControlForRasters": null,
"allowComputeTiePoints": false,
"useStandardizedQueries": true,
"advancedQueryCapabilities": {
"useStandardizedQueries": true,
"supportsStatistics": false,
"supportsOrderBy": false,
"supportsDistinct": false,
"supportsPagination": false
},
"spatialReference": {
"wkid": 26917,
"latestWkid": 26917
}
}