{ "currentVersion": 10.91, "serviceDescription": "
Historical map showing street, transportation, cultural and recreational features, street numbering, ground cover, points of interest, indexes, legend.<\/SPAN><\/P> Scale [ca. 1:12,000]<\/SPAN><\/P> Map date: 1964.<\/SPAN><\/P> Digital reproduction of map (95 x 55 cm.) in the Brock University Map, Data & GIS Library collection. <\/SPAN><\/P> Georeferenced and modified from Brock call# G 3464 S35 1964 P3 by Map, Data and GIS Library, Brock University. <\/SPAN><\/P> <\/P><\/DIV><\/DIV><\/DIV>",
"name": "EarlyNiagara/StCatharinesStreetMap1964",
"description": " Historical map showing street, transportation, cultural and recreational features, street numbering, ground cover, points of interest, indexes, legend.<\/SPAN><\/P> Scale [ca. 1:12,000]<\/SPAN><\/P> Map date: 1964.<\/SPAN><\/P> Digital reproduction of map (95 x 55 cm.) in the Brock University Map, Data & GIS Library collection. <\/SPAN><\/P> Georeferenced and modified from Brock call# G 3464 S35 1964 P3 by Map, Data and GIS Library, Brock University. <\/SPAN><\/P> <\/P><\/DIV><\/DIV><\/DIV>",
"extent": {
"xmin": 638100.351873971,
"ymin": 4773993.026746928,
"xmax": 647742.0563469711,
"ymax": 4787955.594277928,
"spatialReference": {
"wkid": 26917,
"latestWkid": 26917
}
},
"initialExtent": {
"xmin": 638100.351873971,
"ymin": 4773993.026746928,
"xmax": 647742.0563469711,
"ymax": 4787955.594277928,
"spatialReference": {
"wkid": 26917,
"latestWkid": 26917
}
},
"fullExtent": {
"xmin": 638100.351873971,
"ymin": 4773993.026746928,
"xmax": 647742.0563469711,
"ymax": 4787955.594277928,
"spatialReference": {
"wkid": 26917,
"latestWkid": 26917
}
},
"hasMultidimensions": false,
"pixelSizeX": 0.6293130000000013,
"pixelSizeY": 0.6293129999999951,
"datasetFormat": "TIFF",
"uncompressedSize": 2039429040,
"blockWidth": 128,
"blockHeight": 128,
"compressionType": "None",
"bandNames": [
"Band_1",
"Band_2",
"Band_3"
],
"allowCopy": true,
"allowAnalysis": true,
"bandCount": 3,
"noDataValue": 256,
"noDataValues": [
256,
256,
256
],
"pixelType": "U16",
"minPixelSize": 0,
"maxPixelSize": 0,
"copyrightText": "Pathfinder Maps Inc.\nProduced in Canada from aerial photographs by Pathfinder Air Surveys Ltd.\nDistributed by Seaway News Company, St. Catharines\nMap, Data & GIS Library, Brock University.",
"serviceDataType": "esriImageServiceDataTypeGeneric",
"serviceSourceType": "esriImageServiceSourceTypeDataset",
"minValues": [
0,
0,
0
],
"maxValues": [
255,
255,
251
],
"meanValues": [
203.81770693729,
200.16159062316,
185.28899820283
],
"stdvValues": [
54.149454423195,
52.073792251943,
48.612419589721
],
"objectIdField": "",
"fields": [],
"capabilities": "Image,Metadata,Mensuration",
"defaultMosaicMethod": "Center",
"allowedMosaicMethods": "",
"sortField": "",
"sortValue": null,
"sortAscending": true,
"mosaicOperator": "First",
"defaultCompressionQuality": 75,
"defaultResamplingMethod": "Bilinear",
"maxImageHeight": 4100,
"maxImageWidth": 15000,
"allowRasterFunction": true,
"rasterFunctionInfos": [
{
"name": "None",
"description": "",
"help": ""
}
],
"rasterTypeInfos": [
{
"name": "Raster Dataset",
"description": "Supports all ArcGIS Raster Datasets",
"help": ""
}
],
"mensurationCapabilities": "Basic",
"hasHistograms": true,
"hasColormap": false,
"hasRasterAttributeTable": false,
"minScale": 0,
"maxScale": 0,
"exportTilesAllowed": false,
"supportsStatistics": false,
"supportsAdvancedQueries": false,
"editFieldsInfo": null,
"ownershipBasedAccessControlForRasters": null,
"allowComputeTiePoints": false,
"useStandardizedQueries": true,
"advancedQueryCapabilities": {
"useStandardizedQueries": true,
"supportsStatistics": false,
"supportsOrderBy": false,
"supportsDistinct": false,
"supportsPagination": false
},
"spatialReference": {
"wkid": 26917,
"latestWkid": 26917
}
}