{ "currentVersion": 10.91, "serviceDescription": "
Map showing street, transportation, cultural and recreational features, points of interest, indexes, legend. Panel title on verso: St. Catharines Ontario, Canada visitors' tour map. Includes 2 ancillary maps on verso: St. Catharines and surrounding district -- Niagara Falls.<\/SPAN><\/P><\/DIV><\/DIV>",
"name": "EarlyNiagara/StCatharinesStreetMap1967_pt2",
"description": " Map showing street, transportation, cultural and recreational features, points of interest, indexes, legend. Panel title on verso: St. Catharines Ontario, Canada visitors' tour map. Includes 2 ancillary maps on verso: St. Catharines and surrounding district -- Niagara Falls.<\/SPAN><\/P><\/DIV><\/DIV>",
"extent": {
"xmin": 629590.0414444673,
"ymin": 4749160.272845184,
"xmax": 658858.3121504586,
"ymax": 4789431.878246495,
"spatialReference": {
"wkid": 26917,
"latestWkid": 26917
}
},
"initialExtent": {
"xmin": 629590.0414444673,
"ymin": 4749160.272845184,
"xmax": 658858.3121504586,
"ymax": 4789431.878246495,
"spatialReference": {
"wkid": 26917,
"latestWkid": 26917
}
},
"fullExtent": {
"xmin": 629590.0414444673,
"ymin": 4749160.272845184,
"xmax": 658858.3121504586,
"ymax": 4789431.878246495,
"spatialReference": {
"wkid": 26917,
"latestWkid": 26917
}
},
"hasMultidimensions": false,
"pixelSizeX": 2.8196792587660218,
"pixelSizeY": 2.7750554989877436,
"datasetFormat": "TIFF",
"uncompressedSize": 451903680,
"blockWidth": 10380,
"blockHeight": 1024,
"compressionType": "YCbCr JPEG",
"bandNames": [
"Band_1",
"Band_2",
"Band_3"
],
"allowCopy": true,
"allowAnalysis": true,
"bandCount": 3,
"pixelType": "U8",
"minPixelSize": 0,
"maxPixelSize": 0,
"copyrightText": "Brock University Map, Data & GIS Library",
"serviceDataType": "esriImageServiceDataTypeRGB",
"serviceSourceType": "esriImageServiceSourceTypeDataset",
"minValues": [
0,
0,
0
],
"maxValues": [
255,
255,
255
],
"meanValues": [
210.46240510806,
195.51994780603,
177.43188523266
],
"stdvValues": [
50.260019399586,
55.844509428083,
55.218124651519
],
"objectIdField": "",
"fields": [],
"capabilities": "Image,Metadata,Mensuration",
"defaultMosaicMethod": "Center",
"allowedMosaicMethods": "",
"sortField": "",
"sortValue": null,
"sortAscending": true,
"mosaicOperator": "First",
"defaultCompressionQuality": 75,
"defaultResamplingMethod": "Bilinear",
"maxImageHeight": 4100,
"maxImageWidth": 15000,
"allowRasterFunction": true,
"rasterFunctionInfos": [
{
"name": "None",
"description": "",
"help": ""
}
],
"rasterTypeInfos": [
{
"name": "Raster Dataset",
"description": "Supports all ArcGIS Raster Datasets",
"help": ""
}
],
"mensurationCapabilities": "Basic",
"hasHistograms": true,
"hasColormap": false,
"hasRasterAttributeTable": false,
"minScale": 0,
"maxScale": 0,
"exportTilesAllowed": false,
"supportsStatistics": false,
"supportsAdvancedQueries": false,
"editFieldsInfo": null,
"ownershipBasedAccessControlForRasters": null,
"allowComputeTiePoints": false,
"useStandardizedQueries": true,
"advancedQueryCapabilities": {
"useStandardizedQueries": true,
"supportsStatistics": false,
"supportsOrderBy": false,
"supportsDistinct": false,
"supportsPagination": false
},
"spatialReference": {
"wkid": 26917,
"latestWkid": 26917
}
}