{ "currentVersion": 10.91, "serviceDescription": "
Historical map showing streets, cultural, tourist and hydrological features, legend. Includes street, points of interest and miscellaneous information indexs.<\/SPAN><\/P><\/DIV><\/DIV>",
"name": "EarlyNiagara/StCatharinesStreetMap1969",
"description": " Historical map showing streets, cultural, tourist and hydrological features, legend. Includes street, points of interest and miscellaneous information indexs.<\/SPAN><\/P><\/DIV><\/DIV>",
"extent": {
"xmin": 635694.1317339928,
"ymin": 4772425.67619428,
"xmax": 647854.6013715817,
"ymax": 4788344.179288721,
"spatialReference": {
"wkid": 26917,
"latestWkid": 26917
}
},
"initialExtent": {
"xmin": 635694.1317339928,
"ymin": 4772425.67619428,
"xmax": 647854.6013715817,
"ymax": 4788344.179288721,
"spatialReference": {
"wkid": 26917,
"latestWkid": 26917
}
},
"fullExtent": {
"xmin": 635694.1317339928,
"ymin": 4772425.67619428,
"xmax": 647854.6013715817,
"ymax": 4788344.179288721,
"spatialReference": {
"wkid": 26917,
"latestWkid": 26917
}
},
"hasMultidimensions": false,
"pixelSizeX": 0.8944152425411026,
"pixelSizeY": 0.8721511666907915,
"datasetFormat": "TIFF",
"uncompressedSize": 744462576,
"blockWidth": 13596,
"blockHeight": 1024,
"compressionType": "YCbCr JPEG",
"bandNames": [
"Band_1",
"Band_2",
"Band_3"
],
"allowCopy": true,
"allowAnalysis": true,
"bandCount": 3,
"pixelType": "U8",
"minPixelSize": 0,
"maxPixelSize": 0,
"copyrightText": "Brock University Map, Data & GIS Library",
"serviceDataType": "esriImageServiceDataTypeRGB",
"serviceSourceType": "esriImageServiceSourceTypeDataset",
"minValues": [
0,
0,
0
],
"maxValues": [
255,
255,
255
],
"meanValues": [
209.27087112839,
203.74980345281,
178.59936010666
],
"stdvValues": [
59.999602991521,
54.804027925162,
48.369115652167
],
"objectIdField": "",
"fields": [],
"capabilities": "Image,Metadata,Mensuration",
"defaultMosaicMethod": "Center",
"allowedMosaicMethods": "",
"sortField": "",
"sortValue": null,
"sortAscending": true,
"mosaicOperator": "First",
"defaultCompressionQuality": 75,
"defaultResamplingMethod": "Bilinear",
"maxImageHeight": 4100,
"maxImageWidth": 15000,
"allowRasterFunction": true,
"rasterFunctionInfos": [
{
"name": "None",
"description": "",
"help": ""
}
],
"rasterTypeInfos": [
{
"name": "Raster Dataset",
"description": "Supports all ArcGIS Raster Datasets",
"help": ""
}
],
"mensurationCapabilities": "Basic",
"hasHistograms": true,
"hasColormap": false,
"hasRasterAttributeTable": false,
"minScale": 0,
"maxScale": 0,
"exportTilesAllowed": false,
"supportsStatistics": false,
"supportsAdvancedQueries": false,
"editFieldsInfo": null,
"ownershipBasedAccessControlForRasters": null,
"allowComputeTiePoints": false,
"useStandardizedQueries": true,
"advancedQueryCapabilities": {
"useStandardizedQueries": true,
"supportsStatistics": false,
"supportsOrderBy": false,
"supportsDistinct": false,
"supportsPagination": false
},
"spatialReference": {
"wkid": 26917,
"latestWkid": 26917
}
}