{ "currentVersion": 10.91, "serviceDescription": "
Map showing street, transportation, cultural and recreational features, points of interest, indexes, legend. Panel title on verso: St. Catharines Ontario, Canada visitors' tour map. Includes 2 ancillary maps on verso: St. Catharines and surrounding district -- Niagara Falls.<\/SPAN><\/P><\/DIV><\/DIV><\/DIV>",
"name": "EarlyNiagara/StCatharines_Street_Map_1967_part1_geo_tif",
"description": " Map showing street, transportation, cultural and recreational features, points of interest, indexes, legend. Panel title on verso: St. Catharines Ontario, Canada visitors' tour map. Includes 2 ancillary maps on verso: St. Catharines and surrounding district -- Niagara Falls.<\/SPAN><\/P><\/DIV><\/DIV><\/DIV>",
"extent": {
"xmin": 638860.0942535226,
"ymin": 4773182.71273614,
"xmax": 650204.7210252212,
"ymax": 4788610.1382546285,
"spatialReference": {
"wkid": 26917,
"latestWkid": 26917
}
},
"initialExtent": {
"xmin": 638860.0942535226,
"ymin": 4773182.71273614,
"xmax": 650204.7210252212,
"ymax": 4788610.1382546285,
"spatialReference": {
"wkid": 26917,
"latestWkid": 26917
}
},
"fullExtent": {
"xmin": 638860.0942535226,
"ymin": 4773182.71273614,
"xmax": 650204.7210252212,
"ymax": 4788610.1382546285,
"spatialReference": {
"wkid": 26917,
"latestWkid": 26917
}
},
"hasMultidimensions": false,
"pixelSizeX": 1.0779766981849668,
"pixelSizeY": 1.057687201322399,
"datasetFormat": "TIFF",
"uncompressedSize": 460509192,
"blockWidth": 10524,
"blockHeight": 1024,
"compressionType": "YCbCr JPEG",
"bandNames": [
"Band_1",
"Band_2",
"Band_3"
],
"allowCopy": true,
"allowAnalysis": true,
"bandCount": 3,
"pixelType": "U8",
"minPixelSize": 0,
"maxPixelSize": 0,
"copyrightText": "Brock University Map, Data & GIS Library",
"serviceDataType": "esriImageServiceDataTypeRGB",
"serviceSourceType": "esriImageServiceSourceTypeDataset",
"minValues": [
0,
0,
0
],
"maxValues": [
255,
255,
255
],
"meanValues": [
224.00727123593,
210.46370425553,
192.10185824041
],
"stdvValues": [
45.995790268154,
51.998539992353,
51.1425633816
],
"objectIdField": "",
"fields": [],
"capabilities": "Image,Metadata,Mensuration",
"defaultMosaicMethod": "Center",
"allowedMosaicMethods": "",
"sortField": "",
"sortValue": null,
"sortAscending": true,
"mosaicOperator": "First",
"defaultCompressionQuality": 75,
"defaultResamplingMethod": "Bilinear",
"maxImageHeight": 4100,
"maxImageWidth": 15000,
"allowRasterFunction": true,
"rasterFunctionInfos": [
{
"name": "None",
"description": "",
"help": ""
}
],
"rasterTypeInfos": [
{
"name": "Raster Dataset",
"description": "Supports all ArcGIS Raster Datasets",
"help": ""
}
],
"mensurationCapabilities": "Basic",
"hasHistograms": true,
"hasColormap": false,
"hasRasterAttributeTable": false,
"minScale": 0,
"maxScale": 0,
"exportTilesAllowed": false,
"supportsStatistics": false,
"supportsAdvancedQueries": false,
"editFieldsInfo": null,
"ownershipBasedAccessControlForRasters": null,
"allowComputeTiePoints": false,
"useStandardizedQueries": true,
"advancedQueryCapabilities": {
"useStandardizedQueries": true,
"supportsStatistics": false,
"supportsOrderBy": false,
"supportsDistinct": false,
"supportsPagination": false
},
"spatialReference": {
"wkid": 26917,
"latestWkid": 26917
}
}