{ "currentVersion": 10.91, "serviceDescription": "
Maps showing the evolution from 1936 to 1946, population, urban growth, note, legend.<\/SPAN><\/P> <\/P> Scale [ca.1:10,359]<\/SPAN><\/P> <\/P> Map date: [1959?]<\/SPAN><\/P> <\/P> Digital reproduction of map (57 x 72 cm.) in the Brock University Map, Data & GIS Library collection. <\/SPAN><\/P> <\/P> Georeferenced and modified from Brock call# G 3464 S35 S1 1959 E86 by Map, Data and GIS Library, Brock University. <\/SPAN><\/P><\/DIV><\/DIV><\/DIV>",
"name": "EarlyNiagara/StCatharinesevolution19361946",
"description": " Maps showing the evolution from 1936 to 1946, population, urban growth, note, legend.<\/SPAN><\/P> <\/P> Scale [ca.1:10,359]<\/SPAN><\/P> <\/P> Map date: [1959?]<\/SPAN><\/P> <\/P> Digital reproduction of map (57 x 72 cm.) in the Brock University Map, Data & GIS Library collection. <\/SPAN><\/P> <\/P> Georeferenced and modified from Brock call# G 3464 S35 S1 1959 E86 by Map, Data and GIS Library, Brock University. <\/SPAN><\/P><\/DIV><\/DIV><\/DIV>",
"extent": {
"xmin": 638804.8963456503,
"ymin": 4774787.4900014615,
"xmax": 648717.5393936504,
"ymax": 4784381.762913462,
"spatialReference": {
"wkid": 26917,
"latestWkid": 26917
}
},
"initialExtent": {
"xmin": 638804.8963456503,
"ymin": 4774787.4900014615,
"xmax": 648717.5393936504,
"ymax": 4784381.762913462,
"spatialReference": {
"wkid": 26917,
"latestWkid": 26917
}
},
"fullExtent": {
"xmin": 638804.8963456503,
"ymin": 4774787.4900014615,
"xmax": 648717.5393936504,
"ymax": 4784381.762913462,
"spatialReference": {
"wkid": 26917,
"latestWkid": 26917
}
},
"hasMultidimensions": false,
"pixelSizeX": 1.3490260000000076,
"pixelSizeY": 1.349026000000043,
"datasetFormat": "TIFF",
"uncompressedSize": 104517952,
"blockWidth": 128,
"blockHeight": 128,
"compressionType": "None",
"bandNames": [
"Band_1"
],
"allowCopy": true,
"allowAnalysis": true,
"bandCount": 1,
"noDataValue": 256,
"noDataValues": [
256
],
"pixelType": "U16",
"minPixelSize": 0,
"maxPixelSize": 0,
"copyrightText": "Information compiled by E. Tweed\n\nDrawing by M.J. Servos\n\nPublished St. Catharines Planning and Development Services.\n\nMap, Data & GIS Library, Brock University.",
"serviceDataType": "esriImageServiceDataTypeGeneric",
"serviceSourceType": "esriImageServiceSourceTypeDataset",
"minValues": [
0
],
"maxValues": [
255
],
"meanValues": [
227.75304996985
],
"stdvValues": [
64.343357284146
],
"objectIdField": "",
"fields": [],
"capabilities": "Image,Metadata,Mensuration",
"defaultMosaicMethod": "Center",
"allowedMosaicMethods": "",
"sortField": "",
"sortValue": null,
"sortAscending": true,
"mosaicOperator": "First",
"defaultCompressionQuality": 75,
"defaultResamplingMethod": "Bilinear",
"maxImageHeight": 4100,
"maxImageWidth": 15000,
"allowRasterFunction": true,
"rasterFunctionInfos": [
{
"name": "None",
"description": "",
"help": ""
}
],
"rasterTypeInfos": [
{
"name": "Raster Dataset",
"description": "Supports all ArcGIS Raster Datasets",
"help": ""
}
],
"mensurationCapabilities": "Basic",
"hasHistograms": true,
"hasColormap": false,
"hasRasterAttributeTable": false,
"minScale": 0,
"maxScale": 0,
"exportTilesAllowed": false,
"supportsStatistics": false,
"supportsAdvancedQueries": false,
"editFieldsInfo": null,
"ownershipBasedAccessControlForRasters": null,
"allowComputeTiePoints": false,
"useStandardizedQueries": true,
"advancedQueryCapabilities": {
"useStandardizedQueries": true,
"supportsStatistics": false,
"supportsOrderBy": false,
"supportsDistinct": false,
"supportsPagination": false
},
"spatialReference": {
"wkid": 26917,
"latestWkid": 26917
}
}