{ "currentVersion": 10.91, "serviceDescription": "
Map showing streets, places of interest, cultural features, miscellaneous and highway information, legend. On verso: Town of Thorold. Panel title: Welcome to St. Catharines \"the Garden City\" and Thorold \"where ships climb the mountain.\" Includes street index.<\/span><\/p><\/div><\/div>",
"name": "EarlyNiagara/Thorold1970",
"description": " Map showing streets, places of interest, cultural features, miscellaneous and highway information, legend. On verso: Town of Thorold. Panel title: Welcome to St. Catharines \"the Garden City\" and Thorold \"where ships climb the mountain.\" Includes street index.<\/span><\/p><\/div><\/div>",
"extent": {
"xmin": 632717.6744892703,
"ymin": 4758322.867335724,
"xmax": 656144.2458079266,
"ymax": 4789235.927318077,
"spatialReference": {
"wkid": 26917,
"latestWkid": 26917
}
},
"initialExtent": {
"xmin": 632717.6744892703,
"ymin": 4758322.867335724,
"xmax": 656144.2458079266,
"ymax": 4789235.927318077,
"spatialReference": {
"wkid": 26917,
"latestWkid": 26917
}
},
"fullExtent": {
"xmin": 632717.6744892703,
"ymin": 4758322.867335724,
"xmax": 656144.2458079266,
"ymax": 4789235.927318077,
"spatialReference": {
"wkid": 26917,
"latestWkid": 26917
}
},
"hasMultidimensions": false,
"pixelSizeX": 2.1893991886594693,
"pixelSizeY": 2.1396082490554327,
"datasetFormat": "TIFF",
"uncompressedSize": 463780800,
"blockWidth": 10700,
"blockHeight": 1024,
"compressionType": "YCbCr JPEG",
"bandNames": [
"Band_1",
"Band_2",
"Band_3"
],
"allowCopy": true,
"allowAnalysis": true,
"bandCount": 3,
"pixelType": "U8",
"minPixelSize": 0,
"maxPixelSize": 0,
"copyrightText": "Brock University Map, Data & GIS Library",
"serviceDataType": "esriImageServiceDataTypeRGB",
"serviceSourceType": "esriImageServiceSourceTypeDataset",
"minValues": [
0,
0,
0
],
"maxValues": [
255,
255,
255
],
"meanValues": [
227.98682438984,
224.34102165926,
217.10074950065
],
"stdvValues": [
53.315380816438,
57.974317092625,
46.866801419556
],
"objectIdField": "",
"fields": [],
"capabilities": "Mensuration,Image,Metadata",
"defaultMosaicMethod": "Center",
"allowedMosaicMethods": "",
"sortField": "",
"sortValue": null,
"sortAscending": true,
"mosaicOperator": "First",
"defaultCompressionQuality": 75,
"defaultResamplingMethod": "Bilinear",
"maxImageHeight": 4100,
"maxImageWidth": 15000,
"allowRasterFunction": true,
"rasterFunctionInfos": [
{
"name": "None",
"description": "",
"help": ""
}
],
"rasterTypeInfos": [
{
"name": "Raster Dataset",
"description": "Supports all ArcGIS Raster Datasets",
"help": ""
}
],
"mensurationCapabilities": "Basic",
"hasHistograms": true,
"hasColormap": false,
"hasRasterAttributeTable": false,
"minScale": 0,
"maxScale": 0,
"exportTilesAllowed": false,
"supportsStatistics": false,
"supportsAdvancedQueries": false,
"editFieldsInfo": null,
"ownershipBasedAccessControlForRasters": null,
"allowComputeTiePoints": false,
"useStandardizedQueries": true,
"advancedQueryCapabilities": {
"useStandardizedQueries": true,
"supportsStatistics": false,
"supportsOrderBy": false,
"supportsDistinct": false,
"supportsPagination": false
},
"spatialReference": {
"wkid": 26917,
"latestWkid": 26917
}
}