{ "currentVersion": 10.91, "serviceDescription": "
Historical map showing southern Ontario with the most detail in York Co (now Toronto) and the Niagara Peninsula. Political jurisdictions, roads, forts, and physical features (such as: the Escarpment, marshes and creeks) are noted. Some names of settlers are identified.<\/span><\/p> Scale [1:316,800]. 1\" to 5 miles.<\/span><\/p> Relief shown by hachures.<\/span><\/p> Map date: 1819<\/span><\/p> Digital reproduction of map (63 x 97 cm.) in the Public Archives of Canada. National Map Collection. Library and Archives Canada.<\/span><\/p> Georeferenced and modified from NMC Map number 18556 by Map, Data and GIS Library, Brock University. <\/span><\/p> <\/p><\/div><\/div><\/div>",
"name": "EarlyNiagara/UpperCanada1819NMC18556",
"description": " Historical map showing southern Ontario with the most detail in York Co (now Toronto) and the Niagara Peninsula. Political jurisdictions, roads, forts, and physical features (such as: the Escarpment, marshes and creeks) are noted. Some names of settlers are identified.<\/span><\/p> Scale [1:316,800]. 1\" to 5 miles.<\/span><\/p> Relief shown by hachures.<\/span><\/p> Map date: 1819<\/span><\/p> Digital reproduction of map (63 x 97 cm.) in the Public Archives of Canada. National Map Collection. Library and Archives Canada.<\/span><\/p> Georeferenced and modified from NMC Map number 18556 by Map, Data and GIS Library, Brock University. <\/span><\/p> <\/p><\/div><\/div><\/div>",
"extent": {
"xmin": 463431.9284475114,
"ymin": 4696625.369770978,
"xmax": 736113.0402105114,
"ymax": 4913078.371252977,
"spatialReference": {
"wkid": 26917,
"latestWkid": 26917
}
},
"initialExtent": {
"xmin": 463431.9284475114,
"ymin": 4696625.369770978,
"xmax": 736113.0402105114,
"ymax": 4913078.371252977,
"spatialReference": {
"wkid": 26917,
"latestWkid": 26917
}
},
"fullExtent": {
"xmin": 463431.9284475114,
"ymin": 4696625.369770978,
"xmax": 736113.0402105114,
"ymax": 4913078.371252977,
"spatialReference": {
"wkid": 26917,
"latestWkid": 26917
}
},
"hasMultidimensions": false,
"pixelSizeX": 38.804769,
"pixelSizeY": 38.804768999999936,
"datasetFormat": "TIFF",
"uncompressedSize": 78393212,
"blockWidth": 128,
"blockHeight": 128,
"compressionType": "None",
"bandNames": [
"Band_1"
],
"allowCopy": true,
"allowAnalysis": true,
"bandCount": 1,
"noDataValue": 256,
"noDataValues": [
256
],
"pixelType": "U16",
"minPixelSize": 0,
"maxPixelSize": 0,
"copyrightText": "[\"signed\"]",
"serviceDataType": "esriImageServiceDataTypeGeneric",
"serviceSourceType": "esriImageServiceSourceTypeDataset",
"minValues": [
0
],
"maxValues": [
255
],
"meanValues": [
182.20501255097
],
"stdvValues": [
39.89213486103
],
"objectIdField": "",
"fields": [],
"capabilities": "Mensuration,Image,Metadata",
"defaultMosaicMethod": "Center",
"allowedMosaicMethods": "",
"sortField": "",
"sortValue": null,
"sortAscending": true,
"mosaicOperator": "First",
"defaultCompressionQuality": 75,
"defaultResamplingMethod": "Bilinear",
"maxImageHeight": 4100,
"maxImageWidth": 15000,
"allowRasterFunction": true,
"rasterFunctionInfos": [
{
"name": "None",
"description": "",
"help": ""
}
],
"rasterTypeInfos": [
{
"name": "Raster Dataset",
"description": "Supports all ArcGIS Raster Datasets",
"help": ""
}
],
"mensurationCapabilities": "Basic",
"hasHistograms": true,
"hasColormap": false,
"hasRasterAttributeTable": false,
"minScale": 0,
"maxScale": 0,
"exportTilesAllowed": false,
"supportsStatistics": false,
"supportsAdvancedQueries": false,
"editFieldsInfo": null,
"ownershipBasedAccessControlForRasters": null,
"allowComputeTiePoints": false,
"useStandardizedQueries": true,
"advancedQueryCapabilities": {
"useStandardizedQueries": true,
"supportsStatistics": false,
"supportsOrderBy": false,
"supportsDistinct": false,
"supportsPagination": false
},
"spatialReference": {
"wkid": 26917,
"latestWkid": 26917
}
}