{ "currentVersion": 10.91, "serviceDescription": "
Historical map showing boundaries, major roads, place names, hydrological features.<\/SPAN><\/P> Relief shown by hachures.<\/SPAN><\/P> Map date: [1836]<\/SPAN><\/P> \"Tanner's Universal Atlas\" - in top margin.<\/SPAN><\/P> Digital reproduction of map in the Public Archives of Canada. National Map Collection. Library and Archives Canada.<\/SPAN><\/P> Georeferenced and modified from NMC Map number 119052 by Map, Data and GIS Library, Brock University. <\/SPAN><\/P> <\/P><\/DIV><\/DIV><\/DIV>",
"name": "EarlyNiagara/UpperCanada1836NMC119052",
"description": " Historical map showing boundaries, major roads, place names, hydrological features.<\/SPAN><\/P> Relief shown by hachures.<\/SPAN><\/P> Map date: [1836]<\/SPAN><\/P> \"Tanner's Universal Atlas\" - in top margin.<\/SPAN><\/P> Digital reproduction of map in the Public Archives of Canada. National Map Collection. Library and Archives Canada.<\/SPAN><\/P> Georeferenced and modified from NMC Map number 119052 by Map, Data and GIS Library, Brock University. <\/SPAN><\/P> <\/P><\/DIV><\/DIV><\/DIV>",
"extent": {
"xmin": -9336868.746711321,
"ymin": 4967180.845701213,
"xmax": -8226893.904987321,
"ymax": 5868991.746057213,
"spatialReference": {
"wkid": 102100,
"latestWkid": 3857
}
},
"initialExtent": {
"xmin": -9336868.746711321,
"ymin": 4967180.845701213,
"xmax": -8226893.904987321,
"ymax": 5868991.746057213,
"spatialReference": {
"wkid": 102100,
"latestWkid": 3857
}
},
"fullExtent": {
"xmin": -9336868.746711321,
"ymin": 4967180.845701213,
"xmax": -8226893.904987321,
"ymax": 5868991.746057213,
"spatialReference": {
"wkid": 102100,
"latestWkid": 3857
}
},
"hasMultidimensions": false,
"pixelSizeX": 174.634179,
"pixelSizeY": 174.63417900000005,
"datasetFormat": "TIFF",
"uncompressedSize": 196934304,
"blockWidth": 128,
"blockHeight": 128,
"compressionType": "None",
"bandNames": [
"Band_1",
"Band_2",
"Band_3"
],
"allowCopy": true,
"allowAnalysis": true,
"bandCount": 3,
"noDataValue": 256,
"noDataValues": [
256,
256,
256
],
"pixelType": "U16",
"minPixelSize": 0,
"maxPixelSize": 0,
"copyrightText": "Published by H. S. Tanner, Philadelphia\nMap, Data & GIS Library, Brock University.",
"serviceDataType": "esriImageServiceDataTypeGeneric",
"serviceSourceType": "esriImageServiceSourceTypeDataset",
"minValues": [
57,
49,
42
],
"maxValues": [
248,
231,
211
],
"meanValues": [
209.92943592563,
188.58233603697,
160.116874971
],
"stdvValues": [
30.510249569884,
30.223435783126,
31.276808516617
],
"objectIdField": "",
"fields": [],
"capabilities": "Image,Metadata,Mensuration",
"defaultMosaicMethod": "Center",
"allowedMosaicMethods": "",
"sortField": "",
"sortValue": null,
"sortAscending": true,
"mosaicOperator": "First",
"defaultCompressionQuality": 75,
"defaultResamplingMethod": "Bilinear",
"maxImageHeight": 4100,
"maxImageWidth": 15000,
"allowRasterFunction": true,
"rasterFunctionInfos": [
{
"name": "None",
"description": "",
"help": ""
}
],
"rasterTypeInfos": [
{
"name": "Raster Dataset",
"description": "Supports all ArcGIS Raster Datasets",
"help": ""
}
],
"mensurationCapabilities": "Basic",
"hasHistograms": true,
"hasColormap": false,
"hasRasterAttributeTable": false,
"minScale": 0,
"maxScale": 0,
"exportTilesAllowed": false,
"supportsStatistics": false,
"supportsAdvancedQueries": false,
"editFieldsInfo": null,
"ownershipBasedAccessControlForRasters": null,
"allowComputeTiePoints": false,
"useStandardizedQueries": true,
"advancedQueryCapabilities": {
"useStandardizedQueries": true,
"supportsStatistics": false,
"supportsOrderBy": false,
"supportsDistinct": false,
"supportsPagination": false
},
"spatialReference": {
"wkid": 102100,
"latestWkid": 3857
}
}