{ "currentVersion": 10.91, "serviceDescription": "
Historical map showing the location of Mill Burnt, lot and concession numbers, names of land-owners, the First Welland Canal. Map of 1829 by the Welland Canal Company; donated by the St. Lawrence Seaway Authority; original map folio is in the Special Collections, Brock University Library; photoreproduction donated by J.N. Jackson, January 20, 1988.<\/span><\/p><\/div><\/div>",
"name": "EarlyNiagara/WellandCanal1829",
"description": " Historical map showing the location of Mill Burnt, lot and concession numbers, names of land-owners, the First Welland Canal. Map of 1829 by the Welland Canal Company; donated by the St. Lawrence Seaway Authority; original map folio is in the Special Collections, Brock University Library; photoreproduction donated by J.N. Jackson, January 20, 1988.<\/span><\/p><\/div><\/div>",
"extent": {
"xmin": 640818.7222799693,
"ymin": 4779584.673420542,
"xmax": 641891.2045364933,
"ymax": 4780335.278069033,
"spatialReference": {
"wkid": 26917,
"latestWkid": 26917
}
},
"initialExtent": {
"xmin": 640818.7222799693,
"ymin": 4779584.673420542,
"xmax": 641891.2045364933,
"ymax": 4780335.278069033,
"spatialReference": {
"wkid": 26917,
"latestWkid": 26917
}
},
"fullExtent": {
"xmin": 640818.7222799693,
"ymin": 4779584.673420542,
"xmax": 641891.2045364933,
"ymax": 4780335.278069033,
"spatialReference": {
"wkid": 26917,
"latestWkid": 26917
}
},
"hasMultidimensions": false,
"pixelSizeX": 0.21199491135086618,
"pixelSizeY": 0.22581367283133805,
"datasetFormat": "TIFF",
"uncompressedSize": 16816116,
"blockWidth": 5059,
"blockHeight": 1,
"compressionType": "None",
"bandNames": [
"Band_1"
],
"allowCopy": true,
"allowAnalysis": true,
"bandCount": 1,
"pixelType": "U8",
"minPixelSize": 0,
"maxPixelSize": 0,
"copyrightText": "Brock University Map, Data & GIS Library",
"serviceDataType": "esriImageServiceDataTypeGeneric",
"serviceSourceType": "esriImageServiceSourceTypeDataset",
"minValues": [
0
],
"maxValues": [
255
],
"meanValues": [
225.49522434311
],
"stdvValues": [
39.523524686247
],
"objectIdField": "",
"fields": [],
"capabilities": "Mensuration,Image,Metadata",
"defaultMosaicMethod": "Center",
"allowedMosaicMethods": "",
"sortField": "",
"sortValue": null,
"sortAscending": true,
"mosaicOperator": "First",
"defaultCompressionQuality": 75,
"defaultResamplingMethod": "Bilinear",
"maxImageHeight": 4100,
"maxImageWidth": 15000,
"allowRasterFunction": true,
"rasterFunctionInfos": [
{
"name": "None",
"description": "",
"help": ""
}
],
"rasterTypeInfos": [
{
"name": "Raster Dataset",
"description": "Supports all ArcGIS Raster Datasets",
"help": ""
}
],
"mensurationCapabilities": "Basic",
"hasHistograms": true,
"hasColormap": false,
"hasRasterAttributeTable": false,
"minScale": 0,
"maxScale": 0,
"exportTilesAllowed": false,
"supportsStatistics": false,
"supportsAdvancedQueries": false,
"editFieldsInfo": null,
"ownershipBasedAccessControlForRasters": null,
"allowComputeTiePoints": false,
"useStandardizedQueries": true,
"advancedQueryCapabilities": {
"useStandardizedQueries": true,
"supportsStatistics": false,
"supportsOrderBy": false,
"supportsDistinct": false,
"supportsPagination": false
},
"spatialReference": {
"wkid": 26917,
"latestWkid": 26917
}
}