{ "currentVersion": 10.91, "serviceDescription": "
Map Date: Published 1970 with information reflecting from 1829 to 1845<\/SPAN><\/P> Digital reproduction of map (29 x 39 cm.) in the Map, Data and GIS Library, Brock University. <\/SPAN><\/P> <\/P> Georeferenced and modified from Brock call# G 3462 W45 1829 N53 no.3, by Map, Data and GIS Library, Brock University. <\/SPAN><\/P> <\/P><\/DIV><\/DIV><\/DIV>",
"name": "EarlyNiagara/WellandCanal1829_1845Merritton",
"description": " Map Date: Published 1970 with information reflecting from 1829 to 1845<\/SPAN><\/P> Digital reproduction of map (29 x 39 cm.) in the Map, Data and GIS Library, Brock University. <\/SPAN><\/P> <\/P> Georeferenced and modified from Brock call# G 3462 W45 1829 N53 no.3, by Map, Data and GIS Library, Brock University. <\/SPAN><\/P> <\/P><\/DIV><\/DIV><\/DIV>",
"extent": {
"xmin": 644509.9402054381,
"ymin": 4776681.738338254,
"xmax": 646622.068179438,
"ymax": 4778245.022600254,
"spatialReference": {
"wkid": 26917,
"latestWkid": 26917
}
},
"initialExtent": {
"xmin": 644509.9402054381,
"ymin": 4776681.738338254,
"xmax": 646622.068179438,
"ymax": 4778245.022600254,
"spatialReference": {
"wkid": 26917,
"latestWkid": 26917
}
},
"fullExtent": {
"xmin": 644509.9402054381,
"ymin": 4776681.738338254,
"xmax": 646622.068179438,
"ymax": 4778245.022600254,
"spatialReference": {
"wkid": 26917,
"latestWkid": 26917
}
},
"hasMultidimensions": false,
"pixelSizeX": 0.418325999999989,
"pixelSizeY": 0.41832599999990683,
"datasetFormat": "TIFF",
"uncompressedSize": 113208678,
"blockWidth": 128,
"blockHeight": 128,
"compressionType": "None",
"bandNames": [
"Band_1",
"Band_2",
"Band_3"
],
"allowCopy": true,
"allowAnalysis": true,
"bandCount": 3,
"noDataValue": 256,
"noDataValues": [
256,
256,
256
],
"pixelType": "U16",
"minPixelSize": 0,
"maxPixelSize": 0,
"copyrightText": "Map, Data & GIS Library, Brock University.",
"serviceDataType": "esriImageServiceDataTypeGeneric",
"serviceSourceType": "esriImageServiceSourceTypeDataset",
"minValues": [
1,
1,
1
],
"maxValues": [
255,
255,
255
],
"meanValues": [
227.2610843902,
227.2610843902,
227.2610843902
],
"stdvValues": [
46.351248621172,
46.351248621172,
46.351248621172
],
"objectIdField": "",
"fields": [],
"capabilities": "Image,Metadata,Mensuration",
"defaultMosaicMethod": "Center",
"allowedMosaicMethods": "",
"sortField": "",
"sortValue": null,
"sortAscending": true,
"mosaicOperator": "First",
"defaultCompressionQuality": 75,
"defaultResamplingMethod": "Bilinear",
"maxImageHeight": 4100,
"maxImageWidth": 15000,
"allowRasterFunction": true,
"rasterFunctionInfos": [
{
"name": "None",
"description": "",
"help": ""
}
],
"rasterTypeInfos": [
{
"name": "Raster Dataset",
"description": "Supports all ArcGIS Raster Datasets",
"help": ""
}
],
"mensurationCapabilities": "Basic",
"hasHistograms": true,
"hasColormap": false,
"hasRasterAttributeTable": false,
"minScale": 0,
"maxScale": 0,
"exportTilesAllowed": false,
"supportsStatistics": false,
"supportsAdvancedQueries": false,
"editFieldsInfo": null,
"ownershipBasedAccessControlForRasters": null,
"allowComputeTiePoints": false,
"useStandardizedQueries": true,
"advancedQueryCapabilities": {
"useStandardizedQueries": true,
"supportsStatistics": false,
"supportsOrderBy": false,
"supportsDistinct": false,
"supportsPagination": false
},
"spatialReference": {
"wkid": 26917,
"latestWkid": 26917
}
}