{
 "currentVersion": 10.91,
 "serviceDescription": "Map date: 1833? Scale [ca. 1:256,880] Digital reproduction of map ( 21 x 35 cm.) Georeferenced and modified from Brock call # G 3462 W45 1833 S54, by Map, Data and GIS Library, Brock University. ",
 "name": "EarlyNiagara/WellandCanal1833",
 "description": "Map date: 1833? Scale [ca. 1:256,880] Digital reproduction of map ( 21 x 35 cm.) Georeferenced and modified from Brock call # G 3462 W45 1833 S54, by Map, Data and GIS Library, Brock University. ",
 "extent": {
  "xmin": -8887377.741599923,
  "ymin": 5276177.795386141,
  "xmax": -8745433.283139924,
  "ymax": 5362892.620366141,
  "spatialReference": {
   "wkid": 102100,
   "latestWkid": 3857
  }
 },
 "initialExtent": {
  "xmin": -8887377.741599923,
  "ymin": 5276177.795386141,
  "xmax": -8745433.283139924,
  "ymax": 5362892.620366141,
  "spatialReference": {
   "wkid": 102100,
   "latestWkid": 3857
  }
 },
 "fullExtent": {
  "xmin": -8887377.741599923,
  "ymin": 5276177.795386141,
  "xmax": -8745433.283139924,
  "ymax": 5362892.620366141,
  "spatialReference": {
   "wkid": 102100,
   "latestWkid": 3857
  }
 },
 "hasMultidimensions": false,
 "pixelSizeX": 30.71725999999987,
 "pixelSizeY": 30.717260000000014,
 "datasetFormat": "TIFF",
 "uncompressedSize": 26090166,
 "blockWidth": 128,
 "blockHeight": 128,
 "compressionType": "LZW",
 "bandNames": [
  "Band_1"
 ],
 "allowCopy": true,
 "allowAnalysis": true,
 "bandCount": 1,
 "noDataValue": 256,
 "noDataValues": [
  256
 ],
 "pixelType": "U16",
 "minPixelSize": 0,
 "maxPixelSize": 0,
 "copyrightText": "Map, Data & GIS Library, Brock University.",
 "serviceDataType": "esriImageServiceDataTypeGeneric",
 "serviceSourceType": "esriImageServiceSourceTypeDataset",
 "minValues": [
  0
 ],
 "maxValues": [
  255
 ],
 "meanValues": [
  211.83849103879
 ],
 "stdvValues": [
  19.586929899533
 ],
 "objectIdField": "",
 "fields": [],
 "capabilities": "Image,Metadata,Mensuration",
 "defaultMosaicMethod": "Center",
 "allowedMosaicMethods": "",
 "sortField": "",
 "sortValue": null,
 "sortAscending": true,
 "mosaicOperator": "First",
 "defaultCompressionQuality": 75,
 "defaultResamplingMethod": "Bilinear",
 "maxImageHeight": 4100,
 "maxImageWidth": 15000,
 "allowRasterFunction": true,
 "rasterFunctionInfos": [
  {
   "name": "None",
   "description": "",
   "help": ""
  }
 ],
 "rasterTypeInfos": [
  {
   "name": "Raster Dataset",
   "description": "Supports all ArcGIS Raster Datasets",
   "help": ""
  }
 ],
 "mensurationCapabilities": "Basic",
 "hasHistograms": false,
 "hasColormap": false,
 "hasRasterAttributeTable": false,
 "minScale": 0,
 "maxScale": 0,
 "exportTilesAllowed": false,
 "supportsStatistics": false,
 "supportsAdvancedQueries": false,
 "editFieldsInfo": null,
 "ownershipBasedAccessControlForRasters": null,
 "allowComputeTiePoints": false,
 "useStandardizedQueries": true,
 "advancedQueryCapabilities": {
  "useStandardizedQueries": true,
  "supportsStatistics": false,
  "supportsOrderBy": false,
  "supportsDistinct": false,
  "supportsPagination": false
 },
 "spatialReference": {
  "wkid": 102100,
  "latestWkid": 3857
 }
}
