{ "currentVersion": 10.91, "serviceDescription": "
Historical map showing the First and Second Welland Canal, locks, lift elevations, townships, roads, towing paths and bridges.<\/span><\/p> Digital reproduction of map (59 x 549 cm.) in the Public Archives of Canada. National Map Collection. Library and Archives Canada.<\/span><\/p> Relief shown by shading.<\/span><\/p> Georeferenced and modified from LAC e011168620 by Map, Data and GIS Library, Brock University. <\/span><\/p> <\/p><\/div><\/div><\/div>",
"name": "EarlyNiagara/WellandCanal1837NMC11848col5",
"description": " Historical map showing the First and Second Welland Canal, locks, lift elevations, townships, roads, towing paths and bridges.<\/span><\/p> Digital reproduction of map (59 x 549 cm.) in the Public Archives of Canada. National Map Collection. Library and Archives Canada.<\/span><\/p> Relief shown by shading.<\/span><\/p> Georeferenced and modified from LAC e011168620 by Map, Data and GIS Library, Brock University. <\/span><\/p> <\/p><\/div><\/div><\/div>",
"extent": {
"xmin": 642144.4595765972,
"ymin": 4762504.542057508,
"xmax": 646404.1352315972,
"ymax": 4766285.536251508,
"spatialReference": {
"wkid": 26917,
"latestWkid": 26917
}
},
"initialExtent": {
"xmin": 642144.4595765972,
"ymin": 4762504.542057508,
"xmax": 646404.1352315972,
"ymax": 4766285.536251508,
"spatialReference": {
"wkid": 26917,
"latestWkid": 26917
}
},
"fullExtent": {
"xmin": 642144.4595765972,
"ymin": 4762504.542057508,
"xmax": 646404.1352315972,
"ymax": 4766285.536251508,
"spatialReference": {
"wkid": 26917,
"latestWkid": 26917
}
},
"hasMultidimensions": false,
"pixelSizeX": 0.6548310000000044,
"pixelSizeY": 0.6548310000000048,
"datasetFormat": "TIFF",
"uncompressedSize": 225324576,
"blockWidth": 128,
"blockHeight": 128,
"compressionType": "None",
"bandNames": [
"Band_1",
"Band_2",
"Band_3"
],
"allowCopy": true,
"allowAnalysis": true,
"bandCount": 3,
"noDataValue": 256,
"noDataValues": [
256,
256,
256
],
"pixelType": "U16",
"minPixelSize": 0,
"maxPixelSize": 0,
"copyrightText": "Map, Data & GIS Library, Brock University.",
"serviceDataType": "esriImageServiceDataTypeGeneric",
"serviceSourceType": "esriImageServiceSourceTypeDataset",
"minValues": [
38,
41,
39
],
"maxValues": [
246,
236,
225
],
"meanValues": [
219.70838131318,
195.99356667358,
156.03832511312
],
"stdvValues": [
13.177395953497,
10.74514974599,
10.994433086657
],
"objectIdField": "",
"fields": [],
"capabilities": "Mensuration,Image,Metadata",
"defaultMosaicMethod": "Center",
"allowedMosaicMethods": "",
"sortField": "",
"sortValue": null,
"sortAscending": true,
"mosaicOperator": "First",
"defaultCompressionQuality": 75,
"defaultResamplingMethod": "Bilinear",
"maxImageHeight": 4100,
"maxImageWidth": 15000,
"allowRasterFunction": true,
"rasterFunctionInfos": [
{
"name": "None",
"description": "",
"help": ""
}
],
"rasterTypeInfos": [
{
"name": "Raster Dataset",
"description": "Supports all ArcGIS Raster Datasets",
"help": ""
}
],
"mensurationCapabilities": "Basic",
"hasHistograms": true,
"hasColormap": false,
"hasRasterAttributeTable": false,
"minScale": 0,
"maxScale": 0,
"exportTilesAllowed": false,
"supportsStatistics": false,
"supportsAdvancedQueries": false,
"editFieldsInfo": null,
"ownershipBasedAccessControlForRasters": null,
"allowComputeTiePoints": false,
"useStandardizedQueries": true,
"advancedQueryCapabilities": {
"useStandardizedQueries": true,
"supportsStatistics": false,
"supportsOrderBy": false,
"supportsDistinct": false,
"supportsPagination": false
},
"spatialReference": {
"wkid": 26917,
"latestWkid": 26917
}
}