{ "currentVersion": 10.91, "serviceDescription": "
Historical map showing the First and Second Welland Canal, locks, lift elevations, townships, roads, towing paths and bridges.<\/span><\/p> Digital reproduction of map (59 x 549 cm.) in the Public Archives of Canada. National Map Collection. Library and Archives Canada.<\/span><\/p> Relief shown by shading.<\/span><\/p> Georeferenced and modified from LAC e011168620 by Map, Data and GIS Library, Brock University. <\/span><\/p> <\/p><\/div><\/div><\/div>",
"name": "EarlyNiagara/WellandCanal1837NMC11848col9",
"description": " Historical map showing the First and Second Welland Canal, locks, lift elevations, townships, roads, towing paths and bridges.<\/span><\/p> Digital reproduction of map (59 x 549 cm.) in the Public Archives of Canada. National Map Collection. Library and Archives Canada.<\/span><\/p> Relief shown by shading.<\/span><\/p> Georeferenced and modified from LAC e011168620 by Map, Data and GIS Library, Brock University. <\/span><\/p> <\/p><\/div><\/div><\/div>",
"extent": {
"xmin": 641354.6626790971,
"ymin": 4777328.880886167,
"xmax": 645688.9843190971,
"ymax": 4781696.584006167,
"spatialReference": {
"wkid": 26917,
"latestWkid": 26917
}
},
"initialExtent": {
"xmin": 641354.6626790971,
"ymin": 4777328.880886167,
"xmax": 645688.9843190971,
"ymax": 4781696.584006167,
"spatialReference": {
"wkid": 26917,
"latestWkid": 26917
}
},
"fullExtent": {
"xmin": 641354.6626790971,
"ymin": 4777328.880886167,
"xmax": 645688.9843190971,
"ymax": 4781696.584006167,
"spatialReference": {
"wkid": 26917,
"latestWkid": 26917
}
},
"hasMultidimensions": false,
"pixelSizeX": 0.878459999999996,
"pixelSizeY": 0.8784599999999455,
"datasetFormat": "TIFF",
"uncompressedSize": 147191088,
"blockWidth": 128,
"blockHeight": 128,
"compressionType": "None",
"bandNames": [
"Band_1",
"Band_2",
"Band_3"
],
"allowCopy": true,
"allowAnalysis": true,
"bandCount": 3,
"noDataValue": 256,
"noDataValues": [
256,
256,
256
],
"pixelType": "U16",
"minPixelSize": 0,
"maxPixelSize": 0,
"copyrightText": "Map, Data & GIS Library, Brock University.",
"serviceDataType": "esriImageServiceDataTypeGeneric",
"serviceSourceType": "esriImageServiceSourceTypeDataset",
"minValues": [
52,
48,
43
],
"maxValues": [
246,
233,
222
],
"meanValues": [
214.86713007127,
185.88296291729,
145.9032039689
],
"stdvValues": [
21.213688203102,
17.757234465451,
13.801209478685
],
"objectIdField": "",
"fields": [],
"capabilities": "Mensuration,Image,Metadata",
"defaultMosaicMethod": "Center",
"allowedMosaicMethods": "",
"sortField": "",
"sortValue": null,
"sortAscending": true,
"mosaicOperator": "First",
"defaultCompressionQuality": 75,
"defaultResamplingMethod": "Bilinear",
"maxImageHeight": 4100,
"maxImageWidth": 15000,
"allowRasterFunction": true,
"rasterFunctionInfos": [
{
"name": "None",
"description": "",
"help": ""
}
],
"rasterTypeInfos": [
{
"name": "Raster Dataset",
"description": "Supports all ArcGIS Raster Datasets",
"help": ""
}
],
"mensurationCapabilities": "Basic",
"hasHistograms": true,
"hasColormap": false,
"hasRasterAttributeTable": false,
"minScale": 0,
"maxScale": 0,
"exportTilesAllowed": false,
"supportsStatistics": false,
"supportsAdvancedQueries": false,
"editFieldsInfo": null,
"ownershipBasedAccessControlForRasters": null,
"allowComputeTiePoints": false,
"useStandardizedQueries": true,
"advancedQueryCapabilities": {
"useStandardizedQueries": true,
"supportsStatistics": false,
"supportsOrderBy": false,
"supportsDistinct": false,
"supportsPagination": false
},
"spatialReference": {
"wkid": 26917,
"latestWkid": 26917
}
}