{ "currentVersion": 10.91, "serviceDescription": "
Historical map showing the First and Second Welland Canal complete with Feeder and extension to Port Colborne. Also shows proposed cut to Port Maitland from Feeder Canal, main rivers, creeks, settlements, the escarpment, and township boundaries.<\/span><\/p> Digital reproduction of map in the Public Archives of Canada. National Map Collection. Library and Archives Canada.<\/span><\/p> Relief shown by hachures.<\/span><\/p> Alternate title:\"Welland Canal Capt. Bonnycastle 28th June 1837\" is the endorsed title for this map in Joan Winearls' book, \"Mapping Upper Canada, 1780-1867\"<\/span><\/p> Georeferenced and modified from NMC Map number 21589 by Map, Data and GIS Library, Brock University. <\/span><\/p> <\/p><\/div><\/div><\/div>",
"name": "EarlyNiagara/WellandCanal1837NMC21589",
"description": " Historical map showing the First and Second Welland Canal complete with Feeder and extension to Port Colborne. Also shows proposed cut to Port Maitland from Feeder Canal, main rivers, creeks, settlements, the escarpment, and township boundaries.<\/span><\/p> Digital reproduction of map in the Public Archives of Canada. National Map Collection. Library and Archives Canada.<\/span><\/p> Relief shown by hachures.<\/span><\/p> Alternate title:\"Welland Canal Capt. Bonnycastle 28th June 1837\" is the endorsed title for this map in Joan Winearls' book, \"Mapping Upper Canada, 1780-1867\"<\/span><\/p> Georeferenced and modified from NMC Map number 21589 by Map, Data and GIS Library, Brock University. <\/span><\/p> <\/p><\/div><\/div><\/div>",
"extent": {
"xmin": -8883062.033448042,
"ymin": 5270299.371506889,
"xmax": -8775968.397655042,
"ymax": 5357643.935658889,
"spatialReference": {
"wkid": 102100,
"latestWkid": 3857
}
},
"initialExtent": {
"xmin": -8883062.033448042,
"ymin": 5270299.371506889,
"xmax": -8775968.397655042,
"ymax": 5357643.935658889,
"spatialReference": {
"wkid": 102100,
"latestWkid": 3857
}
},
"fullExtent": {
"xmin": -8883062.033448042,
"ymin": 5270299.371506889,
"xmax": -8775968.397655042,
"ymax": 5357643.935658889,
"spatialReference": {
"wkid": 102100,
"latestWkid": 3857
}
},
"hasMultidimensions": false,
"pixelSizeX": 14.19775100000006,
"pixelSizeY": 14.197750999999926,
"datasetFormat": "TIFF",
"uncompressedSize": 92809072,
"blockWidth": 128,
"blockHeight": 128,
"compressionType": "None",
"bandNames": [
"Band_1"
],
"allowCopy": true,
"allowAnalysis": true,
"bandCount": 1,
"noDataValue": 256,
"noDataValues": [
256
],
"pixelType": "U16",
"minPixelSize": 0,
"maxPixelSize": 0,
"copyrightText": "Map, Data & GIS Library, Brock University.",
"serviceDataType": "esriImageServiceDataTypeGeneric",
"serviceSourceType": "esriImageServiceSourceTypeDataset",
"minValues": [
25
],
"maxValues": [
254
],
"meanValues": [
172.12392521762
],
"stdvValues": [
35.053835438591
],
"objectIdField": "",
"fields": [],
"capabilities": "Mensuration,Image,Metadata",
"defaultMosaicMethod": "Center",
"allowedMosaicMethods": "",
"sortField": "",
"sortValue": null,
"sortAscending": true,
"mosaicOperator": "First",
"defaultCompressionQuality": 75,
"defaultResamplingMethod": "Bilinear",
"maxImageHeight": 4100,
"maxImageWidth": 15000,
"allowRasterFunction": true,
"rasterFunctionInfos": [
{
"name": "None",
"description": "",
"help": ""
}
],
"rasterTypeInfos": [
{
"name": "Raster Dataset",
"description": "Supports all ArcGIS Raster Datasets",
"help": ""
}
],
"mensurationCapabilities": "Basic",
"hasHistograms": true,
"hasColormap": false,
"hasRasterAttributeTable": false,
"minScale": 0,
"maxScale": 0,
"exportTilesAllowed": false,
"supportsStatistics": false,
"supportsAdvancedQueries": false,
"editFieldsInfo": null,
"ownershipBasedAccessControlForRasters": null,
"allowComputeTiePoints": false,
"useStandardizedQueries": true,
"advancedQueryCapabilities": {
"useStandardizedQueries": true,
"supportsStatistics": false,
"supportsOrderBy": false,
"supportsDistinct": false,
"supportsPagination": false
},
"spatialReference": {
"wkid": 102100,
"latestWkid": 3857
}
}