{ "currentVersion": 10.91, "serviceDescription": "
Historical map showing the First Welland Canal from the 22nd to 4th locks, major roads. Includes deviations proposed for schooner navigation and steam boats, location of locks, raceways and supply ponds, some mills and names of land ownership along the proposed routes. Deviations proposed for the Second Welland Canal, by N.H. Baird, H.H. Killaly and George Phillpotts.<\/SPAN><\/P> Relief shown by shading<\/SPAN><\/P> Scale [ca. 1:3,168]<\/SPAN><\/P> Map date: 1840<\/SPAN><\/P> Title with corrected spelling: Plan of a part of the line of the Welland Canal showing the intended deviation between St. Catharines and Thorold<\/SPAN><\/P> Digital reproduction of map in the Public Archives of Canada. National Map Collection. Library and Archives Canada.<\/SPAN><\/P> Georeferenced and modified from NMC Map number 34150 by Map, Data and GIS Library, Brock University. <\/SPAN><\/P> <\/P><\/DIV><\/DIV><\/DIV>",
"name": "EarlyNiagara/WellandCanal1840NMC34150part2",
"description": " Historical map showing the First Welland Canal from the 22nd to 4th locks, major roads. Includes deviations proposed for schooner navigation and steam boats, location of locks, raceways and supply ponds, some mills and names of land ownership along the proposed routes. Deviations proposed for the Second Welland Canal, by N.H. Baird, H.H. Killaly and George Phillpotts.<\/SPAN><\/P> Relief shown by shading<\/SPAN><\/P> Scale [ca. 1:3,168]<\/SPAN><\/P> Map date: 1840<\/SPAN><\/P> Title with corrected spelling: Plan of a part of the line of the Welland Canal showing the intended deviation between St. Catharines and Thorold<\/SPAN><\/P> Digital reproduction of map in the Public Archives of Canada. National Map Collection. Library and Archives Canada.<\/SPAN><\/P> Georeferenced and modified from NMC Map number 34150 by Map, Data and GIS Library, Brock University. <\/SPAN><\/P> <\/P><\/DIV><\/DIV><\/DIV>",
"extent": {
"xmin": 643149.0858904992,
"ymin": 4778107.567692353,
"xmax": 645969.2652754992,
"ymax": 4781267.707320353,
"spatialReference": {
"wkid": 26917,
"latestWkid": 26917
}
},
"initialExtent": {
"xmin": 643149.0858904992,
"ymin": 4778107.567692353,
"xmax": 645969.2652754992,
"ymax": 4781267.707320353,
"spatialReference": {
"wkid": 26917,
"latestWkid": 26917
}
},
"fullExtent": {
"xmin": 643149.0858904992,
"ymin": 4778107.567692353,
"xmax": 645969.2652754992,
"ymax": 4781267.707320353,
"spatialReference": {
"wkid": 26917,
"latestWkid": 26917
}
},
"hasMultidimensions": false,
"pixelSizeX": 0.48084900000000425,
"pixelSizeY": 0.4808489999999431,
"datasetFormat": "TIFF",
"uncompressedSize": 77089560,
"blockWidth": 128,
"blockHeight": 128,
"compressionType": "None",
"bandNames": [
"Band_1"
],
"allowCopy": true,
"allowAnalysis": true,
"bandCount": 1,
"noDataValue": 256,
"noDataValues": [
256
],
"pixelType": "U16",
"minPixelSize": 0,
"maxPixelSize": 0,
"copyrightText": "By N.H. Baird, H.H. Killaly and George Phillpotts\nMap, Data & GIS Library, Brock University.",
"serviceDataType": "esriImageServiceDataTypeGeneric",
"serviceSourceType": "esriImageServiceSourceTypeDataset",
"minValues": [
11
],
"maxValues": [
255
],
"meanValues": [
185.07643683893
],
"stdvValues": [
31.480588758397
],
"objectIdField": "",
"fields": [],
"capabilities": "Image,Metadata,Mensuration",
"defaultMosaicMethod": "Center",
"allowedMosaicMethods": "",
"sortField": "",
"sortValue": null,
"sortAscending": true,
"mosaicOperator": "First",
"defaultCompressionQuality": 75,
"defaultResamplingMethod": "Bilinear",
"maxImageHeight": 4100,
"maxImageWidth": 15000,
"allowRasterFunction": true,
"rasterFunctionInfos": [
{
"name": "None",
"description": "",
"help": ""
}
],
"rasterTypeInfos": [
{
"name": "Raster Dataset",
"description": "Supports all ArcGIS Raster Datasets",
"help": ""
}
],
"mensurationCapabilities": "Basic",
"hasHistograms": true,
"hasColormap": false,
"hasRasterAttributeTable": false,
"minScale": 0,
"maxScale": 0,
"exportTilesAllowed": false,
"supportsStatistics": false,
"supportsAdvancedQueries": false,
"editFieldsInfo": null,
"ownershipBasedAccessControlForRasters": null,
"allowComputeTiePoints": false,
"useStandardizedQueries": true,
"advancedQueryCapabilities": {
"useStandardizedQueries": true,
"supportsStatistics": false,
"supportsOrderBy": false,
"supportsDistinct": false,
"supportsPagination": false
},
"spatialReference": {
"wkid": 26917,
"latestWkid": 26917
}
}