{ "currentVersion": 10.91, "serviceDescription": "
Title on map: St. Catharines Second Welland Canal Period.<\/SPAN><\/P> Digital reproduction of map <\/SPAN>in the Map, Data and GIS Library, Brock University. <\/SPAN><\/SPAN><\/P> Map date: Produced approx. 1980, with information as of 1845<\/SPAN><\/P> Georeferenced and modified from Brock call # G 3462 W45 1829 N3 no.10, by Map, Data and GIS Library, Brock University. <\/SPAN><\/P> <\/P><\/DIV><\/DIV><\/DIV>",
"name": "EarlyNiagara/WellandCanal1845Lock3_4",
"description": " Title on map: St. Catharines Second Welland Canal Period.<\/SPAN><\/P> Digital reproduction of map <\/SPAN>in the Map, Data and GIS Library, Brock University. <\/SPAN><\/SPAN><\/P> Map date: Produced approx. 1980, with information as of 1845<\/SPAN><\/P> Georeferenced and modified from Brock call # G 3462 W45 1829 N3 no.10, by Map, Data and GIS Library, Brock University. <\/SPAN><\/P> <\/P><\/DIV><\/DIV><\/DIV>",
"extent": {
"xmin": 642281.1318399672,
"ymin": 4778771.189022497,
"xmax": 643445.3363439672,
"ymax": 4780410.640902497,
"spatialReference": {
"wkid": 26917,
"latestWkid": 26917
}
},
"initialExtent": {
"xmin": 642281.1318399672,
"ymin": 4778771.189022497,
"xmax": 643445.3363439672,
"ymax": 4780410.640902497,
"spatialReference": {
"wkid": 26917,
"latestWkid": 26917
}
},
"fullExtent": {
"xmin": 642281.1318399672,
"ymin": 4778771.189022497,
"xmax": 643445.3363439672,
"ymax": 4780410.640902497,
"spatialReference": {
"wkid": 26917,
"latestWkid": 26917
}
},
"hasMultidimensions": false,
"pixelSizeX": 0.16840800000000333,
"pixelSizeY": 0.16840799999995895,
"datasetFormat": "TIFF",
"uncompressedSize": 134596110,
"blockWidth": 128,
"blockHeight": 128,
"compressionType": "None",
"bandNames": [
"Band_1"
],
"allowCopy": true,
"allowAnalysis": true,
"bandCount": 1,
"noDataValue": 256,
"noDataValues": [
256
],
"pixelType": "U16",
"minPixelSize": 0,
"maxPixelSize": 0,
"copyrightText": "Map, Data & GIS Library, Brock University.",
"serviceDataType": "esriImageServiceDataTypeGeneric",
"serviceSourceType": "esriImageServiceSourceTypeDataset",
"minValues": [
23
],
"maxValues": [
255
],
"meanValues": [
234.80466100993
],
"stdvValues": [
27.766676732044
],
"objectIdField": "",
"fields": [],
"capabilities": "Image,Metadata,Mensuration",
"defaultMosaicMethod": "Center",
"allowedMosaicMethods": "",
"sortField": "",
"sortValue": null,
"sortAscending": true,
"mosaicOperator": "First",
"defaultCompressionQuality": 75,
"defaultResamplingMethod": "Bilinear",
"maxImageHeight": 4100,
"maxImageWidth": 15000,
"allowRasterFunction": true,
"rasterFunctionInfos": [
{
"name": "None",
"description": "",
"help": ""
}
],
"rasterTypeInfos": [
{
"name": "Raster Dataset",
"description": "Supports all ArcGIS Raster Datasets",
"help": ""
}
],
"mensurationCapabilities": "Basic",
"hasHistograms": true,
"hasColormap": false,
"hasRasterAttributeTable": false,
"minScale": 0,
"maxScale": 0,
"exportTilesAllowed": false,
"supportsStatistics": false,
"supportsAdvancedQueries": false,
"editFieldsInfo": null,
"ownershipBasedAccessControlForRasters": null,
"allowComputeTiePoints": false,
"useStandardizedQueries": true,
"advancedQueryCapabilities": {
"useStandardizedQueries": true,
"supportsStatistics": false,
"supportsOrderBy": false,
"supportsDistinct": false,
"supportsPagination": false
},
"spatialReference": {
"wkid": 26917,
"latestWkid": 26917
}
}