{
 "currentVersion": 10.91,
 "serviceDescription": "<DIV STYLE=\"text-align:Left;\"><DIV><DIV><P><SPAN>Title on map: St. Catharines Second Welland Canal Period.<\/SPAN><\/P><P><SPAN>Map date: Produced approx. 1980, with informatin as of 1845.<\/SPAN><\/P><P><SPAN>Digital reproduction of map in the Map, Data and GIS Library, Brock University.<\/SPAN><\/P><P><SPAN>Georeferenced and modified from Brock call # G 3462 W45 1829 N3 no.5, by Map, Data and GIS Library, Brock University. <\/SPAN><\/P><P><SPAN /><\/P><\/DIV><\/DIV><\/DIV>",
 "name": "EarlyNiagara/WellandCanal1845Lock4_7",
 "description": "<DIV STYLE=\"text-align:Left;\"><DIV><DIV><P><SPAN>Title on map: St. Catharines Second Welland Canal Period.<\/SPAN><\/P><P><SPAN>Map date: Produced approx. 1980, with informatin as of 1845.<\/SPAN><\/P><P><SPAN>Digital reproduction of map in the Map, Data and GIS Library, Brock University.<\/SPAN><\/P><P><SPAN>Georeferenced and modified from Brock call # G 3462 W45 1829 N3 no.5, by Map, Data and GIS Library, Brock University. <\/SPAN><\/P><P><SPAN /><\/P><\/DIV><\/DIV><\/DIV>",
 "extent": {
  "xmin": -8821087.258816238,
  "ymin": 5334600.446845092,
  "xmax": -8819204.298176238,
  "ymax": 5337180.156415092,
  "spatialReference": {
   "wkid": 102100,
   "latestWkid": 3857
  }
 },
 "initialExtent": {
  "xmin": -8821087.258816238,
  "ymin": 5334600.446845092,
  "xmax": -8819204.298176238,
  "ymax": 5337180.156415092,
  "spatialReference": {
   "wkid": 102100,
   "latestWkid": 3857
  }
 },
 "fullExtent": {
  "xmin": -8821087.258816238,
  "ymin": 5334600.446845092,
  "xmax": -8819204.298176238,
  "ymax": 5337180.156415092,
  "spatialReference": {
   "wkid": 102100,
   "latestWkid": 3857
  }
 },
 "hasMultidimensions": false,
 "pixelSizeX": 0.26746600000002546,
 "pixelSizeY": 0.2674659999999946,
 "datasetFormat": "TIFF",
 "uncompressedSize": 135801600,
 "blockWidth": 128,
 "blockHeight": 128,
 "compressionType": "None",
 "bandNames": [
  "Band_1"
 ],
 "allowCopy": true,
 "allowAnalysis": true,
 "bandCount": 1,
 "noDataValue": 256,
 "noDataValues": [
  256
 ],
 "pixelType": "U16",
 "minPixelSize": 0,
 "maxPixelSize": 0,
 "copyrightText": "Map, Data & GIS Library, Brock University.",
 "serviceDataType": "esriImageServiceDataTypeGeneric",
 "serviceSourceType": "esriImageServiceSourceTypeDataset",
 "minValues": [
  0
 ],
 "maxValues": [
  255
 ],
 "meanValues": [
  238.69160697569
 ],
 "stdvValues": [
  30.924773321041
 ],
 "objectIdField": "",
 "fields": [],
 "capabilities": "Image,Metadata,Mensuration",
 "defaultMosaicMethod": "Center",
 "allowedMosaicMethods": "",
 "sortField": "",
 "sortValue": null,
 "sortAscending": true,
 "mosaicOperator": "First",
 "defaultCompressionQuality": 75,
 "defaultResamplingMethod": "Bilinear",
 "maxImageHeight": 4100,
 "maxImageWidth": 15000,
 "allowRasterFunction": true,
 "rasterFunctionInfos": [
  {
   "name": "None",
   "description": "",
   "help": ""
  }
 ],
 "rasterTypeInfos": [
  {
   "name": "Raster Dataset",
   "description": "Supports all ArcGIS Raster Datasets",
   "help": ""
  }
 ],
 "mensurationCapabilities": "Basic",
 "hasHistograms": true,
 "hasColormap": false,
 "hasRasterAttributeTable": false,
 "minScale": 0,
 "maxScale": 0,
 "exportTilesAllowed": false,
 "supportsStatistics": false,
 "supportsAdvancedQueries": false,
 "editFieldsInfo": null,
 "ownershipBasedAccessControlForRasters": null,
 "allowComputeTiePoints": false,
 "useStandardizedQueries": true,
 "advancedQueryCapabilities": {
  "useStandardizedQueries": true,
  "supportsStatistics": false,
  "supportsOrderBy": false,
  "supportsDistinct": false,
  "supportsPagination": false
 },
 "spatialReference": {
  "wkid": 102100,
  "latestWkid": 3857
 }
}
