{ "currentVersion": 10.91, "serviceDescription": "
Historical map is Map 1 from the Welland Canal Book 1, showing Port Dalhousie's roads, buildings, dry dock and Lock 1 of the First and Second Welland Canal. Includes lot and concession numbers, land owner names, buildings, the 'new' and 'old' harbour, the canal lock, towing path and measurements.<\/SPAN><\/P> Relief shown by hachures.<\/SPAN><\/P> Scale [ca. 1:2,461]<\/SPAN><\/P> Map date: 1850.<\/SPAN><\/P> Digital reproduction of map from the \"Welland Canal Book 1\" located in the James A. Gibson Special Collections' St. Lawrence Seaway Archives. <\/SPAN><\/P> Georeferenced and modified from Brock call# G 3464 P66 1850 V55 by Map, Data and GIS Library, Brock University. <\/SPAN><\/P><\/DIV><\/DIV><\/DIV>",
"name": "EarlyNiagara/WellandCanal1850Bk1Map1",
"description": " Historical map is Map 1 from the Welland Canal Book 1, showing Port Dalhousie's roads, buildings, dry dock and Lock 1 of the First and Second Welland Canal. Includes lot and concession numbers, land owner names, buildings, the 'new' and 'old' harbour, the canal lock, towing path and measurements.<\/SPAN><\/P> Relief shown by hachures.<\/SPAN><\/P> Scale [ca. 1:2,461]<\/SPAN><\/P> Map date: 1850.<\/SPAN><\/P> Digital reproduction of map from the \"Welland Canal Book 1\" located in the James A. Gibson Special Collections' St. Lawrence Seaway Archives. <\/SPAN><\/P> Georeferenced and modified from Brock call# G 3464 P66 1850 V55 by Map, Data and GIS Library, Brock University. <\/SPAN><\/P><\/DIV><\/DIV><\/DIV>",
"extent": {
"xmin": 640143.2982825893,
"ymin": 4783718.876708953,
"xmax": 641296.7106165893,
"ymax": 4785723.474347953,
"spatialReference": {
"wkid": 26917,
"latestWkid": 26917
}
},
"initialExtent": {
"xmin": 640143.2982825893,
"ymin": 4783718.876708953,
"xmax": 641296.7106165893,
"ymax": 4785723.474347953,
"spatialReference": {
"wkid": 26917,
"latestWkid": 26917
}
},
"fullExtent": {
"xmin": 640143.2982825893,
"ymin": 4783718.876708953,
"xmax": 641296.7106165893,
"ymax": 4785723.474347953,
"spatialReference": {
"wkid": 26917,
"latestWkid": 26917
}
},
"hasMultidimensions": false,
"pixelSizeX": 0.24998099999999854,
"pixelSizeY": 0.2499810000000054,
"datasetFormat": "TIFF",
"uncompressedSize": 221997996,
"blockWidth": 128,
"blockHeight": 128,
"compressionType": "None",
"bandNames": [
"Band_1",
"Band_2",
"Band_3"
],
"allowCopy": true,
"allowAnalysis": true,
"bandCount": 3,
"noDataValue": 256,
"noDataValues": [
256,
256,
256
],
"pixelType": "U16",
"minPixelSize": 0,
"maxPixelSize": 0,
"copyrightText": "Upper Canada. Board of Public Works.\n\nMap, Data & GIS Library, Brock University.",
"serviceDataType": "esriImageServiceDataTypeGeneric",
"serviceSourceType": "esriImageServiceSourceTypeDataset",
"minValues": [
0,
0,
0
],
"maxValues": [
255,
255,
255
],
"meanValues": [
239.32520034333,
214.53800178365,
182.50415563402
],
"stdvValues": [
24.702865712435,
25.705450637006,
25.878895299941
],
"objectIdField": "",
"fields": [],
"capabilities": "Image,Metadata,Mensuration",
"defaultMosaicMethod": "Center",
"allowedMosaicMethods": "",
"sortField": "",
"sortValue": null,
"sortAscending": true,
"mosaicOperator": "First",
"defaultCompressionQuality": 75,
"defaultResamplingMethod": "Bilinear",
"maxImageHeight": 4100,
"maxImageWidth": 15000,
"allowRasterFunction": true,
"rasterFunctionInfos": [
{
"name": "None",
"description": "",
"help": ""
}
],
"rasterTypeInfos": [
{
"name": "Raster Dataset",
"description": "Supports all ArcGIS Raster Datasets",
"help": ""
}
],
"mensurationCapabilities": "Basic",
"hasHistograms": true,
"hasColormap": false,
"hasRasterAttributeTable": false,
"minScale": 0,
"maxScale": 0,
"exportTilesAllowed": false,
"supportsStatistics": false,
"supportsAdvancedQueries": false,
"editFieldsInfo": null,
"ownershipBasedAccessControlForRasters": null,
"allowComputeTiePoints": false,
"useStandardizedQueries": true,
"advancedQueryCapabilities": {
"useStandardizedQueries": true,
"supportsStatistics": false,
"supportsOrderBy": false,
"supportsDistinct": false,
"supportsPagination": false
},
"spatialReference": {
"wkid": 26917,
"latestWkid": 26917
}
}