{ "currentVersion": 10.91, "serviceDescription": "
Historical map showing land ownership in area of proposed route for the Third Welland Canal. Gives names of landowner, lot numbers, small section of street plan of St. Catharines in Rolls Ave. and old Lake Road area.<\/SPAN><\/P> Includes table: \"Schedule of land required for canal proposes between the concession line IV & V Township of Grantham and the Mouth of \"May's Ravine.\"<\/SPAN><\/P> Relief shown by hachures.<\/SPAN><\/P> Scale [ca. 1:2,398]<\/SPAN><\/P> Map date: 1873.<\/SPAN><\/P> Digital reproduction of map (51 x 102 cm.) in the Public Archives of Canada. National Map Collection. Library & Archives Canada.<\/SPAN><\/P> Georeferenced and modified from LAC e011168610 by Map, Data and GIS Library, Brock University. <\/SPAN><\/P> <\/P><\/DIV><\/DIV><\/DIV>",
"name": "EarlyNiagara/WellandCanal1873StCatharinesPortDalhousie",
"description": " Historical map showing land ownership in area of proposed route for the Third Welland Canal. Gives names of landowner, lot numbers, small section of street plan of St. Catharines in Rolls Ave. and old Lake Road area.<\/SPAN><\/P> Includes table: \"Schedule of land required for canal proposes between the concession line IV & V Township of Grantham and the Mouth of \"May's Ravine.\"<\/SPAN><\/P> Relief shown by hachures.<\/SPAN><\/P> Scale [ca. 1:2,398]<\/SPAN><\/P> Map date: 1873.<\/SPAN><\/P> Digital reproduction of map (51 x 102 cm.) in the Public Archives of Canada. National Map Collection. Library & Archives Canada.<\/SPAN><\/P> Georeferenced and modified from LAC e011168610 by Map, Data and GIS Library, Brock University. <\/SPAN><\/P> <\/P><\/DIV><\/DIV><\/DIV>",
"extent": {
"xmin": 639230.0530416996,
"ymin": 4780495.406102365,
"xmax": 644718.6728416996,
"ymax": 4785138.520502365,
"spatialReference": {
"wkid": 26917,
"latestWkid": 26917
}
},
"initialExtent": {
"xmin": 639230.0530416996,
"ymin": 4780495.406102365,
"xmax": 644718.6728416996,
"ymax": 4785138.520502365,
"spatialReference": {
"wkid": 26917,
"latestWkid": 26917
}
},
"fullExtent": {
"xmin": 639230.0530416996,
"ymin": 4780495.406102365,
"xmax": 644718.6728416996,
"ymax": 4785138.520502365,
"spatialReference": {
"wkid": 26917,
"latestWkid": 26917
}
},
"hasMultidimensions": false,
"pixelSizeX": 1.4330599999999962,
"pixelSizeY": 1.4330600000000961,
"datasetFormat": "TIFF",
"uncompressedSize": 74455200,
"blockWidth": 128,
"blockHeight": 128,
"compressionType": "None",
"bandNames": [
"Band_1",
"Band_2",
"Band_3"
],
"allowCopy": true,
"allowAnalysis": true,
"bandCount": 3,
"noDataValue": 256,
"noDataValues": [
256,
256,
256
],
"pixelType": "U16",
"minPixelSize": 0,
"maxPixelSize": 0,
"copyrightText": "Signed by George Gibson, P.S. Surveyor.\nMap, Data & GIS Library, Brock University.",
"serviceDataType": "esriImageServiceDataTypeGeneric",
"serviceSourceType": "esriImageServiceSourceTypeDataset",
"minValues": [],
"maxValues": [],
"meanValues": [],
"stdvValues": [],
"objectIdField": "",
"fields": [],
"capabilities": "Image,Metadata,Mensuration",
"defaultMosaicMethod": "Center",
"allowedMosaicMethods": "",
"sortField": "",
"sortValue": null,
"sortAscending": true,
"mosaicOperator": "First",
"defaultCompressionQuality": 75,
"defaultResamplingMethod": "Bilinear",
"maxImageHeight": 4100,
"maxImageWidth": 15000,
"allowRasterFunction": true,
"rasterFunctionInfos": [
{
"name": "None",
"description": "",
"help": ""
}
],
"rasterTypeInfos": [
{
"name": "Raster Dataset",
"description": "Supports all ArcGIS Raster Datasets",
"help": ""
}
],
"mensurationCapabilities": "Basic",
"hasHistograms": false,
"hasColormap": false,
"hasRasterAttributeTable": false,
"minScale": 0,
"maxScale": 0,
"exportTilesAllowed": false,
"supportsStatistics": false,
"supportsAdvancedQueries": false,
"editFieldsInfo": null,
"ownershipBasedAccessControlForRasters": null,
"allowComputeTiePoints": false,
"useStandardizedQueries": true,
"advancedQueryCapabilities": {
"useStandardizedQueries": true,
"supportsStatistics": false,
"supportsOrderBy": false,
"supportsDistinct": false,
"supportsPagination": false
},
"spatialReference": {
"wkid": 26917,
"latestWkid": 26917
}
}