{ "currentVersion": 10.91, "serviceDescription": "
Historical map showing land ownership in area of proposed route for the Third Welland Canal. Gives names of landowner, lot numbers, small section of street plan of St. Catharines in Rolls Ave. and old Lake Road area.<\/SPAN><\/P> Includes table: \"Schedule of land required for canal proposes between the concession line IV & V Township of Grantham and the Mouth of \"May's Ravine.\"<\/SPAN><\/P> Signed: Geo Gibson, P.L. Surveyor, July 1873.<\/SPAN><\/P> Includes stamp from the Thorold Office.<\/SPAN><\/P> Relief shown by hachures.<\/SPAN><\/P> Scale: 3 chains per inch.<\/SPAN><\/P> Map date: 1873<\/SPAN><\/P> Digital reproduction of map in the Public Archives of Canada. National Map Collection. Library & Archives Canada.<\/SPAN><\/P> Georeferenced and modified from LAC <\/SPAN>e011168613 <\/SPAN>by Map, Data and GIS Library, Brock University. <\/SPAN><\/P> <\/P><\/DIV><\/DIV><\/DIV>",
"name": "EarlyNiagara/WellandCanal1873StCatharinesPortDalhousieGeoGibson",
"description": " Historical map showing land ownership in area of proposed route for the Third Welland Canal. Gives names of landowner, lot numbers, small section of street plan of St. Catharines in Rolls Ave. and old Lake Road area.<\/SPAN><\/P> Includes table: \"Schedule of land required for canal proposes between the concession line IV & V Township of Grantham and the Mouth of \"May's Ravine.\"<\/SPAN><\/P> Signed: Geo Gibson, P.L. Surveyor, July 1873.<\/SPAN><\/P> Includes stamp from the Thorold Office.<\/SPAN><\/P> Relief shown by hachures.<\/SPAN><\/P> Scale: 3 chains per inch.<\/SPAN><\/P> Map date: 1873<\/SPAN><\/P> Digital reproduction of map in the Public Archives of Canada. National Map Collection. Library & Archives Canada.<\/SPAN><\/P> Georeferenced and modified from LAC <\/SPAN>e011168613 <\/SPAN>by Map, Data and GIS Library, Brock University. <\/SPAN><\/P> <\/P><\/DIV><\/DIV><\/DIV>",
"extent": {
"xmin": 639435.3630686341,
"ymin": 4781207.565994546,
"xmax": 644505.3196856341,
"ymax": 4784501.365384546,
"spatialReference": {
"wkid": 26917,
"latestWkid": 26917
}
},
"initialExtent": {
"xmin": 639435.3630686341,
"ymin": 4781207.565994546,
"xmax": 644505.3196856341,
"ymax": 4784501.365384546,
"spatialReference": {
"wkid": 26917,
"latestWkid": 26917
}
},
"fullExtent": {
"xmin": 639435.3630686341,
"ymin": 4781207.565994546,
"xmax": 644505.3196856341,
"ymax": 4784501.365384546,
"spatialReference": {
"wkid": 26917,
"latestWkid": 26917
}
},
"hasMultidimensions": false,
"pixelSizeX": 0.5669190000000053,
"pixelSizeY": 0.5669190000000501,
"datasetFormat": "TIFF",
"uncompressedSize": 311752980,
"blockWidth": 128,
"blockHeight": 128,
"compressionType": "None",
"bandNames": [
"Band_1",
"Band_2",
"Band_3"
],
"allowCopy": true,
"allowAnalysis": true,
"bandCount": 3,
"noDataValue": 256,
"noDataValues": [
256,
256,
256
],
"pixelType": "U16",
"minPixelSize": 0,
"maxPixelSize": 0,
"copyrightText": "Signed: Geo Gibson\nMap, Data & GIS Library, Brock University.",
"serviceDataType": "esriImageServiceDataTypeGeneric",
"serviceSourceType": "esriImageServiceSourceTypeDataset",
"minValues": [
28,
30,
25
],
"maxValues": [
253,
244,
229
],
"meanValues": [
218.98951081906,
204.58851955905,
182.72489462883
],
"stdvValues": [
20.665690437899,
20.664190982253,
20.405495908733
],
"objectIdField": "",
"fields": [],
"capabilities": "Image,Metadata,Mensuration",
"defaultMosaicMethod": "Center",
"allowedMosaicMethods": "",
"sortField": "",
"sortValue": null,
"sortAscending": true,
"mosaicOperator": "First",
"defaultCompressionQuality": 75,
"defaultResamplingMethod": "Bilinear",
"maxImageHeight": 4100,
"maxImageWidth": 15000,
"allowRasterFunction": true,
"rasterFunctionInfos": [
{
"name": "None",
"description": "",
"help": ""
}
],
"rasterTypeInfos": [
{
"name": "Raster Dataset",
"description": "Supports all ArcGIS Raster Datasets",
"help": ""
}
],
"mensurationCapabilities": "Basic",
"hasHistograms": true,
"hasColormap": false,
"hasRasterAttributeTable": false,
"minScale": 0,
"maxScale": 0,
"exportTilesAllowed": false,
"supportsStatistics": false,
"supportsAdvancedQueries": false,
"editFieldsInfo": null,
"ownershipBasedAccessControlForRasters": null,
"allowComputeTiePoints": false,
"useStandardizedQueries": true,
"advancedQueryCapabilities": {
"useStandardizedQueries": true,
"supportsStatistics": false,
"supportsOrderBy": false,
"supportsDistinct": false,
"supportsPagination": false
},
"spatialReference": {
"wkid": 26917,
"latestWkid": 26917
}
}