{ "currentVersion": 10.91, "serviceDescription": "
Historical map showing land ownership in area of proposed route for the Third Welland Canal. Gives names of landowner, lot numbers, small section of street plan of St. Catharines in Rolls Ave. and old Lake Road area.<\/SPAN><\/P> A chart indicates land required for canal purposes giving owner's name, lot and concession and approximate acreage. <\/SPAN><\/P> Relief shown by hachures<\/SPAN><\/P> Scale 3 chains per inch.<\/SPAN><\/P> Signed: Thomas Monro and John Page. Thorold, Aug. 1, 1873<\/SPAN><\/P> Map Date: 1873.<\/SPAN><\/P> Library Archives Canada attributes this map to George Monro Gibson, though his signature is not on this version.<\/SPAN><\/P> Digital reproduction of map in the Public Archives of Canada. National Map Collection. Library & Archives Canada.<\/SPAN><\/P> Georeferenced and modified from LAC e011168611 by Map, Data and GIS Library, Brock University. <\/SPAN><\/P> <\/P><\/DIV><\/DIV><\/DIV>",
"name": "EarlyNiagara/WellandCanal1873StCatharinesPortDalhousieGeoGibson2",
"description": " Historical map showing land ownership in area of proposed route for the Third Welland Canal. Gives names of landowner, lot numbers, small section of street plan of St. Catharines in Rolls Ave. and old Lake Road area.<\/SPAN><\/P> A chart indicates land required for canal purposes giving owner's name, lot and concession and approximate acreage. <\/SPAN><\/P> Relief shown by hachures<\/SPAN><\/P> Scale 3 chains per inch.<\/SPAN><\/P> Signed: Thomas Monro and John Page. Thorold, Aug. 1, 1873<\/SPAN><\/P> Map Date: 1873.<\/SPAN><\/P> Library Archives Canada attributes this map to George Monro Gibson, though his signature is not on this version.<\/SPAN><\/P> Digital reproduction of map in the Public Archives of Canada. National Map Collection. Library & Archives Canada.<\/SPAN><\/P> Georeferenced and modified from LAC e011168611 by Map, Data and GIS Library, Brock University. <\/SPAN><\/P> <\/P><\/DIV><\/DIV><\/DIV>",
"extent": {
"xmin": 639818.5252723033,
"ymin": 4781061.34630552,
"xmax": 644016.5437363032,
"ymax": 4784881.247227521,
"spatialReference": {
"wkid": 26917,
"latestWkid": 26917
}
},
"initialExtent": {
"xmin": 639818.5252723033,
"ymin": 4781061.34630552,
"xmax": 644016.5437363032,
"ymax": 4784881.247227521,
"spatialReference": {
"wkid": 26917,
"latestWkid": 26917
}
},
"fullExtent": {
"xmin": 639818.5252723033,
"ymin": 4781061.34630552,
"xmax": 644016.5437363032,
"ymax": 4784881.247227521,
"spatialReference": {
"wkid": 26917,
"latestWkid": 26917
}
},
"hasMultidimensions": false,
"pixelSizeX": 0.4351179999999963,
"pixelSizeY": 0.43511800000004647,
"datasetFormat": "TIFF",
"uncompressedSize": 508198752,
"blockWidth": 128,
"blockHeight": 128,
"compressionType": "None",
"bandNames": [
"Band_1",
"Band_2",
"Band_3"
],
"allowCopy": true,
"allowAnalysis": true,
"bandCount": 3,
"noDataValue": 256,
"noDataValues": [
256,
256,
256
],
"pixelType": "U16",
"minPixelSize": 0,
"maxPixelSize": 0,
"copyrightText": "Signed: Thomas Monroe\nSigned: John Page\nAttributed to: George Monro Gibson\nMap, Data & GIS Library, Brock University.",
"serviceDataType": "esriImageServiceDataTypeGeneric",
"serviceSourceType": "esriImageServiceSourceTypeDataset",
"minValues": [
26,
16,
8
],
"maxValues": [
255,
255,
255
],
"meanValues": [
173.37763731806,
166.83664892616,
152.77892220509
],
"stdvValues": [
20.073658561763,
19.97673176842,
19.14446617524
],
"objectIdField": "",
"fields": [],
"capabilities": "Image,Metadata,Mensuration",
"defaultMosaicMethod": "Center",
"allowedMosaicMethods": "",
"sortField": "",
"sortValue": null,
"sortAscending": true,
"mosaicOperator": "First",
"defaultCompressionQuality": 75,
"defaultResamplingMethod": "Bilinear",
"maxImageHeight": 4100,
"maxImageWidth": 15000,
"allowRasterFunction": true,
"rasterFunctionInfos": [
{
"name": "None",
"description": "",
"help": ""
}
],
"rasterTypeInfos": [
{
"name": "Raster Dataset",
"description": "Supports all ArcGIS Raster Datasets",
"help": ""
}
],
"mensurationCapabilities": "Basic",
"hasHistograms": true,
"hasColormap": false,
"hasRasterAttributeTable": false,
"minScale": 0,
"maxScale": 0,
"exportTilesAllowed": false,
"supportsStatistics": false,
"supportsAdvancedQueries": false,
"editFieldsInfo": null,
"ownershipBasedAccessControlForRasters": null,
"allowComputeTiePoints": false,
"useStandardizedQueries": true,
"advancedQueryCapabilities": {
"useStandardizedQueries": true,
"supportsStatistics": false,
"supportsOrderBy": false,
"supportsDistinct": false,
"supportsPagination": false
},
"spatialReference": {
"wkid": 26917,
"latestWkid": 26917
}
}