{ "currentVersion": 10.91, "serviceDescription": "
Historical map showing streets, buildings in the Village of Thorold. the Welland Railway and the Welland Canal<\/SPAN><\/P> Scale 1 in to 100 ft.<\/SPAN><\/P> Digital reproduction of map in the Public Archives of Canada. National Map Collection. Library & Archives Canada.<\/SPAN><\/P> Relief shown by hachures<\/SPAN><\/P> Georeferenced and modified from LAC <\/SPAN>e011168614<\/SPAN><\/SPAN>by Map, Data and GIS Library, Brock University. <\/SPAN><\/P> <\/P><\/DIV><\/DIV><\/DIV>",
"name": "EarlyNiagara/WellandCanal1874WellandRailwayThorold",
"description": " Historical map showing streets, buildings in the Village of Thorold. the Welland Railway and the Welland Canal<\/SPAN><\/P> Scale 1 in to 100 ft.<\/SPAN><\/P> Digital reproduction of map in the Public Archives of Canada. National Map Collection. Library & Archives Canada.<\/SPAN><\/P> Relief shown by hachures<\/SPAN><\/P> Georeferenced and modified from LAC <\/SPAN>e011168614<\/SPAN><\/SPAN>by Map, Data and GIS Library, Brock University. <\/SPAN><\/P> <\/P><\/DIV><\/DIV><\/DIV>",
"extent": {
"xmin": 646505.7740617493,
"ymin": 4775787.840312966,
"xmax": 647256.9714457494,
"ymax": 4777611.693420966,
"spatialReference": {
"wkid": 26917,
"latestWkid": 26917
}
},
"initialExtent": {
"xmin": 646505.7740617493,
"ymin": 4775787.840312966,
"xmax": 647256.9714457494,
"ymax": 4777611.693420966,
"spatialReference": {
"wkid": 26917,
"latestWkid": 26917
}
},
"fullExtent": {
"xmin": 646505.7740617493,
"ymin": 4775787.840312966,
"xmax": 647256.9714457494,
"ymax": 4777611.693420966,
"spatialReference": {
"wkid": 26917,
"latestWkid": 26917
}
},
"hasMultidimensions": false,
"pixelSizeX": 0.563962000000043,
"pixelSizeY": 0.5639620000000032,
"datasetFormat": "TIFF",
"uncompressedSize": 25846128,
"blockWidth": 128,
"blockHeight": 128,
"compressionType": "None",
"bandNames": [
"Band_1",
"Band_2",
"Band_3"
],
"allowCopy": true,
"allowAnalysis": true,
"bandCount": 3,
"noDataValue": 256,
"noDataValues": [
256,
256,
256
],
"pixelType": "U16",
"minPixelSize": 0,
"maxPixelSize": 0,
"copyrightText": "Signed: Thomas Monro\nSigned: John Page\nMap, Data & GIS Library, Brock University.",
"serviceDataType": "esriImageServiceDataTypeGeneric",
"serviceSourceType": "esriImageServiceSourceTypeDataset",
"minValues": [
0,
0,
0
],
"maxValues": [
271,
271,
271
],
"meanValues": [
228.16495102236,
212.67205950677,
185.63944561024
],
"stdvValues": [
16.124350267837,
19.226730145845,
23.786419841167
],
"objectIdField": "",
"fields": [],
"capabilities": "Image,Metadata,Mensuration",
"defaultMosaicMethod": "Center",
"allowedMosaicMethods": "",
"sortField": "",
"sortValue": null,
"sortAscending": true,
"mosaicOperator": "First",
"defaultCompressionQuality": 75,
"defaultResamplingMethod": "Bilinear",
"maxImageHeight": 4100,
"maxImageWidth": 15000,
"allowRasterFunction": true,
"rasterFunctionInfos": [
{
"name": "None",
"description": "",
"help": ""
}
],
"rasterTypeInfos": [
{
"name": "Raster Dataset",
"description": "Supports all ArcGIS Raster Datasets",
"help": ""
}
],
"mensurationCapabilities": "Basic",
"hasHistograms": true,
"hasColormap": false,
"hasRasterAttributeTable": false,
"minScale": 0,
"maxScale": 0,
"exportTilesAllowed": false,
"supportsStatistics": false,
"supportsAdvancedQueries": false,
"editFieldsInfo": null,
"ownershipBasedAccessControlForRasters": null,
"allowComputeTiePoints": false,
"useStandardizedQueries": true,
"advancedQueryCapabilities": {
"useStandardizedQueries": true,
"supportsStatistics": false,
"supportsOrderBy": false,
"supportsDistinct": false,
"supportsPagination": false
},
"spatialReference": {
"wkid": 26917,
"latestWkid": 26917
}
}