{ "currentVersion": 10.91, "serviceDescription": "
Historical map of the Second Welland Canal showing elevation and soundings and bore hole measurements, buildings and canal features. <\/SPAN><\/P> Includes cross sections.<\/SPAN><\/P> Scale 1 inch to 80 feet.<\/SPAN><\/P> Relief shown by hachures and shading.<\/SPAN><\/P> Map date: 1875.<\/SPAN><\/P> Digital reproduction of map (46 x 95 cm.) in the Public Archives of Canada. National Map Collection. Library & Archives Canada.<\/SPAN><\/P> Georeferenced and modified from LAC <\/SPAN>e011168615 <\/SPAN><\/SPAN>by Map, Data and GIS Library, Brock University. <\/SPAN><\/P> <\/P><\/DIV><\/DIV><\/DIV>",
"name": "EarlyNiagara/WellandCanal1875Section1",
"description": " Historical map of the Second Welland Canal showing elevation and soundings and bore hole measurements, buildings and canal features. <\/SPAN><\/P> Includes cross sections.<\/SPAN><\/P> Scale 1 inch to 80 feet.<\/SPAN><\/P> Relief shown by hachures and shading.<\/SPAN><\/P> Map date: 1875.<\/SPAN><\/P> Digital reproduction of map (46 x 95 cm.) in the Public Archives of Canada. National Map Collection. Library & Archives Canada.<\/SPAN><\/P> Georeferenced and modified from LAC <\/SPAN>e011168615 <\/SPAN><\/SPAN>by Map, Data and GIS Library, Brock University. <\/SPAN><\/P> <\/P><\/DIV><\/DIV><\/DIV>",
"extent": {
"xmin": 640205.1696913741,
"ymin": 4783323.6125809625,
"xmax": 641736.100951374,
"ymax": 4785865.276312962,
"spatialReference": {
"wkid": 26917,
"latestWkid": 26917
}
},
"initialExtent": {
"xmin": 640205.1696913741,
"ymin": 4783323.6125809625,
"xmax": 641736.100951374,
"ymax": 4785865.276312962,
"spatialReference": {
"wkid": 26917,
"latestWkid": 26917
}
},
"fullExtent": {
"xmin": 640205.1696913741,
"ymin": 4783323.6125809625,
"xmax": 641736.100951374,
"ymax": 4785865.276312962,
"spatialReference": {
"wkid": 26917,
"latestWkid": 26917
}
},
"hasMultidimensions": false,
"pixelSizeX": 0.5297339999999942,
"pixelSizeY": 0.5297339999999365,
"datasetFormat": "TIFF",
"uncompressedSize": 83197320,
"blockWidth": 128,
"blockHeight": 128,
"compressionType": "None",
"bandNames": [
"Band_1",
"Band_2",
"Band_3"
],
"allowCopy": true,
"allowAnalysis": true,
"bandCount": 3,
"noDataValue": 256,
"noDataValues": [
256,
256,
256
],
"pixelType": "U16",
"minPixelSize": 0,
"maxPixelSize": 0,
"copyrightText": "Signed: Thomas Monro\nMap, Data & GIS Library, Brock University.",
"serviceDataType": "esriImageServiceDataTypeGeneric",
"serviceSourceType": "esriImageServiceSourceTypeDataset",
"minValues": [],
"maxValues": [],
"meanValues": [],
"stdvValues": [],
"objectIdField": "",
"fields": [],
"capabilities": "Image,Metadata,Mensuration",
"defaultMosaicMethod": "Center",
"allowedMosaicMethods": "",
"sortField": "",
"sortValue": null,
"sortAscending": true,
"mosaicOperator": "First",
"defaultCompressionQuality": 75,
"defaultResamplingMethod": "Bilinear",
"maxImageHeight": 4100,
"maxImageWidth": 15000,
"allowRasterFunction": true,
"rasterFunctionInfos": [
{
"name": "None",
"description": "",
"help": ""
}
],
"rasterTypeInfos": [
{
"name": "Raster Dataset",
"description": "Supports all ArcGIS Raster Datasets",
"help": ""
}
],
"mensurationCapabilities": "Basic",
"hasHistograms": false,
"hasColormap": false,
"hasRasterAttributeTable": false,
"minScale": 0,
"maxScale": 0,
"exportTilesAllowed": false,
"supportsStatistics": false,
"supportsAdvancedQueries": false,
"editFieldsInfo": null,
"ownershipBasedAccessControlForRasters": null,
"allowComputeTiePoints": false,
"useStandardizedQueries": true,
"advancedQueryCapabilities": {
"useStandardizedQueries": true,
"supportsStatistics": false,
"supportsOrderBy": false,
"supportsDistinct": false,
"supportsPagination": false
},
"spatialReference": {
"wkid": 26917,
"latestWkid": 26917
}
}