{ "currentVersion": 10.91, "serviceDescription": "
Historical map of the Second Welland Canal showing, streets, lot numbers, land owers, road allowances, railway.<\/SPAN><\/P> Scale: 1 inch to 3 chains.<\/SPAN><\/P> Map date: 1876.<\/SPAN><\/P> Digital reproduction of map in the Public Archives of Canada. National Map Collection. Library & Archives Canada.<\/SPAN><\/P> Georeferenced and modified from LAC <\/SPAN>e011168616 <\/SPAN><\/SPAN>by Map, Data and GIS Library, Brock University. <\/SPAN><\/P> <\/P><\/DIV><\/DIV><\/DIV>",
"name": "EarlyNiagara/WellandCanal1876ThoroldAllanburg",
"description": " Historical map of the Second Welland Canal showing, streets, lot numbers, land owers, road allowances, railway.<\/SPAN><\/P> Scale: 1 inch to 3 chains.<\/SPAN><\/P> Map date: 1876.<\/SPAN><\/P> Digital reproduction of map in the Public Archives of Canada. National Map Collection. Library & Archives Canada.<\/SPAN><\/P> Georeferenced and modified from LAC <\/SPAN>e011168616 <\/SPAN><\/SPAN>by Map, Data and GIS Library, Brock University. <\/SPAN><\/P> <\/P><\/DIV><\/DIV><\/DIV>",
"extent": {
"xmin": 643843.2757411078,
"ymin": 4769609.294023194,
"xmax": 647338.2291541077,
"ymax": 4775850.195550194,
"spatialReference": {
"wkid": 26917,
"latestWkid": 26917
}
},
"initialExtent": {
"xmin": 643843.2757411078,
"ymin": 4769609.294023194,
"xmax": 647338.2291541077,
"ymax": 4775850.195550194,
"spatialReference": {
"wkid": 26917,
"latestWkid": 26917
}
},
"fullExtent": {
"xmin": 643843.2757411078,
"ymin": 4769609.294023194,
"xmax": 647338.2291541077,
"ymax": 4775850.195550194,
"spatialReference": {
"wkid": 26917,
"latestWkid": 26917
}
},
"hasMultidimensions": false,
"pixelSizeX": 1.2139469999999934,
"pixelSizeY": 1.213946999999934,
"datasetFormat": "TIFF",
"uncompressedSize": 88805634,
"blockWidth": 128,
"blockHeight": 128,
"compressionType": "None",
"bandNames": [
"Band_1",
"Band_2",
"Band_3"
],
"allowCopy": true,
"allowAnalysis": true,
"bandCount": 3,
"noDataValue": 256,
"noDataValues": [
256,
256,
256
],
"pixelType": "U16",
"minPixelSize": 0,
"maxPixelSize": 0,
"copyrightText": "Signed: George Gibson\nMap, Data & GIS Library, Brock University.",
"serviceDataType": "esriImageServiceDataTypeGeneric",
"serviceSourceType": "esriImageServiceSourceTypeDataset",
"minValues": [],
"maxValues": [],
"meanValues": [],
"stdvValues": [],
"objectIdField": "",
"fields": [],
"capabilities": "Image,Metadata,Mensuration",
"defaultMosaicMethod": "Center",
"allowedMosaicMethods": "",
"sortField": "",
"sortValue": null,
"sortAscending": true,
"mosaicOperator": "First",
"defaultCompressionQuality": 75,
"defaultResamplingMethod": "Bilinear",
"maxImageHeight": 4100,
"maxImageWidth": 15000,
"allowRasterFunction": true,
"rasterFunctionInfos": [
{
"name": "None",
"description": "",
"help": ""
}
],
"rasterTypeInfos": [
{
"name": "Raster Dataset",
"description": "Supports all ArcGIS Raster Datasets",
"help": ""
}
],
"mensurationCapabilities": "Basic",
"hasHistograms": false,
"hasColormap": false,
"hasRasterAttributeTable": false,
"minScale": 0,
"maxScale": 0,
"exportTilesAllowed": false,
"supportsStatistics": false,
"supportsAdvancedQueries": false,
"editFieldsInfo": null,
"ownershipBasedAccessControlForRasters": null,
"allowComputeTiePoints": false,
"useStandardizedQueries": true,
"advancedQueryCapabilities": {
"useStandardizedQueries": true,
"supportsStatistics": false,
"supportsOrderBy": false,
"supportsDistinct": false,
"supportsPagination": false
},
"spatialReference": {
"wkid": 26917,
"latestWkid": 26917
}
}