{ "currentVersion": 10.91, "serviceDescription": "
Historical map showing the canal at lot no. 26, towing path, back ditch, measurements, road allowance.<\/SPAN><\/P> Relief shown by hachures.<\/SPAN><\/P> Scale 1 inch to 4 chains<\/SPAN><\/P> Map date: 1878<\/SPAN><\/P> Title supplied by Public Archives of Canada.<\/SPAN><\/P> Digital reproduction of map (8 1/4 x 14 1/2 in.) in the Public Archives of Canada. National Map Collection. Library & Archives Canada.<\/SPAN><\/P> Georeferenced and modified from LAC <\/SPAN>e011168601<\/SPAN><\/SPAN>by Map, Data and GIS Library, Brock University. <\/SPAN><\/P> <\/P><\/DIV><\/DIV><\/DIV>",
"name": "EarlyNiagara/WellandCanal1878Lot26Con3Humberstone",
"description": " Historical map showing the canal at lot no. 26, towing path, back ditch, measurements, road allowance.<\/SPAN><\/P> Relief shown by hachures.<\/SPAN><\/P> Scale 1 inch to 4 chains<\/SPAN><\/P> Map date: 1878<\/SPAN><\/P> Title supplied by Public Archives of Canada.<\/SPAN><\/P> Digital reproduction of map (8 1/4 x 14 1/2 in.) in the Public Archives of Canada. National Map Collection. Library & Archives Canada.<\/SPAN><\/P> Georeferenced and modified from LAC <\/SPAN>e011168601<\/SPAN><\/SPAN>by Map, Data and GIS Library, Brock University. <\/SPAN><\/P> <\/P><\/DIV><\/DIV><\/DIV>",
"extent": {
"xmin": 643097.544774526,
"ymin": 4752981.63286327,
"xmax": 643773.096728526,
"ymax": 4754103.42907727,
"spatialReference": {
"wkid": 26917,
"latestWkid": 26917
}
},
"initialExtent": {
"xmin": 643097.544774526,
"ymin": 4752981.63286327,
"xmax": 643773.096728526,
"ymax": 4754103.42907727,
"spatialReference": {
"wkid": 26917,
"latestWkid": 26917
}
},
"fullExtent": {
"xmin": 643097.544774526,
"ymin": 4752981.63286327,
"xmax": 643773.096728526,
"ymax": 4754103.42907727,
"spatialReference": {
"wkid": 26917,
"latestWkid": 26917
}
},
"hasMultidimensions": false,
"pixelSizeX": 0.44182600000001576,
"pixelSizeY": 0.4418260000001268,
"datasetFormat": "TIFF",
"uncompressedSize": 23292786,
"blockWidth": 128,
"blockHeight": 128,
"compressionType": "None",
"bandNames": [
"Band_1",
"Band_2",
"Band_3"
],
"allowCopy": true,
"allowAnalysis": true,
"bandCount": 3,
"noDataValue": 256,
"noDataValues": [
256,
256,
256
],
"pixelType": "U16",
"minPixelSize": 0,
"maxPixelSize": 0,
"copyrightText": "Name prined on map: \"J, Wright formerly E.H. Carver\"\n\nMap, Data & GIS Library, Brock University.",
"serviceDataType": "esriImageServiceDataTypeGeneric",
"serviceSourceType": "esriImageServiceSourceTypeDataset",
"minValues": [
2,
1,
2
],
"maxValues": [
247,
241,
230
],
"meanValues": [
210.56072037005,
205.73826219434,
194.15376451717
],
"stdvValues": [
23.744914381096,
25.559401464342,
23.687403395924
],
"objectIdField": "",
"fields": [],
"capabilities": "Image,Metadata,Mensuration",
"defaultMosaicMethod": "Center",
"allowedMosaicMethods": "",
"sortField": "",
"sortValue": null,
"sortAscending": true,
"mosaicOperator": "First",
"defaultCompressionQuality": 75,
"defaultResamplingMethod": "Bilinear",
"maxImageHeight": 4100,
"maxImageWidth": 15000,
"allowRasterFunction": true,
"rasterFunctionInfos": [
{
"name": "None",
"description": "",
"help": ""
}
],
"rasterTypeInfos": [
{
"name": "Raster Dataset",
"description": "Supports all ArcGIS Raster Datasets",
"help": ""
}
],
"mensurationCapabilities": "Basic",
"hasHistograms": true,
"hasColormap": false,
"hasRasterAttributeTable": false,
"minScale": 0,
"maxScale": 0,
"exportTilesAllowed": false,
"supportsStatistics": false,
"supportsAdvancedQueries": false,
"editFieldsInfo": null,
"ownershipBasedAccessControlForRasters": null,
"allowComputeTiePoints": false,
"useStandardizedQueries": true,
"advancedQueryCapabilities": {
"useStandardizedQueries": true,
"supportsStatistics": false,
"supportsOrderBy": false,
"supportsDistinct": false,
"supportsPagination": false
},
"spatialReference": {
"wkid": 26917,
"latestWkid": 26917
}
}