{ "currentVersion": 10.91, "serviceDescription": "
Historical map showing routes of Second and Third Welland Canal, escarpment, ravines of creeks, rivers, weirs, supply basins, raceways, and position of locks on the third Canal, concession and lot numbers, landowners names, townships.<\/SPAN><\/P> At head of title: \"Sheet \"C\"\"<\/SPAN><\/P> Relief shown by shading.<\/SPAN><\/P> Scale [ca. 1:15,240]<\/SPAN><\/P> Map date: 1879.<\/SPAN><\/P> Digital reproduction of map (59 x 91 cm.) in the Public Archives of Canada. National Map Collection. Library & Archives Canada.<\/SPAN><\/P> Georeferenced and modified from MapHst <\/SPAN>G 3462 W45 1879 M65 <\/SPAN><\/SPAN>by Map, Data and GIS Library, Brock University. <\/SPAN><\/P> <\/P><\/DIV><\/DIV><\/DIV>",
"name": "EarlyNiagara/WellandCanal1879AllanburgPortDalhousie",
"description": " Historical map showing routes of Second and Third Welland Canal, escarpment, ravines of creeks, rivers, weirs, supply basins, raceways, and position of locks on the third Canal, concession and lot numbers, landowners names, townships.<\/SPAN><\/P> At head of title: \"Sheet \"C\"\"<\/SPAN><\/P> Relief shown by shading.<\/SPAN><\/P> Scale [ca. 1:15,240]<\/SPAN><\/P> Map date: 1879.<\/SPAN><\/P> Digital reproduction of map (59 x 91 cm.) in the Public Archives of Canada. National Map Collection. Library & Archives Canada.<\/SPAN><\/P> Georeferenced and modified from MapHst <\/SPAN>G 3462 W45 1879 M65 <\/SPAN><\/SPAN>by Map, Data and GIS Library, Brock University. <\/SPAN><\/P> <\/P><\/DIV><\/DIV><\/DIV>",
"extent": {
"xmin": 634553.5219370718,
"ymin": 4769134.276930997,
"xmax": 653054.2095590718,
"ymax": 4786751.748364997,
"spatialReference": {
"wkid": 26917,
"latestWkid": 26917
}
},
"initialExtent": {
"xmin": 634553.5219370718,
"ymin": 4769134.276930997,
"xmax": 653054.2095590718,
"ymax": 4786751.748364997,
"spatialReference": {
"wkid": 26917,
"latestWkid": 26917
}
},
"fullExtent": {
"xmin": 634553.5219370718,
"ymin": 4769134.276930997,
"xmax": 653054.2095590718,
"ymax": 4786751.748364997,
"spatialReference": {
"wkid": 26917,
"latestWkid": 26917
}
},
"hasMultidimensions": false,
"pixelSizeX": 0.9968579999999999,
"pixelSizeY": 0.996857999999997,
"datasetFormat": "TIFF",
"uncompressedSize": 655986414,
"blockWidth": 128,
"blockHeight": 128,
"compressionType": "None",
"bandNames": [
"Band_1"
],
"allowCopy": true,
"allowAnalysis": true,
"bandCount": 1,
"noDataValue": 256,
"noDataValues": [
256
],
"pixelType": "U16",
"minPixelSize": 0,
"maxPixelSize": 0,
"copyrightText": "signed: Thomas Monro\nsigned: John Page\nPublished: Montreal : Burland Lithographic Co.\nMap, Data & GIS Library, Brock University.",
"serviceDataType": "esriImageServiceDataTypeGeneric",
"serviceSourceType": "esriImageServiceSourceTypeDataset",
"minValues": [
0
],
"maxValues": [
255
],
"meanValues": [
233.58169627867
],
"stdvValues": [
58.732546596046
],
"objectIdField": "",
"fields": [],
"capabilities": "Image,Metadata,Mensuration",
"defaultMosaicMethod": "Center",
"allowedMosaicMethods": "",
"sortField": "",
"sortValue": null,
"sortAscending": true,
"mosaicOperator": "First",
"defaultCompressionQuality": 75,
"defaultResamplingMethod": "Bilinear",
"maxImageHeight": 4100,
"maxImageWidth": 15000,
"allowRasterFunction": true,
"rasterFunctionInfos": [
{
"name": "None",
"description": "",
"help": ""
}
],
"rasterTypeInfos": [
{
"name": "Raster Dataset",
"description": "Supports all ArcGIS Raster Datasets",
"help": ""
}
],
"mensurationCapabilities": "Basic",
"hasHistograms": true,
"hasColormap": false,
"hasRasterAttributeTable": false,
"minScale": 0,
"maxScale": 0,
"exportTilesAllowed": false,
"supportsStatistics": false,
"supportsAdvancedQueries": false,
"editFieldsInfo": null,
"ownershipBasedAccessControlForRasters": null,
"allowComputeTiePoints": false,
"useStandardizedQueries": true,
"advancedQueryCapabilities": {
"useStandardizedQueries": true,
"supportsStatistics": false,
"supportsOrderBy": false,
"supportsDistinct": false,
"supportsPagination": false
},
"spatialReference": {
"wkid": 26917,
"latestWkid": 26917
}
}