{ "currentVersion": 10.91, "serviceDescription": "
Historical map showing the canal at lot no. 26, public works boundary, back ditch, measurements.<\/SPAN><\/P> Map date: 1882<\/SPAN><\/P> Signed: Certified Geo. Gibson, P.L. Surveyor, Feby. 15th, 1882.<\/SPAN><\/P> Title supplied by Public Archves of Canada.<\/SPAN><\/P> Digital reproduction of map (8 1/2 x 20 1/4 in.) in the Public Archives of Canada. National Map Collection. Library & Archives Canada.<\/SPAN><\/P> Georeferenced and modified from LAC e011168602 by Map, Data and GIS Library, Brock University. <\/SPAN><\/P><\/DIV><\/DIV><\/DIV>",
"name": "EarlyNiagara/WellandCanal1882Lot26Con3",
"description": " Historical map showing the canal at lot no. 26, public works boundary, back ditch, measurements.<\/SPAN><\/P> Map date: 1882<\/SPAN><\/P> Signed: Certified Geo. Gibson, P.L. Surveyor, Feby. 15th, 1882.<\/SPAN><\/P> Title supplied by Public Archves of Canada.<\/SPAN><\/P> Digital reproduction of map (8 1/2 x 20 1/4 in.) in the Public Archives of Canada. National Map Collection. Library & Archives Canada.<\/SPAN><\/P> Georeferenced and modified from LAC e011168602 by Map, Data and GIS Library, Brock University. <\/SPAN><\/P><\/DIV><\/DIV><\/DIV>",
"extent": {
"xmin": 643103.6286828952,
"ymin": 4752243.415407429,
"xmax": 643913.8154348952,
"ymax": 4753930.999663429,
"spatialReference": {
"wkid": 26917,
"latestWkid": 26917
}
},
"initialExtent": {
"xmin": 643103.6286828952,
"ymin": 4752243.415407429,
"xmax": 643913.8154348952,
"ymax": 4753930.999663429,
"spatialReference": {
"wkid": 26917,
"latestWkid": 26917
}
},
"fullExtent": {
"xmin": 643103.6286828952,
"ymin": 4752243.415407429,
"xmax": 643913.8154348952,
"ymax": 4753930.999663429,
"spatialReference": {
"wkid": 26917,
"latestWkid": 26917
}
},
"hasMultidimensions": false,
"pixelSizeX": 0.4572160000000049,
"pixelSizeY": 0.457215999999969,
"datasetFormat": "TIFF",
"uncompressedSize": 39242712,
"blockWidth": 128,
"blockHeight": 128,
"compressionType": "None",
"bandNames": [
"Band_1",
"Band_2",
"Band_3"
],
"allowCopy": true,
"allowAnalysis": true,
"bandCount": 3,
"noDataValue": 256,
"noDataValues": [
256,
256,
256
],
"pixelType": "U16",
"minPixelSize": 0,
"maxPixelSize": 0,
"copyrightText": "Signed: Certified Geo. Gibson\nMap, Data & GIS Library, Brock University.",
"serviceDataType": "esriImageServiceDataTypeGeneric",
"serviceSourceType": "esriImageServiceSourceTypeDataset",
"minValues": [],
"maxValues": [],
"meanValues": [],
"stdvValues": [],
"objectIdField": "",
"fields": [],
"capabilities": "Image,Metadata,Mensuration",
"defaultMosaicMethod": "Center",
"allowedMosaicMethods": "",
"sortField": "",
"sortValue": null,
"sortAscending": true,
"mosaicOperator": "First",
"defaultCompressionQuality": 75,
"defaultResamplingMethod": "Bilinear",
"maxImageHeight": 4100,
"maxImageWidth": 15000,
"allowRasterFunction": true,
"rasterFunctionInfos": [
{
"name": "None",
"description": "",
"help": ""
}
],
"rasterTypeInfos": [
{
"name": "Raster Dataset",
"description": "Supports all ArcGIS Raster Datasets",
"help": ""
}
],
"mensurationCapabilities": "Basic",
"hasHistograms": false,
"hasColormap": false,
"hasRasterAttributeTable": false,
"minScale": 0,
"maxScale": 0,
"exportTilesAllowed": false,
"supportsStatistics": false,
"supportsAdvancedQueries": false,
"editFieldsInfo": null,
"ownershipBasedAccessControlForRasters": null,
"allowComputeTiePoints": false,
"useStandardizedQueries": true,
"advancedQueryCapabilities": {
"useStandardizedQueries": true,
"supportsStatistics": false,
"supportsOrderBy": false,
"supportsDistinct": false,
"supportsPagination": false
},
"spatialReference": {
"wkid": 26917,
"latestWkid": 26917
}
}