{
 "currentVersion": 10.91,
 "serviceDescription": "<DIV STYLE=\"text-align:Left;\"><DIV><DIV><P><SPAN>Historical map showing the canal, Carleton and Geneva Streets, raceway, back ditch, proposed enbankment, lot numbers.<\/SPAN><\/P><P><SPAN>Scale: 1 inch to 5 chains<\/SPAN><\/P><P><SPAN>Map date: 1883<\/SPAN><\/P><P><SPAN>Title supplied by Public Archives of Canada.<\/SPAN><\/P><P><SPAN>Digital reproduction of map (10 x 18 1/2 in.) in the Public Archives of Canada. National Map Collection. Library & Archives Canada.<\/SPAN><\/P><P><SPAN>Georeferenced and modified from LAC e011168603 by Map, Data and GIS Library, Brock University. <\/SPAN><\/P><P><SPAN /><\/P><\/DIV><\/DIV><\/DIV>",
 "name": "EarlyNiagara/WellandCanal1883Lot16Con4",
 "description": "<DIV STYLE=\"text-align:Left;\"><DIV><DIV><P><SPAN>Historical map showing the canal, Carleton and Geneva Streets, raceway, back ditch, proposed enbankment, lot numbers.<\/SPAN><\/P><P><SPAN>Scale: 1 inch to 5 chains<\/SPAN><\/P><P><SPAN>Map date: 1883<\/SPAN><\/P><P><SPAN>Title supplied by Public Archives of Canada.<\/SPAN><\/P><P><SPAN>Digital reproduction of map (10 x 18 1/2 in.) in the Public Archives of Canada. National Map Collection. Library & Archives Canada.<\/SPAN><\/P><P><SPAN>Georeferenced and modified from LAC e011168603 by Map, Data and GIS Library, Brock University. <\/SPAN><\/P><P><SPAN /><\/P><\/DIV><\/DIV><\/DIV>",
 "extent": {
  "xmin": 642663.9468443036,
  "ymin": 4780997.1433117185,
  "xmax": 643836.4022963037,
  "ymax": 4782971.059857719,
  "spatialReference": {
   "wkid": 26917,
   "latestWkid": 26917
  }
 },
 "initialExtent": {
  "xmin": 642663.9468443036,
  "ymin": 4780997.1433117185,
  "xmax": 643836.4022963037,
  "ymax": 4782971.059857719,
  "spatialReference": {
   "wkid": 26917,
   "latestWkid": 26917
  }
 },
 "fullExtent": {
  "xmin": 642663.9468443036,
  "ymin": 4780997.1433117185,
  "xmax": 643836.4022963037,
  "ymax": 4782971.059857719,
  "spatialReference": {
   "wkid": 26917,
   "latestWkid": 26917
  }
 },
 "hasMultidimensions": false,
 "pixelSizeX": 0.47200300000000955,
 "pixelSizeY": 0.4720030000000401,
 "datasetFormat": "TIFF",
 "uncompressedSize": 62328528,
 "blockWidth": 128,
 "blockHeight": 128,
 "compressionType": "None",
 "bandNames": [
  "Band_1",
  "Band_2",
  "Band_3"
 ],
 "allowCopy": true,
 "allowAnalysis": true,
 "bandCount": 3,
 "noDataValue": 256,
 "noDataValues": [
  256,
  256,
  256
 ],
 "pixelType": "U16",
 "minPixelSize": 0,
 "maxPixelSize": 0,
 "copyrightText": "Signed: Certified Correct. Geo. Gibson, P.L. Surveyor\nMap, Data & GIS Library, Brock University.",
 "serviceDataType": "esriImageServiceDataTypeGeneric",
 "serviceSourceType": "esriImageServiceSourceTypeDataset",
 "minValues": [],
 "maxValues": [],
 "meanValues": [],
 "stdvValues": [],
 "objectIdField": "",
 "fields": [],
 "capabilities": "Image,Metadata,Mensuration",
 "defaultMosaicMethod": "Center",
 "allowedMosaicMethods": "",
 "sortField": "",
 "sortValue": null,
 "sortAscending": true,
 "mosaicOperator": "First",
 "defaultCompressionQuality": 75,
 "defaultResamplingMethod": "Bilinear",
 "maxImageHeight": 4100,
 "maxImageWidth": 15000,
 "allowRasterFunction": true,
 "rasterFunctionInfos": [
  {
   "name": "None",
   "description": "",
   "help": ""
  }
 ],
 "rasterTypeInfos": [
  {
   "name": "Raster Dataset",
   "description": "Supports all ArcGIS Raster Datasets",
   "help": ""
  }
 ],
 "mensurationCapabilities": "Basic",
 "hasHistograms": false,
 "hasColormap": false,
 "hasRasterAttributeTable": false,
 "minScale": 0,
 "maxScale": 0,
 "exportTilesAllowed": false,
 "supportsStatistics": false,
 "supportsAdvancedQueries": false,
 "editFieldsInfo": null,
 "ownershipBasedAccessControlForRasters": null,
 "allowComputeTiePoints": false,
 "useStandardizedQueries": true,
 "advancedQueryCapabilities": {
  "useStandardizedQueries": true,
  "supportsStatistics": false,
  "supportsOrderBy": false,
  "supportsDistinct": false,
  "supportsPagination": false
 },
 "spatialReference": {
  "wkid": 26917,
  "latestWkid": 26917
 }
}
