{ "currentVersion": 10.91, "serviceDescription": "
Historical map of the Second Welland Canal showing the east and west piers of the Port Dalhousie Harbour, the shoreline and the coal shoot.<\/SPAN><\/P> Scale: 1:2,400<\/SPAN><\/P> Map date: 1892<\/SPAN><\/P> Digital reproduction of map in the Public Archives of Canada. National Map Collection. Library & Archives Canada.<\/SPAN><\/P> Georeferenced and modified from LAC e011168604 by Map, Data and GIS Library, Brock University. <\/SPAN><\/P> <\/P><\/DIV><\/DIV><\/DIV>",
"name": "EarlyNiagara/WellandCanal1892PortDalhousieharbour",
"description": " Historical map of the Second Welland Canal showing the east and west piers of the Port Dalhousie Harbour, the shoreline and the coal shoot.<\/SPAN><\/P> Scale: 1:2,400<\/SPAN><\/P> Map date: 1892<\/SPAN><\/P> Digital reproduction of map in the Public Archives of Canada. National Map Collection. Library & Archives Canada.<\/SPAN><\/P> Georeferenced and modified from LAC e011168604 by Map, Data and GIS Library, Brock University. <\/SPAN><\/P> <\/P><\/DIV><\/DIV><\/DIV>",
"extent": {
"xmin": 640842.3760735819,
"ymin": 4784787.36106042,
"xmax": 641375.2773615819,
"ymax": 4785651.21654542,
"spatialReference": {
"wkid": 26917,
"latestWkid": 26917
}
},
"initialExtent": {
"xmin": 640842.3760735819,
"ymin": 4784787.36106042,
"xmax": 641375.2773615819,
"ymax": 4785651.21654542,
"spatialReference": {
"wkid": 26917,
"latestWkid": 26917
}
},
"fullExtent": {
"xmin": 640842.3760735819,
"ymin": 4784787.36106042,
"xmax": 641375.2773615819,
"ymax": 4785651.21654542,
"spatialReference": {
"wkid": 26917,
"latestWkid": 26917
}
},
"hasMultidimensions": false,
"pixelSizeX": 0.1757590000000171,
"pixelSizeY": 0.17575899999994227,
"datasetFormat": "TIFF",
"uncompressedSize": 89413680,
"blockWidth": 128,
"blockHeight": 128,
"compressionType": "None",
"bandNames": [
"Band_1",
"Band_2",
"Band_3"
],
"allowCopy": true,
"allowAnalysis": true,
"bandCount": 3,
"noDataValue": 256,
"noDataValues": [
256,
256,
256
],
"pixelType": "U16",
"minPixelSize": 0,
"maxPixelSize": 0,
"copyrightText": "Signed: E. Gardiner\nMap, Data & GIS Library, Brock University.",
"serviceDataType": "esriImageServiceDataTypeGeneric",
"serviceSourceType": "esriImageServiceSourceTypeDataset",
"minValues": [],
"maxValues": [],
"meanValues": [],
"stdvValues": [],
"objectIdField": "",
"fields": [],
"capabilities": "Image,Metadata,Mensuration",
"defaultMosaicMethod": "Center",
"allowedMosaicMethods": "",
"sortField": "",
"sortValue": null,
"sortAscending": true,
"mosaicOperator": "First",
"defaultCompressionQuality": 75,
"defaultResamplingMethod": "Bilinear",
"maxImageHeight": 4100,
"maxImageWidth": 15000,
"allowRasterFunction": true,
"rasterFunctionInfos": [
{
"name": "None",
"description": "",
"help": ""
}
],
"rasterTypeInfos": [
{
"name": "Raster Dataset",
"description": "Supports all ArcGIS Raster Datasets",
"help": ""
}
],
"mensurationCapabilities": "Basic",
"hasHistograms": false,
"hasColormap": false,
"hasRasterAttributeTable": false,
"minScale": 0,
"maxScale": 0,
"exportTilesAllowed": false,
"supportsStatistics": false,
"supportsAdvancedQueries": false,
"editFieldsInfo": null,
"ownershipBasedAccessControlForRasters": null,
"allowComputeTiePoints": false,
"useStandardizedQueries": true,
"advancedQueryCapabilities": {
"useStandardizedQueries": true,
"supportsStatistics": false,
"supportsOrderBy": false,
"supportsDistinct": false,
"supportsPagination": false
},
"spatialReference": {
"wkid": 26917,
"latestWkid": 26917
}
}