{ "currentVersion": 10.91, "serviceDescription": "
Historical map of the Third Welland Canal showing the locks, bridges, railroads, place names.<\/SPAN><\/P> Blueprint.<\/SPAN><\/P> Map date: [1912?] <\/SPAN><\/P> \"Stamped on reverse: Dept. of Railways & Canals, File No. 9801. Date assigned from related maps with the same File No. and dated 1912\" -- LAC description.<\/SPAN><\/P> Digital reproduction of map in the Public Archives of Canada. National Map Collection. Library & Archives Canada.<\/SPAN><\/P> Georeferenced and modified from LAC e011168606 by Map, Data and GIS Library, Brock University. <\/SPAN><\/P> <\/P><\/DIV><\/DIV><\/DIV>",
"name": "EarlyNiagara/WellandCanal1912PortDalhousieThorold",
"description": " Historical map of the Third Welland Canal showing the locks, bridges, railroads, place names.<\/SPAN><\/P> Blueprint.<\/SPAN><\/P> Map date: [1912?] <\/SPAN><\/P> \"Stamped on reverse: Dept. of Railways & Canals, File No. 9801. Date assigned from related maps with the same File No. and dated 1912\" -- LAC description.<\/SPAN><\/P> Digital reproduction of map in the Public Archives of Canada. National Map Collection. Library & Archives Canada.<\/SPAN><\/P> Georeferenced and modified from LAC e011168606 by Map, Data and GIS Library, Brock University. <\/SPAN><\/P> <\/P><\/DIV><\/DIV><\/DIV>",
"extent": {
"xmin": 637677.3330998938,
"ymin": 4770115.326551548,
"xmax": 649328.4225198937,
"ymax": 4788107.8296515485,
"spatialReference": {
"wkid": 26917,
"latestWkid": 26917
}
},
"initialExtent": {
"xmin": 637677.3330998938,
"ymin": 4770115.326551548,
"xmax": 649328.4225198937,
"ymax": 4788107.8296515485,
"spatialReference": {
"wkid": 26917,
"latestWkid": 26917
}
},
"fullExtent": {
"xmin": 637677.3330998938,
"ymin": 4770115.326551548,
"xmax": 649328.4225198937,
"ymax": 4788107.8296515485,
"spatialReference": {
"wkid": 26917,
"latestWkid": 26917
}
},
"hasMultidimensions": false,
"pixelSizeX": 2.5164339999999945,
"pixelSizeY": 2.516434000000045,
"datasetFormat": "TIFF",
"uncompressedSize": 198627000,
"blockWidth": 128,
"blockHeight": 128,
"compressionType": "None",
"bandNames": [
"Band_1",
"Band_2",
"Band_3"
],
"allowCopy": true,
"allowAnalysis": true,
"bandCount": 3,
"noDataValue": 256,
"noDataValues": [
256,
256,
256
],
"pixelType": "U16",
"minPixelSize": 0,
"maxPixelSize": 0,
"copyrightText": "Publisher: Canada. Dept. of Railways and Canals.\nMap, Data & GIS Library, Brock University.",
"serviceDataType": "esriImageServiceDataTypeGeneric",
"serviceSourceType": "esriImageServiceSourceTypeDataset",
"minValues": [],
"maxValues": [],
"meanValues": [],
"stdvValues": [],
"objectIdField": "",
"fields": [],
"capabilities": "Image,Metadata,Mensuration",
"defaultMosaicMethod": "Center",
"allowedMosaicMethods": "",
"sortField": "",
"sortValue": null,
"sortAscending": true,
"mosaicOperator": "First",
"defaultCompressionQuality": 75,
"defaultResamplingMethod": "Bilinear",
"maxImageHeight": 4100,
"maxImageWidth": 15000,
"allowRasterFunction": true,
"rasterFunctionInfos": [
{
"name": "None",
"description": "",
"help": ""
}
],
"rasterTypeInfos": [
{
"name": "Raster Dataset",
"description": "Supports all ArcGIS Raster Datasets",
"help": ""
}
],
"mensurationCapabilities": "Basic",
"hasHistograms": false,
"hasColormap": false,
"hasRasterAttributeTable": false,
"minScale": 0,
"maxScale": 0,
"exportTilesAllowed": false,
"supportsStatistics": false,
"supportsAdvancedQueries": false,
"editFieldsInfo": null,
"ownershipBasedAccessControlForRasters": null,
"allowComputeTiePoints": false,
"useStandardizedQueries": true,
"advancedQueryCapabilities": {
"useStandardizedQueries": true,
"supportsStatistics": false,
"supportsOrderBy": false,
"supportsDistinct": false,
"supportsPagination": false
},
"spatialReference": {
"wkid": 26917,
"latestWkid": 26917
}
}