{ "currentVersion": 10.91, "serviceDescription": "
Historical map showing the Second and Third Welland Canal with their locks, sections, tunnel and bridge. Includes lot and concession numbers, township boundaries, railways, major roads.<\/SPAN><\/P> Scale [ca. 1:30,480]<\/SPAN><\/P> Map date: 1916.<\/SPAN><\/P> Digital reproduction of map (70 x 264 cm.) in the Brock University Map, Data & GIS Library collection. <\/SPAN><\/P> Georeferenced and modified from Brock call# G 3462 W45 1916 B75 by Map, Data and GIS Library, Brock University. <\/SPAN><\/P> <\/P><\/DIV><\/DIV><\/DIV>",
"name": "EarlyNiagara/WellandCanal1916North",
"description": " Historical map showing the Second and Third Welland Canal with their locks, sections, tunnel and bridge. Includes lot and concession numbers, township boundaries, railways, major roads.<\/SPAN><\/P> Scale [ca. 1:30,480]<\/SPAN><\/P> Map date: 1916.<\/SPAN><\/P> Digital reproduction of map (70 x 264 cm.) in the Brock University Map, Data & GIS Library collection. <\/SPAN><\/P> Georeferenced and modified from Brock call# G 3462 W45 1916 B75 by Map, Data and GIS Library, Brock University. <\/SPAN><\/P> <\/P><\/DIV><\/DIV><\/DIV>",
"extent": {
"xmin": 638367.0508606163,
"ymin": 4770310.63647474,
"xmax": 649561.8900746163,
"ymax": 4786570.45667474,
"spatialReference": {
"wkid": 26917,
"latestWkid": 26917
}
},
"initialExtent": {
"xmin": 638367.0508606163,
"ymin": 4770310.63647474,
"xmax": 649561.8900746163,
"ymax": 4786570.45667474,
"spatialReference": {
"wkid": 26917,
"latestWkid": 26917
}
},
"fullExtent": {
"xmin": 638367.0508606163,
"ymin": 4770310.63647474,
"xmax": 649561.8900746163,
"ymax": 4786570.45667474,
"spatialReference": {
"wkid": 26917,
"latestWkid": 26917
}
},
"hasMultidimensions": false,
"pixelSizeX": 0.939874000000003,
"pixelSizeY": 0.9398739999999975,
"datasetFormat": "TIFF",
"uncompressedSize": 1236361800,
"blockWidth": 128,
"blockHeight": 128,
"compressionType": "None",
"bandNames": [
"Band_1",
"Band_2",
"Band_3"
],
"allowCopy": true,
"allowAnalysis": true,
"bandCount": 3,
"noDataValue": 256,
"noDataValues": [
256,
256,
256
],
"pixelType": "U16",
"minPixelSize": 0,
"maxPixelSize": 0,
"copyrightText": "Made by J.B. Brittain.\nDepartment of Railways and Canals.\nMap, Data & GIS Library, Brock University.",
"serviceDataType": "esriImageServiceDataTypeGeneric",
"serviceSourceType": "esriImageServiceSourceTypeDataset",
"minValues": [
0,
0,
0
],
"maxValues": [
255,
255,
255
],
"meanValues": [
223.73249820289,
203.52383900448,
158.78144085302
],
"stdvValues": [
48.057128735121,
43.136346750432,
31.459038396106
],
"objectIdField": "",
"fields": [],
"capabilities": "Image,Metadata,Mensuration",
"defaultMosaicMethod": "Center",
"allowedMosaicMethods": "",
"sortField": "",
"sortValue": null,
"sortAscending": true,
"mosaicOperator": "First",
"defaultCompressionQuality": 75,
"defaultResamplingMethod": "Bilinear",
"maxImageHeight": 4100,
"maxImageWidth": 15000,
"allowRasterFunction": true,
"rasterFunctionInfos": [
{
"name": "None",
"description": "",
"help": ""
}
],
"rasterTypeInfos": [
{
"name": "Raster Dataset",
"description": "Supports all ArcGIS Raster Datasets",
"help": ""
}
],
"mensurationCapabilities": "Basic",
"hasHistograms": true,
"hasColormap": false,
"hasRasterAttributeTable": false,
"minScale": 0,
"maxScale": 0,
"exportTilesAllowed": false,
"supportsStatistics": false,
"supportsAdvancedQueries": false,
"editFieldsInfo": null,
"ownershipBasedAccessControlForRasters": null,
"allowComputeTiePoints": false,
"useStandardizedQueries": true,
"advancedQueryCapabilities": {
"useStandardizedQueries": true,
"supportsStatistics": false,
"supportsOrderBy": false,
"supportsDistinct": false,
"supportsPagination": false
},
"spatialReference": {
"wkid": 26917,
"latestWkid": 26917
}
}