{ "currentVersion": 10.91, "serviceDescription": "
Historical map showing streets, lot numbers, concessions, township boundaries, railways, the locks and the location of factories along the Welland Canal.<\/SPAN><\/P> Scale 1:1,200<\/SPAN><\/P> \"0-108\" in margin.<\/SPAN><\/P> Map date: [1920?] <\/SPAN><\/P> 1920 date derived from 1921 airphotos and other historical maps.<\/SPAN><\/P> Digital reproduction of map in the Public Archives of Canada. National Map Collection. Library & Archives Canada.<\/SPAN><\/P> Georeferenced and modified from LAC e011168618 by Map, Data and GIS Library, Brock University. <\/SPAN><\/P><\/DIV><\/DIV><\/DIV>",
"name": "EarlyNiagara/WellandCanal1920StCatharines",
"description": " Historical map showing streets, lot numbers, concessions, township boundaries, railways, the locks and the location of factories along the Welland Canal.<\/SPAN><\/P> Scale 1:1,200<\/SPAN><\/P> \"0-108\" in margin.<\/SPAN><\/P> Map date: [1920?] <\/SPAN><\/P> 1920 date derived from 1921 airphotos and other historical maps.<\/SPAN><\/P> Digital reproduction of map in the Public Archives of Canada. National Map Collection. Library & Archives Canada.<\/SPAN><\/P> Georeferenced and modified from LAC e011168618 by Map, Data and GIS Library, Brock University. <\/SPAN><\/P><\/DIV><\/DIV><\/DIV>",
"extent": {
"xmin": 639240.2854411921,
"ymin": 4778517.206258328,
"xmax": 643641.7387851921,
"ymax": 4783333.369402328,
"spatialReference": {
"wkid": 26917,
"latestWkid": 26917
}
},
"initialExtent": {
"xmin": 639240.2854411921,
"ymin": 4778517.206258328,
"xmax": 643641.7387851921,
"ymax": 4783333.369402328,
"spatialReference": {
"wkid": 26917,
"latestWkid": 26917
}
},
"fullExtent": {
"xmin": 639240.2854411921,
"ymin": 4778517.206258328,
"xmax": 643641.7387851921,
"ymax": 4783333.369402328,
"spatialReference": {
"wkid": 26917,
"latestWkid": 26917
}
},
"hasMultidimensions": false,
"pixelSizeX": 1.3823660000000118,
"pixelSizeY": 1.382365999999964,
"datasetFormat": "TIFF",
"uncompressedSize": 66558336,
"blockWidth": 128,
"blockHeight": 128,
"compressionType": "None",
"bandNames": [
"Band_1",
"Band_2",
"Band_3"
],
"allowCopy": true,
"allowAnalysis": true,
"bandCount": 3,
"noDataValue": 256,
"noDataValues": [
256,
256,
256
],
"pixelType": "U16",
"minPixelSize": 0,
"maxPixelSize": 0,
"copyrightText": "Map, Data & GIS Library, Brock University.",
"serviceDataType": "esriImageServiceDataTypeGeneric",
"serviceSourceType": "esriImageServiceSourceTypeDataset",
"minValues": [
21,
18,
18
],
"maxValues": [
255,
249,
227
],
"meanValues": [
206.58435050622,
192.0365138943,
168.85567767262
],
"stdvValues": [
14.881866910151,
15.014524273003,
15.656039097647
],
"objectIdField": "",
"fields": [],
"capabilities": "Image,Metadata,Mensuration",
"defaultMosaicMethod": "Center",
"allowedMosaicMethods": "",
"sortField": "",
"sortValue": null,
"sortAscending": true,
"mosaicOperator": "First",
"defaultCompressionQuality": 75,
"defaultResamplingMethod": "Bilinear",
"maxImageHeight": 4100,
"maxImageWidth": 15000,
"allowRasterFunction": true,
"rasterFunctionInfos": [
{
"name": "None",
"description": "",
"help": ""
}
],
"rasterTypeInfos": [
{
"name": "Raster Dataset",
"description": "Supports all ArcGIS Raster Datasets",
"help": ""
}
],
"mensurationCapabilities": "Basic",
"hasHistograms": true,
"hasColormap": false,
"hasRasterAttributeTable": false,
"minScale": 0,
"maxScale": 0,
"exportTilesAllowed": false,
"supportsStatistics": false,
"supportsAdvancedQueries": false,
"editFieldsInfo": null,
"ownershipBasedAccessControlForRasters": null,
"allowComputeTiePoints": false,
"useStandardizedQueries": true,
"advancedQueryCapabilities": {
"useStandardizedQueries": true,
"supportsStatistics": false,
"supportsOrderBy": false,
"supportsDistinct": false,
"supportsPagination": false
},
"spatialReference": {
"wkid": 26917,
"latestWkid": 26917
}
}