{ "currentVersion": 10.91, "serviceDescription": "
Historical map showing the First, Second and Third Welland Canal and route of the \"future\" or fourth canal, county and township boundaries, cities and towns, lot and concession numbers, roads, railways, industries, property landowner's names, churches.<\/span><\/p> Includes a cross-section profile across the top of the map, indicating the elevation changes between Lake Erie and Lake Ontario.<\/span><\/p> Welland Ship Canal, Office of Engineer in charge, St. Catharines, Ont. ; made by H.F. Marten.<\/span><\/p> \"Maps & profiles no.27\"<\/span><\/p> Digital reproduction of map (61 x 280 cm.) <\/span><\/p> Relief shown by contours and hachures<\/span><\/p> Georeferenced and modified by Map, Data and GIS Library, Brock University. <\/span><\/p> <\/p><\/div><\/div><\/div>",
"name": "EarlyNiagara/WellandCanal1925",
"description": " Historical map showing the First, Second and Third Welland Canal and route of the \"future\" or fourth canal, county and township boundaries, cities and towns, lot and concession numbers, roads, railways, industries, property landowner's names, churches.<\/span><\/p> Includes a cross-section profile across the top of the map, indicating the elevation changes between Lake Erie and Lake Ontario.<\/span><\/p> Welland Ship Canal, Office of Engineer in charge, St. Catharines, Ont. ; made by H.F. Marten.<\/span><\/p> \"Maps & profiles no.27\"<\/span><\/p> Digital reproduction of map (61 x 280 cm.) <\/span><\/p> Relief shown by contours and hachures<\/span><\/p> Georeferenced and modified by Map, Data and GIS Library, Brock University. <\/span><\/p> <\/p><\/div><\/div><\/div>",
"extent": {
"xmin": 632986.8254952993,
"ymin": 4739429.543141919,
"xmax": 652665.5474892993,
"ymax": 4796027.950025919,
"spatialReference": {
"wkid": 26917,
"latestWkid": 26917
}
},
"initialExtent": {
"xmin": 632986.8254952993,
"ymin": 4739429.543141919,
"xmax": 652665.5474892993,
"ymax": 4796027.950025919,
"spatialReference": {
"wkid": 26917,
"latestWkid": 26917
}
},
"fullExtent": {
"xmin": 632986.8254952993,
"ymin": 4739429.543141919,
"xmax": 652665.5474892993,
"ymax": 4796027.950025919,
"spatialReference": {
"wkid": 26917,
"latestWkid": 26917
}
},
"hasMultidimensions": false,
"pixelSizeX": 1.9627690000000022,
"pixelSizeY": 1.9627689999999898,
"datasetFormat": "TIFF",
"uncompressedSize": 1734658416,
"blockWidth": 128,
"blockHeight": 128,
"compressionType": "JPEG",
"bandNames": [
"Band_1",
"Band_2",
"Band_3"
],
"allowCopy": true,
"allowAnalysis": true,
"bandCount": 3,
"noDataValue": 256,
"noDataValues": [
256,
256,
256
],
"pixelType": "U16",
"minPixelSize": 0,
"maxPixelSize": 0,
"copyrightText": "Map, Data & GIS Library, Brock University.",
"serviceDataType": "esriImageServiceDataTypeGeneric",
"serviceSourceType": "esriImageServiceSourceTypeDataset",
"minValues": [
0,
0,
0
],
"maxValues": [
298,
298,
298
],
"meanValues": [
202.17208486844,
188.76455349787,
164.84831130515
],
"stdvValues": [
27.694732485796,
27.893930549438,
27.070054756699
],
"objectIdField": "",
"fields": [],
"capabilities": "Mensuration,Image,Metadata",
"defaultMosaicMethod": "Center",
"allowedMosaicMethods": "",
"sortField": "",
"sortValue": null,
"sortAscending": true,
"mosaicOperator": "First",
"defaultCompressionQuality": 75,
"defaultResamplingMethod": "Bilinear",
"maxImageHeight": 4100,
"maxImageWidth": 15000,
"allowRasterFunction": true,
"rasterFunctionInfos": [
{
"name": "None",
"description": "",
"help": ""
}
],
"rasterTypeInfos": [
{
"name": "Raster Dataset",
"description": "Supports all ArcGIS Raster Datasets",
"help": ""
}
],
"mensurationCapabilities": "Basic",
"hasHistograms": true,
"hasColormap": false,
"hasRasterAttributeTable": false,
"minScale": 0,
"maxScale": 0,
"exportTilesAllowed": false,
"supportsStatistics": false,
"supportsAdvancedQueries": false,
"editFieldsInfo": null,
"ownershipBasedAccessControlForRasters": null,
"allowComputeTiePoints": false,
"useStandardizedQueries": true,
"advancedQueryCapabilities": {
"useStandardizedQueries": true,
"supportsStatistics": false,
"supportsOrderBy": false,
"supportsDistinct": false,
"supportsPagination": false
},
"spatialReference": {
"wkid": 26917,
"latestWkid": 26917
}
}