{ "currentVersion": 10.91, "serviceDescription": "
Historical map showing lot and concession numbers, the Second and Third Canal, railroads, builidngs, street names, Louth and Grantham Township boundaries, construction of the Queen Elizabeth Way.<\/SPAN><\/P> A note on the map refers to construction of a bridge on the Queen Elizabeth Way; this highway was begun in 1931 and officially opened in 1939.<\/SPAN><\/P> Relief shown by hachures.<\/SPAN><\/P> Map date: [1935?]<\/SPAN><\/P> Digital reproduction of map in the Public Archives of Canada. National Map Collection. Library & Archives Canada.<\/SPAN><\/P> Georeferenced and modified from LAC e011168617 by Map, Data and GIS Library, Brock University. <\/SPAN><\/P> <\/P><\/DIV><\/DIV><\/DIV>",
"name": "EarlyNiagara/WellandCanal1935PortDalhousie",
"description": " Historical map showing lot and concession numbers, the Second and Third Canal, railroads, builidngs, street names, Louth and Grantham Township boundaries, construction of the Queen Elizabeth Way.<\/SPAN><\/P> A note on the map refers to construction of a bridge on the Queen Elizabeth Way; this highway was begun in 1931 and officially opened in 1939.<\/SPAN><\/P> Relief shown by hachures.<\/SPAN><\/P> Map date: [1935?]<\/SPAN><\/P> Digital reproduction of map in the Public Archives of Canada. National Map Collection. Library & Archives Canada.<\/SPAN><\/P> Georeferenced and modified from LAC e011168617 by Map, Data and GIS Library, Brock University. <\/SPAN><\/P> <\/P><\/DIV><\/DIV><\/DIV>",
"extent": {
"xmin": 638895.2173382499,
"ymin": 4780489.294555076,
"xmax": 641883.3821822499,
"ymax": 4785988.036335076,
"spatialReference": {
"wkid": 26917,
"latestWkid": 26917
}
},
"initialExtent": {
"xmin": 638895.2173382499,
"ymin": 4780489.294555076,
"xmax": 641883.3821822499,
"ymax": 4785988.036335076,
"spatialReference": {
"wkid": 26917,
"latestWkid": 26917
}
},
"fullExtent": {
"xmin": 638895.2173382499,
"ymin": 4780489.294555076,
"xmax": 641883.3821822499,
"ymax": 4785988.036335076,
"spatialReference": {
"wkid": 26917,
"latestWkid": 26917
}
},
"hasMultidimensions": false,
"pixelSizeX": 0.9970520000000045,
"pixelSizeY": 0.9970519999999651,
"datasetFormat": "TIFF",
"uncompressedSize": 99170730,
"blockWidth": 128,
"blockHeight": 128,
"compressionType": "None",
"bandNames": [
"Band_1",
"Band_2",
"Band_3"
],
"allowCopy": true,
"allowAnalysis": true,
"bandCount": 3,
"noDataValue": 256,
"noDataValues": [
256,
256,
256
],
"pixelType": "U16",
"minPixelSize": 0,
"maxPixelSize": 0,
"copyrightText": "Map, Data & GIS Library, Brock University.",
"serviceDataType": "esriImageServiceDataTypeGeneric",
"serviceSourceType": "esriImageServiceSourceTypeDataset",
"minValues": [],
"maxValues": [],
"meanValues": [],
"stdvValues": [],
"objectIdField": "",
"fields": [],
"capabilities": "Image,Metadata,Mensuration",
"defaultMosaicMethod": "Center",
"allowedMosaicMethods": "",
"sortField": "",
"sortValue": null,
"sortAscending": true,
"mosaicOperator": "First",
"defaultCompressionQuality": 75,
"defaultResamplingMethod": "Bilinear",
"maxImageHeight": 4100,
"maxImageWidth": 15000,
"allowRasterFunction": true,
"rasterFunctionInfos": [
{
"name": "None",
"description": "",
"help": ""
}
],
"rasterTypeInfos": [
{
"name": "Raster Dataset",
"description": "Supports all ArcGIS Raster Datasets",
"help": ""
}
],
"mensurationCapabilities": "Basic",
"hasHistograms": false,
"hasColormap": false,
"hasRasterAttributeTable": false,
"minScale": 0,
"maxScale": 0,
"exportTilesAllowed": false,
"supportsStatistics": false,
"supportsAdvancedQueries": false,
"editFieldsInfo": null,
"ownershipBasedAccessControlForRasters": null,
"allowComputeTiePoints": false,
"useStandardizedQueries": true,
"advancedQueryCapabilities": {
"useStandardizedQueries": true,
"supportsStatistics": false,
"supportsOrderBy": false,
"supportsDistinct": false,
"supportsPagination": false
},
"spatialReference": {
"wkid": 26917,
"latestWkid": 26917
}
}