{ "currentVersion": 10.91, "serviceDescription": "
Historical map showing the First and Second Welland Canal routes where the Chippewa River enters the Niagara River, the Chippewa cut, Hog Island, the Old Fort, barracks, line of piles, descriptive notes.<\/SPAN><\/P> \"589\" printed in bottom corner margins.<\/SPAN><\/P> Depths shown by soundings.<\/SPAN><\/P> Scale [ca. 1:1,200]<\/SPAN><\/P> Map date: 1844<\/SPAN><\/P> Digital reproduction of map in the Public Archives of Canada. National Map Collection. Library and Archives Canada.<\/SPAN><\/P> Georeferenced and modified from NMC Map number 3770 by Map, Data and GIS Library, Brock University. <\/SPAN><\/P> <\/P><\/DIV><\/DIV><\/DIV>",
"name": "EarlyNiagara/WellandCanalChippewa1844NMC3770",
"description": " Historical map showing the First and Second Welland Canal routes where the Chippewa River enters the Niagara River, the Chippewa cut, Hog Island, the Old Fort, barracks, line of piles, descriptive notes.<\/SPAN><\/P> \"589\" printed in bottom corner margins.<\/SPAN><\/P> Depths shown by soundings.<\/SPAN><\/P> Scale [ca. 1:1,200]<\/SPAN><\/P> Map date: 1844<\/SPAN><\/P> Digital reproduction of map in the Public Archives of Canada. National Map Collection. Library and Archives Canada.<\/SPAN><\/P> Georeferenced and modified from NMC Map number 3770 by Map, Data and GIS Library, Brock University. <\/SPAN><\/P> <\/P><\/DIV><\/DIV><\/DIV>",
"extent": {
"xmin": 658530.1955187384,
"ymin": 4769235.568620394,
"xmax": 659399.2200457384,
"ymax": 4770071.727099394,
"spatialReference": {
"wkid": 26917,
"latestWkid": 26917
}
},
"initialExtent": {
"xmin": 658530.1955187384,
"ymin": 4769235.568620394,
"xmax": 659399.2200457384,
"ymax": 4770071.727099394,
"spatialReference": {
"wkid": 26917,
"latestWkid": 26917
}
},
"fullExtent": {
"xmin": 658530.1955187384,
"ymin": 4769235.568620394,
"xmax": 659399.2200457384,
"ymax": 4770071.727099394,
"spatialReference": {
"wkid": 26917,
"latestWkid": 26917
}
},
"hasMultidimensions": false,
"pixelSizeX": 0.1283830000000045,
"pixelSizeY": 0.12838300000006783,
"datasetFormat": "TIFF",
"uncompressedSize": 88172994,
"blockWidth": 128,
"blockHeight": 128,
"compressionType": "None",
"bandNames": [
"Band_1"
],
"allowCopy": true,
"allowAnalysis": true,
"bandCount": 1,
"noDataValue": 256,
"noDataValues": [
256
],
"pixelType": "U16",
"minPixelSize": 0,
"maxPixelSize": 0,
"copyrightText": "Descriptive notes signed by S. Power.\nMap, Data & GIS Library, Brock University.",
"serviceDataType": "esriImageServiceDataTypeGeneric",
"serviceSourceType": "esriImageServiceSourceTypeDataset",
"minValues": [
16
],
"maxValues": [
255
],
"meanValues": [
190.52108849518
],
"stdvValues": [
38.906424816776
],
"objectIdField": "",
"fields": [],
"capabilities": "Image,Metadata,Mensuration",
"defaultMosaicMethod": "Center",
"allowedMosaicMethods": "",
"sortField": "",
"sortValue": null,
"sortAscending": true,
"mosaicOperator": "First",
"defaultCompressionQuality": 75,
"defaultResamplingMethod": "Bilinear",
"maxImageHeight": 4100,
"maxImageWidth": 15000,
"allowRasterFunction": true,
"rasterFunctionInfos": [
{
"name": "None",
"description": "",
"help": ""
}
],
"rasterTypeInfos": [
{
"name": "Raster Dataset",
"description": "Supports all ArcGIS Raster Datasets",
"help": ""
}
],
"mensurationCapabilities": "Basic",
"hasHistograms": true,
"hasColormap": false,
"hasRasterAttributeTable": false,
"minScale": 0,
"maxScale": 0,
"exportTilesAllowed": false,
"supportsStatistics": false,
"supportsAdvancedQueries": false,
"editFieldsInfo": null,
"ownershipBasedAccessControlForRasters": null,
"allowComputeTiePoints": false,
"useStandardizedQueries": true,
"advancedQueryCapabilities": {
"useStandardizedQueries": true,
"supportsStatistics": false,
"supportsOrderBy": false,
"supportsDistinct": false,
"supportsPagination": false
},
"spatialReference": {
"wkid": 26917,
"latestWkid": 26917
}
}