{ "currentVersion": 10.91, "serviceDescription": "
Historical map showing a section of the Second Welland Canal and a proposed diversion of a raceway, major streets of Thorold, some mills and buildings.Digitized from MapHst G 3462 w45 1842 P43<\/span><\/p><\/div><\/div>",
"name": "EarlyNiagara/WellandCanalThorold1842",
"description": " Historical map showing a section of the Second Welland Canal and a proposed diversion of a raceway, major streets of Thorold, some mills and buildings.Digitized from MapHst G 3462 w45 1842 P43<\/span><\/p><\/div><\/div>",
"extent": {
"xmin": 646185.8554450135,
"ymin": 4775981.490241139,
"xmax": 646427.1708000669,
"ymax": 4776326.816343975,
"spatialReference": {
"wkid": 26917,
"latestWkid": 26917
}
},
"initialExtent": {
"xmin": 646185.8554450135,
"ymin": 4775981.490241139,
"xmax": 646427.1708000669,
"ymax": 4776326.816343975,
"spatialReference": {
"wkid": 26917,
"latestWkid": 26917
}
},
"fullExtent": {
"xmin": 646185.8554450135,
"ymin": 4775981.490241139,
"xmax": 646427.1708000669,
"ymax": 4776326.816343975,
"spatialReference": {
"wkid": 26917,
"latestWkid": 26917
}
},
"hasMultidimensions": false,
"pixelSizeX": 0.031556866098261326,
"pixelSizeY": 0.07784628107215004,
"datasetFormat": "TIFF",
"uncompressedSize": 33922092,
"blockWidth": 7647,
"blockHeight": 34,
"compressionType": "LZW",
"bandNames": [
"Band_1"
],
"allowCopy": true,
"allowAnalysis": true,
"bandCount": 1,
"pixelType": "U8",
"minPixelSize": 0,
"maxPixelSize": 0,
"copyrightText": "Public Archives of Canada,1842?Brock University Map, Data & GIS Library, 2024",
"serviceDataType": "esriImageServiceDataTypeGeneric",
"serviceSourceType": "esriImageServiceSourceTypeDataset",
"minValues": [
0
],
"maxValues": [
255
],
"meanValues": [
188.58192050771
],
"stdvValues": [
41.405273093671
],
"objectIdField": "",
"fields": [],
"capabilities": "Mensuration,Image,Metadata",
"defaultMosaicMethod": "Center",
"allowedMosaicMethods": "",
"sortField": "",
"sortValue": null,
"sortAscending": true,
"mosaicOperator": "First",
"defaultCompressionQuality": 75,
"defaultResamplingMethod": "Bilinear",
"maxImageHeight": 4100,
"maxImageWidth": 15000,
"allowRasterFunction": true,
"rasterFunctionInfos": [
{
"name": "None",
"description": "",
"help": ""
}
],
"rasterTypeInfos": [
{
"name": "Raster Dataset",
"description": "Supports all ArcGIS Raster Datasets",
"help": ""
}
],
"mensurationCapabilities": "Basic",
"hasHistograms": true,
"hasColormap": false,
"hasRasterAttributeTable": false,
"minScale": 0,
"maxScale": 0,
"exportTilesAllowed": false,
"supportsStatistics": false,
"supportsAdvancedQueries": false,
"editFieldsInfo": null,
"ownershipBasedAccessControlForRasters": null,
"allowComputeTiePoints": false,
"useStandardizedQueries": true,
"advancedQueryCapabilities": {
"useStandardizedQueries": true,
"supportsStatistics": false,
"supportsOrderBy": false,
"supportsDistinct": false,
"supportsPagination": false
},
"spatialReference": {
"wkid": 26917,
"latestWkid": 26917
}
}