{ "currentVersion": 10.91, "serviceDescription": "
Map date: 1928<\/SPAN><\/P> Scale [1:253,440]. 4 mi. = 1 in.<\/SPAN><\/P> Digital reproduction of map (25 x 25 cm.) <\/SPAN><\/P> Georeferenced and modified from Brock call # G 3463 W4 P2 1928 O58, by Map, Data and GIS Library, Brock University. <\/SPAN><\/P> <\/P><\/DIV><\/DIV><\/DIV>",
"name": "EarlyNiagara/WellandCounty1928",
"description": " Map date: 1928<\/SPAN><\/P> Scale [1:253,440]. 4 mi. = 1 in.<\/SPAN><\/P> Digital reproduction of map (25 x 25 cm.) <\/SPAN><\/P> Georeferenced and modified from Brock call # G 3463 W4 P2 1928 O58, by Map, Data and GIS Library, Brock University. <\/SPAN><\/P> <\/P><\/DIV><\/DIV><\/DIV>",
"extent": {
"xmin": -8869320.022374485,
"ymin": 5246685.320643156,
"xmax": -8769780.396657486,
"ymax": 5344993.145601156,
"spatialReference": {
"wkid": 102100,
"latestWkid": 3857
}
},
"initialExtent": {
"xmin": -8869320.022374485,
"ymin": 5246685.320643156,
"xmax": -8769780.396657486,
"ymax": 5344993.145601156,
"spatialReference": {
"wkid": 102100,
"latestWkid": 3857
}
},
"fullExtent": {
"xmin": -8869320.022374485,
"ymin": 5246685.320643156,
"xmax": -8769780.396657486,
"ymax": 5344993.145601156,
"spatialReference": {
"wkid": 102100,
"latestWkid": 3857
}
},
"hasMultidimensions": false,
"pixelSizeX": 16.87398299999986,
"pixelSizeY": 16.873983000000056,
"datasetFormat": "TIFF",
"uncompressedSize": 206205444,
"blockWidth": 128,
"blockHeight": 128,
"compressionType": "LZW",
"bandNames": [
"Band_1",
"Band_2",
"Band_3"
],
"allowCopy": true,
"allowAnalysis": true,
"bandCount": 3,
"noDataValue": 256,
"noDataValues": [
256,
256,
256
],
"pixelType": "U16",
"minPixelSize": 0,
"maxPixelSize": 0,
"copyrightText": "Published by Ontario. Department of Public Highways\nMap, Data & GIS Library, Brock University.",
"serviceDataType": "esriImageServiceDataTypeGeneric",
"serviceSourceType": "esriImageServiceSourceTypeDataset",
"minValues": [
0,
0,
0
],
"maxValues": [
236,
230,
204
],
"meanValues": [
185.98230968478,
178.10946761811,
139.5636922815
],
"stdvValues": [
42.250239782794,
38.741582274868,
30.784947098187
],
"objectIdField": "",
"fields": [],
"capabilities": "Image,Metadata,Mensuration",
"defaultMosaicMethod": "Center",
"allowedMosaicMethods": "",
"sortField": "",
"sortValue": null,
"sortAscending": true,
"mosaicOperator": "First",
"defaultCompressionQuality": 75,
"defaultResamplingMethod": "Bilinear",
"maxImageHeight": 4100,
"maxImageWidth": 15000,
"allowRasterFunction": true,
"rasterFunctionInfos": [
{
"name": "None",
"description": "",
"help": ""
}
],
"rasterTypeInfos": [
{
"name": "Raster Dataset",
"description": "Supports all ArcGIS Raster Datasets",
"help": ""
}
],
"mensurationCapabilities": "Basic",
"hasHistograms": true,
"hasColormap": false,
"hasRasterAttributeTable": false,
"minScale": 0,
"maxScale": 0,
"exportTilesAllowed": false,
"supportsStatistics": false,
"supportsAdvancedQueries": false,
"editFieldsInfo": null,
"ownershipBasedAccessControlForRasters": null,
"allowComputeTiePoints": false,
"useStandardizedQueries": true,
"advancedQueryCapabilities": {
"useStandardizedQueries": true,
"supportsStatistics": false,
"supportsOrderBy": false,
"supportsDistinct": false,
"supportsPagination": false
},
"spatialReference": {
"wkid": 102100,
"latestWkid": 3857
}
}