{
 "currentVersion": 10.91,
 "serviceDescription": "Map date: 1935 Scale [ca. 1:126,720] Digital reproduction of map (31 x 48 cm.) \"Surveyed in 1935.\" 'Soil survey report ; no. 5.' Georeferenced and modified from Brock call # G 3463 W4 J3 1935 O5, by Map, Data and GIS Library, Brock University. ",
 "name": "EarlyNiagara/WellandCounty1935",
 "description": "Map date: 1935 Scale [ca. 1:126,720] Digital reproduction of map (31 x 48 cm.) \"Surveyed in 1935.\" 'Soil survey report ; no. 5.' Georeferenced and modified from Brock call # G 3463 W4 J3 1935 O5, by Map, Data and GIS Library, Brock University. ",
 "extent": {
  "xmin": -8865505.407979928,
  "ymin": 5270173.002186978,
  "xmax": -8779191.075664928,
  "ymax": 5340319.071261978,
  "spatialReference": {
   "wkid": 102100,
   "latestWkid": 3857
  }
 },
 "initialExtent": {
  "xmin": -8865505.407979928,
  "ymin": 5270173.002186978,
  "xmax": -8779191.075664928,
  "ymax": 5340319.071261978,
  "spatialReference": {
   "wkid": 102100,
   "latestWkid": 3857
  }
 },
 "fullExtent": {
  "xmin": -8865505.407979928,
  "ymin": 5270173.002186978,
  "xmax": -8779191.075664928,
  "ymax": 5340319.071261978,
  "spatialReference": {
   "wkid": 102100,
   "latestWkid": 3857
  }
 },
 "hasMultidimensions": false,
 "pixelSizeX": 14.752064999999961,
 "pixelSizeY": 14.752064999999904,
 "datasetFormat": "TIFF",
 "uncompressedSize": 166929030,
 "blockWidth": 128,
 "blockHeight": 128,
 "compressionType": "LZW",
 "bandNames": [
  "Band_1",
  "Band_2",
  "Band_3"
 ],
 "allowCopy": true,
 "allowAnalysis": true,
 "bandCount": 3,
 "noDataValue": 256,
 "noDataValues": [
  256,
  256,
  256
 ],
 "pixelType": "U16",
 "minPixelSize": 0,
 "maxPixelSize": 0,
 "copyrightText": "Published: Canada. Experimental Farms Service.\nMap, Data & GIS Library, Brock University.",
 "serviceDataType": "esriImageServiceDataTypeGeneric",
 "serviceSourceType": "esriImageServiceSourceTypeDataset",
 "minValues": [
  57,
  57,
  57
 ],
 "maxValues": [
  255,
  255,
  255
 ],
 "meanValues": [
  202.77491948555,
  196.76782481619,
  187.41642479633
 ],
 "stdvValues": [
  46.142860944138,
  44.845011017548,
  44.564393018944
 ],
 "objectIdField": "",
 "fields": [],
 "capabilities": "Image,Metadata,Mensuration",
 "defaultMosaicMethod": "Center",
 "allowedMosaicMethods": "",
 "sortField": "",
 "sortValue": null,
 "sortAscending": true,
 "mosaicOperator": "First",
 "defaultCompressionQuality": 75,
 "defaultResamplingMethod": "Bilinear",
 "maxImageHeight": 4100,
 "maxImageWidth": 15000,
 "allowRasterFunction": true,
 "rasterFunctionInfos": [
  {
   "name": "None",
   "description": "",
   "help": ""
  }
 ],
 "rasterTypeInfos": [
  {
   "name": "Raster Dataset",
   "description": "Supports all ArcGIS Raster Datasets",
   "help": ""
  }
 ],
 "mensurationCapabilities": "Basic",
 "hasHistograms": true,
 "hasColormap": false,
 "hasRasterAttributeTable": false,
 "minScale": 0,
 "maxScale": 0,
 "exportTilesAllowed": false,
 "supportsStatistics": false,
 "supportsAdvancedQueries": false,
 "editFieldsInfo": null,
 "ownershipBasedAccessControlForRasters": null,
 "allowComputeTiePoints": false,
 "useStandardizedQueries": true,
 "advancedQueryCapabilities": {
  "useStandardizedQueries": true,
  "supportsStatistics": false,
  "supportsOrderBy": false,
  "supportsDistinct": false,
  "supportsPagination": false
 },
 "spatialReference": {
  "wkid": 102100,
  "latestWkid": 3857
 }
}
