{
 "currentVersion": 10.91,
 "serviceDescription": "FireInsurancePlans/Merritton_1897_index_map_1",
 "name": "FireInsurancePlans/Merritton_1897_index_map_1",
 "description": "",
 "extent": {
  "xmin": 644641.7325810307,
  "ymin": 4776535.693555068,
  "xmax": 646200.0142427605,
  "ymax": 4778747.168921777,
  "spatialReference": {
   "wkid": 26917,
   "latestWkid": 26917
  }
 },
 "initialExtent": {
  "xmin": 644641.7325810307,
  "ymin": 4776535.693555068,
  "xmax": 646200.0142427605,
  "ymax": 4778747.168921777,
  "spatialReference": {
   "wkid": 26917,
   "latestWkid": 26917
  }
 },
 "fullExtent": {
  "xmin": 644641.7325810307,
  "ymin": 4776535.693555068,
  "xmax": 646200.0142427605,
  "ymax": 4778747.168921777,
  "spatialReference": {
   "wkid": 26917,
   "latestWkid": 26917
  }
 },
 "hasMultidimensions": false,
 "pixelSizeX": 0.5884749477831548,
 "pixelSizeY": 0.5735153959307112,
 "datasetFormat": "TIFF",
 "uncompressedSize": 30632064,
 "blockWidth": 2648,
 "blockHeight": 32,
 "compressionType": "LZW",
 "bandNames": [
  "Band_1",
  "Band_2",
  "Band_3"
 ],
 "allowCopy": true,
 "allowAnalysis": true,
 "bandCount": 3,
 "pixelType": "U8",
 "minPixelSize": 0,
 "maxPixelSize": 0,
 "copyrightText": "",
 "serviceDataType": "esriImageServiceDataTypeRGB",
 "serviceSourceType": "esriImageServiceSourceTypeDataset",
 "minValues": [
  32,
  28,
  23
 ],
 "maxValues": [
  255,
  255,
  255
 ],
 "meanValues": [
  186.71850329772,
  168.81539774792,
  148.32902298062
 ],
 "stdvValues": [
  36.881069989311,
  33.988446253659,
  31.685851670754
 ],
 "objectIdField": "",
 "fields": [],
 "capabilities": "Mensuration,Image,Metadata",
 "defaultMosaicMethod": "Center",
 "allowedMosaicMethods": "",
 "sortField": "",
 "sortValue": null,
 "sortAscending": true,
 "mosaicOperator": "First",
 "defaultCompressionQuality": 75,
 "defaultResamplingMethod": "Bilinear",
 "maxImageHeight": 4100,
 "maxImageWidth": 15000,
 "allowRasterFunction": true,
 "rasterFunctionInfos": [
  {
   "name": "None",
   "description": "",
   "help": ""
  }
 ],
 "rasterTypeInfos": [
  {
   "name": "Raster Dataset",
   "description": "Supports all ArcGIS Raster Datasets",
   "help": ""
  }
 ],
 "mensurationCapabilities": "Basic",
 "hasHistograms": true,
 "hasColormap": false,
 "hasRasterAttributeTable": false,
 "minScale": 0,
 "maxScale": 0,
 "exportTilesAllowed": false,
 "supportsStatistics": false,
 "supportsAdvancedQueries": false,
 "editFieldsInfo": null,
 "ownershipBasedAccessControlForRasters": null,
 "allowComputeTiePoints": false,
 "useStandardizedQueries": true,
 "advancedQueryCapabilities": {
  "useStandardizedQueries": true,
  "supportsStatistics": false,
  "supportsOrderBy": false,
  "supportsDistinct": false,
  "supportsPagination": false
 },
 "spatialReference": {
  "wkid": 26917,
  "latestWkid": 26917
 }
}
