{
 "currentVersion": 10.91,
 "serviceDescription": "FireInsurancePlans/Merritton_1897_map_1a",
 "name": "FireInsurancePlans/Merritton_1897_map_1a",
 "description": "",
 "extent": {
  "xmin": 645799.455575086,
  "ymin": 4777271.452528161,
  "xmax": 646113.4922584819,
  "ymax": 4777594.889228602,
  "spatialReference": {
   "wkid": 26917,
   "latestWkid": 26917
  }
 },
 "initialExtent": {
  "xmin": 645799.455575086,
  "ymin": 4777271.452528161,
  "xmax": 646113.4922584819,
  "ymax": 4777594.889228602,
  "spatialReference": {
   "wkid": 26917,
   "latestWkid": 26917
  }
 },
 "fullExtent": {
  "xmin": 645799.455575086,
  "ymin": 4777271.452528161,
  "xmax": 646113.4922584819,
  "ymax": 4777594.889228602,
  "spatialReference": {
   "wkid": 26917,
   "latestWkid": 26917
  }
 },
 "hasMultidimensions": false,
 "pixelSizeX": 0.09324129554512192,
 "pixelSizeY": 0.1142078744494856,
 "datasetFormat": "TIFF",
 "uncompressedSize": 28614528,
 "blockWidth": 3368,
 "blockHeight": 25,
 "compressionType": "LZW",
 "bandNames": [
  "Band_1",
  "Band_2",
  "Band_3"
 ],
 "allowCopy": true,
 "allowAnalysis": true,
 "bandCount": 3,
 "pixelType": "U8",
 "minPixelSize": 0,
 "maxPixelSize": 0,
 "copyrightText": "",
 "serviceDataType": "esriImageServiceDataTypeRGB",
 "serviceSourceType": "esriImageServiceSourceTypeDataset",
 "minValues": [
  36,
  29,
  24
 ],
 "maxValues": [
  215,
  200,
  187
 ],
 "meanValues": [
  194.85158483129,
  177.03151902419,
  155.47273084499
 ],
 "stdvValues": [
  28.499084260168,
  25.888063559169,
  23.331006443489
 ],
 "objectIdField": "",
 "fields": [],
 "capabilities": "Mensuration,Image,Metadata",
 "defaultMosaicMethod": "Center",
 "allowedMosaicMethods": "",
 "sortField": "",
 "sortValue": null,
 "sortAscending": true,
 "mosaicOperator": "First",
 "defaultCompressionQuality": 75,
 "defaultResamplingMethod": "Bilinear",
 "maxImageHeight": 4100,
 "maxImageWidth": 15000,
 "allowRasterFunction": true,
 "rasterFunctionInfos": [
  {
   "name": "None",
   "description": "",
   "help": ""
  }
 ],
 "rasterTypeInfos": [
  {
   "name": "Raster Dataset",
   "description": "Supports all ArcGIS Raster Datasets",
   "help": ""
  }
 ],
 "mensurationCapabilities": "Basic",
 "hasHistograms": true,
 "hasColormap": false,
 "hasRasterAttributeTable": false,
 "minScale": 0,
 "maxScale": 0,
 "exportTilesAllowed": false,
 "supportsStatistics": false,
 "supportsAdvancedQueries": false,
 "editFieldsInfo": null,
 "ownershipBasedAccessControlForRasters": null,
 "allowComputeTiePoints": false,
 "useStandardizedQueries": true,
 "advancedQueryCapabilities": {
  "useStandardizedQueries": true,
  "supportsStatistics": false,
  "supportsOrderBy": false,
  "supportsDistinct": false,
  "supportsPagination": false
 },
 "spatialReference": {
  "wkid": 26917,
  "latestWkid": 26917
 }
}
