{
 "currentVersion": 10.91,
 "serviceDescription": "FireInsurancePlans/Merritton_1897_map_1b",
 "name": "FireInsurancePlans/Merritton_1897_map_1b",
 "description": "",
 "extent": {
  "xmin": 645189.5980864905,
  "ymin": 4777070.298222772,
  "xmax": 645791.866419951,
  "ymax": 4777764.684490091,
  "spatialReference": {
   "wkid": 26917,
   "latestWkid": 26917
  }
 },
 "initialExtent": {
  "xmin": 645189.5980864905,
  "ymin": 4777070.298222772,
  "xmax": 645791.866419951,
  "ymax": 4777764.684490091,
  "spatialReference": {
   "wkid": 26917,
   "latestWkid": 26917
  }
 },
 "fullExtent": {
  "xmin": 645189.5980864905,
  "ymin": 4777070.298222772,
  "xmax": 645791.866419951,
  "ymax": 4777764.684490091,
  "spatialReference": {
   "wkid": 26917,
   "latestWkid": 26917
  }
 },
 "hasMultidimensions": false,
 "pixelSizeX": 0.10037805557673952,
 "pixelSizeY": 0.1598495090514092,
 "datasetFormat": "TIFF",
 "uncompressedSize": 78192000,
 "blockWidth": 6000,
 "blockHeight": 14,
 "compressionType": "LZW",
 "bandNames": [
  "Band_1",
  "Band_2",
  "Band_3"
 ],
 "allowCopy": true,
 "allowAnalysis": true,
 "bandCount": 3,
 "pixelType": "U8",
 "minPixelSize": 0,
 "maxPixelSize": 0,
 "copyrightText": "",
 "serviceDataType": "esriImageServiceDataTypeRGB",
 "serviceSourceType": "esriImageServiceSourceTypeDataset",
 "minValues": [
  33,
  31,
  23
 ],
 "maxValues": [
  255,
  255,
  255
 ],
 "meanValues": [
  201.16676956724,
  185.59273357887,
  166.36538915748
 ],
 "stdvValues": [
  29.998116507537,
  31.475939627499,
  35.869154392519
 ],
 "objectIdField": "",
 "fields": [],
 "capabilities": "Mensuration,Image,Metadata",
 "defaultMosaicMethod": "Center",
 "allowedMosaicMethods": "",
 "sortField": "",
 "sortValue": null,
 "sortAscending": true,
 "mosaicOperator": "First",
 "defaultCompressionQuality": 75,
 "defaultResamplingMethod": "Bilinear",
 "maxImageHeight": 4100,
 "maxImageWidth": 15000,
 "allowRasterFunction": true,
 "rasterFunctionInfos": [
  {
   "name": "None",
   "description": "",
   "help": ""
  }
 ],
 "rasterTypeInfos": [
  {
   "name": "Raster Dataset",
   "description": "Supports all ArcGIS Raster Datasets",
   "help": ""
  }
 ],
 "mensurationCapabilities": "Basic",
 "hasHistograms": true,
 "hasColormap": false,
 "hasRasterAttributeTable": false,
 "minScale": 0,
 "maxScale": 0,
 "exportTilesAllowed": false,
 "supportsStatistics": false,
 "supportsAdvancedQueries": false,
 "editFieldsInfo": null,
 "ownershipBasedAccessControlForRasters": null,
 "allowComputeTiePoints": false,
 "useStandardizedQueries": true,
 "advancedQueryCapabilities": {
  "useStandardizedQueries": true,
  "supportsStatistics": false,
  "supportsOrderBy": false,
  "supportsDistinct": false,
  "supportsPagination": false
 },
 "spatialReference": {
  "wkid": 26917,
  "latestWkid": 26917
 }
}
