{
 "currentVersion": 10.91,
 "serviceDescription": "FireInsurancePlans/Merritton_1897_map_2_tif",
 "name": "FireInsurancePlans/Merritton_1897_map_2_tif",
 "description": "",
 "extent": {
  "xmin": 645051.5391086716,
  "ymin": 4777309.469284089,
  "xmax": 645458.7015717173,
  "ymax": 4777772.854876974,
  "spatialReference": {
   "wkid": 26917,
   "latestWkid": 26917
  }
 },
 "initialExtent": {
  "xmin": 645051.5391086716,
  "ymin": 4777309.469284089,
  "xmax": 645458.7015717173,
  "ymax": 4777772.854876974,
  "spatialReference": {
   "wkid": 26917,
   "latestWkid": 26917
  }
 },
 "fullExtent": {
  "xmin": 645051.5391086716,
  "ymin": 4777309.469284089,
  "xmax": 645458.7015717173,
  "ymax": 4777772.854876974,
  "spatialReference": {
   "wkid": 26917,
   "latestWkid": 26917
  }
 },
 "hasMultidimensions": false,
 "pixelSizeX": 0.06786041050761317,
 "pixelSizeY": 0.06480917382998379,
 "datasetFormat": "TIFF",
 "uncompressedSize": 128700000,
 "blockWidth": 6000,
 "blockHeight": 14,
 "compressionType": "LZW",
 "bandNames": [
  "Band_1",
  "Band_2",
  "Band_3"
 ],
 "allowCopy": true,
 "allowAnalysis": true,
 "bandCount": 3,
 "pixelType": "U8",
 "minPixelSize": 0,
 "maxPixelSize": 0,
 "copyrightText": "",
 "serviceDataType": "esriImageServiceDataTypeRGB",
 "serviceSourceType": "esriImageServiceSourceTypeDataset",
 "minValues": [
  35,
  31,
  21
 ],
 "maxValues": [
  255,
  255,
  255
 ],
 "meanValues": [
  199.64796752917,
  182.20303869463,
  161.05832165494
 ],
 "stdvValues": [
  19.413921779781,
  17.59965495372,
  16.491118383946
 ],
 "objectIdField": "",
 "fields": [],
 "capabilities": "Mensuration,Image,Metadata",
 "defaultMosaicMethod": "Center",
 "allowedMosaicMethods": "",
 "sortField": "",
 "sortValue": null,
 "sortAscending": true,
 "mosaicOperator": "First",
 "defaultCompressionQuality": 75,
 "defaultResamplingMethod": "Bilinear",
 "maxImageHeight": 4100,
 "maxImageWidth": 15000,
 "allowRasterFunction": true,
 "rasterFunctionInfos": [
  {
   "name": "None",
   "description": "",
   "help": ""
  }
 ],
 "rasterTypeInfos": [
  {
   "name": "Raster Dataset",
   "description": "Supports all ArcGIS Raster Datasets",
   "help": ""
  }
 ],
 "mensurationCapabilities": "Basic",
 "hasHistograms": true,
 "hasColormap": false,
 "hasRasterAttributeTable": false,
 "minScale": 0,
 "maxScale": 0,
 "exportTilesAllowed": false,
 "supportsStatistics": false,
 "supportsAdvancedQueries": false,
 "editFieldsInfo": null,
 "ownershipBasedAccessControlForRasters": null,
 "allowComputeTiePoints": false,
 "useStandardizedQueries": true,
 "advancedQueryCapabilities": {
  "useStandardizedQueries": true,
  "supportsStatistics": false,
  "supportsOrderBy": false,
  "supportsDistinct": false,
  "supportsPagination": false
 },
 "spatialReference": {
  "wkid": 26917,
  "latestWkid": 26917
 }
}
