{
 "currentVersion": 10.91,
 "serviceDescription": "FireInsurancePlans/Merritton_map_3_1897_geo",
 "name": "FireInsurancePlans/Merritton_map_3_1897_geo",
 "description": "",
 "extent": {
  "xmin": 645125.2240368685,
  "ymin": 4777716.340116272,
  "xmax": 645492.47421578,
  "ymax": 4778113.008661716,
  "spatialReference": {
   "wkid": 26917,
   "latestWkid": 26917
  }
 },
 "initialExtent": {
  "xmin": 645125.2240368685,
  "ymin": 4777716.340116272,
  "xmax": 645492.47421578,
  "ymax": 4778113.008661716,
  "spatialReference": {
   "wkid": 26917,
   "latestWkid": 26917
  }
 },
 "fullExtent": {
  "xmin": 645125.2240368685,
  "ymin": 4777716.340116272,
  "xmax": 645492.47421578,
  "ymax": 4778113.008661716,
  "spatialReference": {
   "wkid": 26917,
   "latestWkid": 26917
  }
 },
 "hasMultidimensions": false,
 "pixelSizeX": 0.06120836315191506,
 "pixelSizeY": 0.05538516412238145,
 "datasetFormat": "TIFF",
 "uncompressedSize": 128916000,
 "blockWidth": 6000,
 "blockHeight": 14,
 "compressionType": "LZW",
 "bandNames": [
  "Band_1",
  "Band_2",
  "Band_3"
 ],
 "allowCopy": true,
 "allowAnalysis": true,
 "bandCount": 3,
 "pixelType": "U8",
 "minPixelSize": 0,
 "maxPixelSize": 0,
 "copyrightText": "",
 "serviceDataType": "esriImageServiceDataTypeRGB",
 "serviceSourceType": "esriImageServiceSourceTypeDataset",
 "minValues": [
  35,
  25,
  21
 ],
 "maxValues": [
  223,
  219,
  208
 ],
 "meanValues": [
  199.98526456766,
  181.24821413944,
  159.88864167356
 ],
 "stdvValues": [
  19.697937024919,
  19.348259045464,
  18.895314359791
 ],
 "objectIdField": "",
 "fields": [],
 "capabilities": "Image,Metadata,Mensuration",
 "defaultMosaicMethod": "Center",
 "allowedMosaicMethods": "",
 "sortField": "",
 "sortValue": null,
 "sortAscending": true,
 "mosaicOperator": "First",
 "defaultCompressionQuality": 75,
 "defaultResamplingMethod": "Bilinear",
 "maxImageHeight": 4100,
 "maxImageWidth": 15000,
 "allowRasterFunction": true,
 "rasterFunctionInfos": [
  {
   "name": "None",
   "description": "",
   "help": ""
  }
 ],
 "rasterTypeInfos": [
  {
   "name": "Raster Dataset",
   "description": "Supports all ArcGIS Raster Datasets",
   "help": ""
  }
 ],
 "mensurationCapabilities": "Basic",
 "hasHistograms": true,
 "hasColormap": false,
 "hasRasterAttributeTable": false,
 "minScale": 0,
 "maxScale": 0,
 "exportTilesAllowed": false,
 "supportsStatistics": false,
 "supportsAdvancedQueries": false,
 "editFieldsInfo": null,
 "ownershipBasedAccessControlForRasters": null,
 "allowComputeTiePoints": false,
 "useStandardizedQueries": true,
 "advancedQueryCapabilities": {
  "useStandardizedQueries": true,
  "supportsStatistics": false,
  "supportsOrderBy": false,
  "supportsDistinct": false,
  "supportsPagination": false
 },
 "spatialReference": {
  "wkid": 26917,
  "latestWkid": 26917
 }
}
