{
 "currentVersion": 10.91,
 "serviceDescription": "FireInsurancePlans/Thorold_1897_map_2",
 "name": "FireInsurancePlans/Thorold_1897_map_2",
 "description": "",
 "extent": {
  "xmin": 646259.8612260969,
  "ymin": 4776007.948880766,
  "xmax": 646655.5556263612,
  "ymax": 4776336.043028757,
  "spatialReference": {
   "wkid": 26917,
   "latestWkid": 26917
  }
 },
 "initialExtent": {
  "xmin": 646259.8612260969,
  "ymin": 4776007.948880766,
  "xmax": 646655.5556263612,
  "ymax": 4776336.043028757,
  "spatialReference": {
   "wkid": 26917,
   "latestWkid": 26917
  }
 },
 "fullExtent": {
  "xmin": 646259.8612260969,
  "ymin": 4776007.948880766,
  "xmax": 646655.5556263612,
  "ymax": 4776336.043028757,
  "spatialReference": {
   "wkid": 26917,
   "latestWkid": 26917
  }
 },
 "hasMultidimensions": false,
 "pixelSizeX": 0.06594906671071658,
 "pixelSizeY": 0.04568920038871871,
 "datasetFormat": "TIFF",
 "uncompressedSize": 129258000,
 "blockWidth": 6000,
 "blockHeight": 14,
 "compressionType": "LZW",
 "bandNames": [
  "Band_1",
  "Band_2",
  "Band_3"
 ],
 "allowCopy": true,
 "allowAnalysis": true,
 "bandCount": 3,
 "pixelType": "U8",
 "minPixelSize": 0,
 "maxPixelSize": 0,
 "copyrightText": "",
 "serviceDataType": "esriImageServiceDataTypeRGB",
 "serviceSourceType": "esriImageServiceSourceTypeDataset",
 "minValues": [
  37,
  26,
  18
 ],
 "maxValues": [
  225,
  220,
  215
 ],
 "meanValues": [
  198.69574388434,
  179.39296866733,
  160.03425850622
 ],
 "stdvValues": [
  22.342623460669,
  22.074925793941,
  19.696920500691
 ],
 "objectIdField": "",
 "fields": [],
 "capabilities": "Image,Metadata,Mensuration",
 "defaultMosaicMethod": "Center",
 "allowedMosaicMethods": "",
 "sortField": "",
 "sortValue": null,
 "sortAscending": true,
 "mosaicOperator": "First",
 "defaultCompressionQuality": 75,
 "defaultResamplingMethod": "Bilinear",
 "maxImageHeight": 4100,
 "maxImageWidth": 15000,
 "allowRasterFunction": true,
 "rasterFunctionInfos": [
  {
   "name": "None",
   "description": "",
   "help": ""
  }
 ],
 "rasterTypeInfos": [
  {
   "name": "Raster Dataset",
   "description": "Supports all ArcGIS Raster Datasets",
   "help": ""
  }
 ],
 "mensurationCapabilities": "Basic",
 "hasHistograms": true,
 "hasColormap": false,
 "hasRasterAttributeTable": false,
 "minScale": 0,
 "maxScale": 0,
 "exportTilesAllowed": false,
 "supportsStatistics": false,
 "supportsAdvancedQueries": false,
 "editFieldsInfo": null,
 "ownershipBasedAccessControlForRasters": null,
 "allowComputeTiePoints": false,
 "useStandardizedQueries": true,
 "advancedQueryCapabilities": {
  "useStandardizedQueries": true,
  "supportsStatistics": false,
  "supportsOrderBy": false,
  "supportsDistinct": false,
  "supportsPagination": false
 },
 "spatialReference": {
  "wkid": 26917,
  "latestWkid": 26917
 }
}
