{
 "currentVersion": 10.91,
 "serviceDescription": "FireInsurancePlans/Thorold_1897_map_3",
 "name": "FireInsurancePlans/Thorold_1897_map_3",
 "description": "",
 "extent": {
  "xmin": 646119.255995183,
  "ymin": 4776281.6581212515,
  "xmax": 646538.5772955524,
  "ymax": 4776636.563158588,
  "spatialReference": {
   "wkid": 26917,
   "latestWkid": 26917
  }
 },
 "initialExtent": {
  "xmin": 646119.255995183,
  "ymin": 4776281.6581212515,
  "xmax": 646538.5772955524,
  "ymax": 4776636.563158588,
  "spatialReference": {
   "wkid": 26917,
   "latestWkid": 26917
  }
 },
 "fullExtent": {
  "xmin": 646119.255995183,
  "ymin": 4776281.6581212515,
  "xmax": 646538.5772955524,
  "ymax": 4776636.563158588,
  "spatialReference": {
   "wkid": 26917,
   "latestWkid": 26917
  }
 },
 "hasMultidimensions": false,
 "pixelSizeX": 0.06994517103742087,
 "pixelSizeY": 0.04931976616676646,
 "datasetFormat": "TIFF",
 "uncompressedSize": 129420060,
 "blockWidth": 5995,
 "blockHeight": 14,
 "compressionType": "LZW",
 "bandNames": [
  "Band_1",
  "Band_2",
  "Band_3"
 ],
 "allowCopy": true,
 "allowAnalysis": true,
 "bandCount": 3,
 "pixelType": "U8",
 "minPixelSize": 0,
 "maxPixelSize": 0,
 "copyrightText": "",
 "serviceDataType": "esriImageServiceDataTypeRGB",
 "serviceSourceType": "esriImageServiceSourceTypeDataset",
 "minValues": [
  34,
  29,
  20
 ],
 "maxValues": [
  226,
  221,
  214
 ],
 "meanValues": [
  201.82348503777,
  185.95177146416,
  168.07251892789
 ],
 "stdvValues": [
  21.413063008873,
  19.143100291751,
  18.178703758232
 ],
 "objectIdField": "",
 "fields": [],
 "capabilities": "Image,Metadata,Mensuration",
 "defaultMosaicMethod": "Center",
 "allowedMosaicMethods": "",
 "sortField": "",
 "sortValue": null,
 "sortAscending": true,
 "mosaicOperator": "First",
 "defaultCompressionQuality": 75,
 "defaultResamplingMethod": "Bilinear",
 "maxImageHeight": 4100,
 "maxImageWidth": 15000,
 "allowRasterFunction": true,
 "rasterFunctionInfos": [
  {
   "name": "None",
   "description": "",
   "help": ""
  }
 ],
 "rasterTypeInfos": [
  {
   "name": "Raster Dataset",
   "description": "Supports all ArcGIS Raster Datasets",
   "help": ""
  }
 ],
 "mensurationCapabilities": "Basic",
 "hasHistograms": true,
 "hasColormap": false,
 "hasRasterAttributeTable": false,
 "minScale": 0,
 "maxScale": 0,
 "exportTilesAllowed": false,
 "supportsStatistics": false,
 "supportsAdvancedQueries": false,
 "editFieldsInfo": null,
 "ownershipBasedAccessControlForRasters": null,
 "allowComputeTiePoints": false,
 "useStandardizedQueries": true,
 "advancedQueryCapabilities": {
  "useStandardizedQueries": true,
  "supportsStatistics": false,
  "supportsOrderBy": false,
  "supportsDistinct": false,
  "supportsPagination": false
 },
 "spatialReference": {
  "wkid": 26917,
  "latestWkid": 26917
 }
}
