{
 "currentVersion": 10.91,
 "serviceDescription": "FireInsurancePlans/Thorold_map_1a_1897_tif",
 "name": "FireInsurancePlans/Thorold_map_1a_1897_tif",
 "description": "",
 "extent": {
  "xmin": 646205.0481521732,
  "ymin": 4776772.874914492,
  "xmax": 646625.1635539363,
  "ymax": 4777115.962456912,
  "spatialReference": {
   "wkid": 26917,
   "latestWkid": 26917
  }
 },
 "initialExtent": {
  "xmin": 646205.0481521732,
  "ymin": 4776772.874914492,
  "xmax": 646625.1635539363,
  "ymax": 4777115.962456912,
  "spatialReference": {
   "wkid": 26917,
   "latestWkid": 26917
  }
 },
 "fullExtent": {
  "xmin": 646205.0481521732,
  "ymin": 4776772.874914492,
  "xmax": 646625.1635539363,
  "ymax": 4777115.962456912,
  "spatialReference": {
   "wkid": 26917,
   "latestWkid": 26917
  }
 },
 "hasMultidimensions": false,
 "pixelSizeX": 0.07001923362718662,
 "pixelSizeY": 0.04774388288620278,
 "datasetFormat": "TIFF",
 "uncompressedSize": 129348000,
 "blockWidth": 6000,
 "blockHeight": 14,
 "compressionType": "LZW",
 "bandNames": [
  "Band_1",
  "Band_2",
  "Band_3"
 ],
 "allowCopy": true,
 "allowAnalysis": true,
 "bandCount": 3,
 "pixelType": "U8",
 "minPixelSize": 0,
 "maxPixelSize": 0,
 "copyrightText": "",
 "serviceDataType": "esriImageServiceDataTypeRGB",
 "serviceSourceType": "esriImageServiceSourceTypeDataset",
 "minValues": [
  34,
  29,
  23
 ],
 "maxValues": [
  255,
  255,
  255
 ],
 "meanValues": [
  207.60740312182,
  192.07467997961,
  174.09700083492
 ],
 "stdvValues": [
  27.221584600889,
  30.728975403591,
  36.504712726407
 ],
 "objectIdField": "",
 "fields": [],
 "capabilities": "Image,Metadata,Mensuration",
 "defaultMosaicMethod": "Center",
 "allowedMosaicMethods": "",
 "sortField": "",
 "sortValue": null,
 "sortAscending": true,
 "mosaicOperator": "First",
 "defaultCompressionQuality": 75,
 "defaultResamplingMethod": "Bilinear",
 "maxImageHeight": 4100,
 "maxImageWidth": 15000,
 "allowRasterFunction": true,
 "rasterFunctionInfos": [
  {
   "name": "None",
   "description": "",
   "help": ""
  }
 ],
 "rasterTypeInfos": [
  {
   "name": "Raster Dataset",
   "description": "Supports all ArcGIS Raster Datasets",
   "help": ""
  }
 ],
 "mensurationCapabilities": "Basic",
 "hasHistograms": true,
 "hasColormap": false,
 "hasRasterAttributeTable": false,
 "minScale": 0,
 "maxScale": 0,
 "exportTilesAllowed": false,
 "supportsStatistics": false,
 "supportsAdvancedQueries": false,
 "editFieldsInfo": null,
 "ownershipBasedAccessControlForRasters": null,
 "allowComputeTiePoints": false,
 "useStandardizedQueries": true,
 "advancedQueryCapabilities": {
  "useStandardizedQueries": true,
  "supportsStatistics": false,
  "supportsOrderBy": false,
  "supportsDistinct": false,
  "supportsPagination": false
 },
 "spatialReference": {
  "wkid": 26917,
  "latestWkid": 26917
 }
}
